{"text_format":"1","workbook":"xlsx","n_sheets":4,"sheets":["各種設定","休暇希望","出勤表","作業計画"],"not_rendered":{"charts":0,"images":0,"macros":1,"external_links":0,"defined_names":3,"comments":0,"pivot_tables":0},"unopened":[],"bounds":{"document_bytes":16777216,"sheet_cells":100000,"rows_first":2000,"rows_last":500,"rows_between":2000,"halvings":0,"cell_chars":16384,"cell_head_chars":4096},"cells_cut":0,"cells_raw":0,"read":"whole","date_system":"1900"}

{"sheet":"各種設定","index":0,"n_rows":22,"n_cols":16,"rows_kept":22,"cut":false,"hidden":false,"merged":[[0,0,1,1],[0,11,1,13]]}
["祝日リスト",null,null,null,null,null,null,null,null,null,null,"勤務時間計算表"]
[]
["↓日付は必ずA4から貼付すること",null,null,"※ネットで検索して情報を持ってきてください。おススメは以下（内閣府HP）"]
["2025-01-01","元日",null,"　→　https://www8.cao.go.jp/chosei/shukujitsu/gaiyou.html",null,null,null,null,null,null,null,"カテゴリ","出勤時間","退勤時間","休憩時間","労働時間"]
["2025-01-13","成人の日",null,"※更新する時は西暦表示にすること（年に注意！）",null,null,null,null,null,null,null,"A","09:00:00","16:00:00",1,{"$f":"(N5-M5)*24-O5","v":5.9999999999999991}]
["2025-02-11","建国記念の日",null,"※日付は必ず「短い日付表示」で設定してください",null,null,null,null,null,null,null,"B","09:00:00","17:00:00",1,{"$f":"(N6-M6)*24-O6","v":7}]
["2025-02-23","天皇誕生日",null,"※指定場所に貼付しないと条件付き書式が機能しません！",null,null,null,null,null,null,null,"C","09:00:00","17:30:00",1,{"$f":"(N7-M7)*24-O7","v":7.5}]
["2025-02-24","休日",null,null,null,null,null,null,null,null,null,"D","10:45:00","17:00:00",1,{"$f":"(N8-M8)*24-O8","v":5.25}]
["2025-03-20","春分の日",null,null,null,null,null,null,null,null,null,"E","13:00:00","17:00:00",0,4.0000000000000018]
["2025-04-29","昭和の日"]
["2025-05-03","憲法記念日"]
["2025-05-04","みどりの日"]
["2025-05-05","こどもの日"]
["2025-05-06","休日"]
["2025-07-21","海の日"]
["2025-08-11","山の日"]
["2025-09-15","敬老の日"]
["2025-09-23","秋分の日"]
["2025-10-13","スポーツの日"]
["2025-11-03","文化の日"]
["2025-11-23","勤労感謝の日"]
["2025-11-24","休日"]

{"sheet":"休暇希望","index":1,"n_rows":53,"n_cols":41,"rows_kept":53,"cut":false,"hidden":false,"merged":[[1,4,2,34]]}
[]
[null,null,null,null,"休暇希望入力欄（左詰めでOK。順番関係なし）",null,null,null,null,null,null,null,null,null,null,null,null,null,null,null,null,null,null,null,null,null,null,null,null,null,null,null,null,null,null,null,"カテゴリ","出勤時間","退勤時間","休憩時間","労働時間"]
["人数","カテゴリ","氏名",null,null,null,null,null,null,null,null,null,null,null,null,null,null,null,null,null,null,null,null,null,null,null,null,null,null,null,null,null,null,null,null,null,{"$f":"各種設定!L5","v":"A"},{"$f":"各種設定!M5","v":"09:00:00"},{"$f":"各種設定!N5","v":"16:00:00"},{"$f":"各種設定!O5","v":1},{"$f":"各種設定!P5","v":5.9999999999999991}]
[{"$f":"ROW()-3","v":1},"A",1,null,2,3,6,7,8,9,10,14,15,16,17,20,21,22,23,24,27,28,29,30,31,null,null,null,null,null,null,null,null,null,null,null,{"$f":"各種設定!L6","v":"B"},{"$f":"各種設定!M6","v":"09:00:00"},{"$f":"各種設定!N6","v":"17:00:00"},{"$f":"各種設定!O6","v":1},{"$f":"各種設定!P6","v":7}]
[{"$f":"ROW()-3","v":2},"A",2,null,14,15,17,16,23,22,20,21,29,24,27,28,31,30,10,9,8,7,6,3,2,null,null,null,null,null,null,null,null,null,null,null,{"$f":"各種設定!L7","v":"C"},{"$f":"各種設定!M7","v":"09:00:00"},{"$f":"各種設定!N7","v":"17:30:00"},{"$f":"各種設定!O7","v":1},{"$f":"各種設定!P7","v":7.5}]
[3,"A",3,null,null,null,null,null,null,null,null,null,null,null,null,null,null,null,null,null,null,null,null,null,null,null,null,null,null,null,null,null,null,null,null,null,{"$f":"各種設定!L8","v":"D"},{"$f":"各種設定!M8","v":"10:45:00"},{"$f":"各種設定!N8","v":"17:00:00"},{"$f":"各種設定!O8","v":1},{"$f":"各種設定!P8","v":5.25}]
[4,"A",4,null,null,null,null,null,null,null,null,null,null,null,null,null,null,null,null,null,null,null,null,null,null,null,null,null,null,null,null,null,null,null,null,null,{"$f":"各種設定!L9","v":"E"},{"$f":"各種設定!M9","v":"13:00:00"},{"$f":"各種設定!N9","v":"17:00:00"},{"$f":"各種設定!O9","v":0},{"$f":"各種設定!P9","v":4.0000000000000018}]
[5,"A",5]
[6,"B",6]
[7,"B",7]
[8,"B",8]
[9,"B",9]
[10,"B",10]
[11,"C",11]
[12,"C",12]
[13,"C",13]
[14,"C",14]
[15,"C",15]
[16,"D",16]
[17,"D",17]
[18,"D",18]
[19,"D",19]
[20,"D",20]
[21,"E",21]
[22,"E",22]
[23,"E",23]
[24,"E",24]
[25,"E",25]
[26,"E",26]
[27,"E",27]
[28,"E",28]
[29,"E",29]
[30,"E",30]
[31,"E",31]
[32,"E",32]
[33,"E",33]
[34,"E",34]
[35,"E",35]
[36,"E",36]
[37,"E",37]
[38,"E",38]
[39,"E",39]
[{"$f":"ROW()-3","v":40},"E",40]
[41,"E",41]
[42,"E",42]
[43,"E",43]
[44,"E",44]
[45,"E",45]
[46,"E",46]
[47,"E",47]
[48,"E",48]
[49,"E",49]
[50,"E",50]

{"sheet":"出勤表","index":2,"n_rows":67,"n_cols":68,"rows_kept":67,"cut":false,"hidden":false,"merged":[[6,37,7,67],[1,5,1,6],[1,14,1,15],[2,7,2,9],[2,14,2,15],[3,7,3,9],[3,14,3,15],[65,1,65,2],[4,14,4,15],[6,1,7,1],[6,2,7,2],[6,3,7,3],[6,4,7,4],[63,1,63,4],[64,1,64,2],[62,1,62,3],[58,1,58,3],[59,1,59,3],[60,1,60,3],[61,1,61,3]]}
[]
[null,null,null,null,null,2025,null,"年",1,"月",null,null,null,null,"カテゴリー",null,"A","B","C","D","E"]
[null,null,null,null,null,null,"月初",{"$f":"DATE(F2,I2,1)","v":"2025-01-01"},null,null,null,null,null,null,"実労働時間",null,{"$f":"各種設定!P5","v":5.9999999999999991},{"$f":"各種設定!P6","v":7},{"$f":"各種設定!P7","v":7.5},{"$f":"各種設定!P8","v":5.25},{"$f":"各種設定!P9","v":4.0000000000000018}]
[null,null,null,null,null,null,"月末",{"$f":"EOMONTH(H3,0)","v":"2025-01-31"},null,null,null,null,null,null,"出勤時間",null,{"$f":"各種設定!M5","v":"09:00:00"},{"$f":"各種設定!M6","v":"09:00:00"},{"$f":"各種設定!M7","v":"09:00:00"},{"$f":"各種設定!M8","v":"10:45:00"},{"$f":"各種設定!M9","v":"13:00:00"}]
[null,null,null,null,null,null,null,null,null,null,null,null,null,null,"退勤時間",null,{"$f":"各種設定!N5","v":"16:00:00"},{"$f":"各種設定!N6","v":"17:00:00"},{"$f":"各種設定!N7","v":"17:30:00"},{"$f":"各種設定!N8","v":"17:00:00"},{"$f":"各種設定!N9","v":"17:00:00"}]
[]
[null,"カテゴリー","人時","氏名","出勤数",{"$f":"H3","v":"2025-01-01"},{"$f":"IF(F7=$H$4,\"\",IF(F7=\"\",\"\",IF(F7<>$H$4,F7+1,\"\")))","v":"2025-01-02"},{"$f":"IF(G7=$H$4,\"\",IF(G7=\"\",\"\",IF(G7<>$H$4,G7+1,\"\")))","v":"2025-01-03"},"2025-01-04","2025-01-05","2025-01-06","2025-01-07","2025-01-08","2025-01-09","2025-01-10","2025-01-11","2025-01-12","2025-01-13","2025-01-14","2025-01-15","2025-01-16","2025-01-17","2025-01-18","2025-01-19","2025-01-20","2025-01-21","2025-01-22","2025-01-23","2025-01-24","2025-01-25","2025-01-26","2025-01-27","2025-01-28","2025-01-29","2025-01-30","2025-01-31",null,"休暇希望日"]
[null,null,null,null,null,{"$f":"F7","v":45658},{"$f":"G7","v":45659},45660,45661,45662,45663,45664,45665,45666,45667,45668,45669,45670,45671,45672,45673,45674,45675,45676,45677,45678,45679,45680,45681,45682,45683,45684,45685,45686,45687,45688]
[null,"A",{"$f":"_xlfn.SWITCH($B9,\"A\",$Q$3,\"B\",$R$3,\"C\",$S$3,\"D\",$T$3,\"E\",$U$3)","v":5.9999999999999991},1,{"$f":"NETWORKDAYS($H$3,$H$4,各種設定!$A$4:$A$22)-COUNTIF(F9:AJ9,\">0\")","v":"00:00:00"},{"$f":"IF(F$7=\"\",\"\",IF(COUNTIF($AL9:$BP9,F$7)>0,$C9,\"\"))","v":""},{"$f":"IF(G$7=\"\",\"\",IF(COUNTIF($AL9:$BP9,G$7)>0,$C9,\"\"))","v":5.9999999999999991},{"$f":"IF(H$7=\"\",\"\",IF(COUNTIF($AL9:$BP9,H$7)>0,$C9,\"\"))","v":5.9999999999999991},"","",5.9999999999999991,5.9999999999999991,5.9999999999999991,5.9999999999999991,5.9999999999999991,{"$f":"IF(P$7=\"\",\"\",IF(COUNTIF($AL9:$BP9,P$7)>0,$C9,\"\"))","v":""},"","",5.9999999999999991,5.9999999999999991,5.9999999999999991,5.9999999999999991,"","",5.9999999999999991,{"$f":"IF(Z$7=\"\",\"\",IF(COUNTIF($AL9:$BP9,Z$7)>0,$C9,\"\"))","v":5.9999999999999991},5.9999999999999991,5.9999999999999991,5.9999999999999991,"","",5.9999999999999991,5.9999999999999991,5.9999999999999991,5.9999999999999991,5.9999999999999991,null,{"$f":"IF(休暇希望!E4=\"\",\"\",DATE($F$2,$I$2,休暇希望!E4))","v":"2025-01-02"},{"$f":"IF(休暇希望!F4=\"\",\"\",DATE($F$2,$I$2,休暇希望!F4))","v":"2025-01-03"},{"$f":"IF(休暇希望!G4=\"\",\"\",DATE($F$2,$I$2,休暇希望!G4))","v":"2025-01-06"},{"$f":"IF(休暇希望!H4=\"\",\"\",DATE($F$2,$I$2,休暇希望!H4))","v":"2025-01-07"},{"$f":"IF(休暇希望!I4=\"\",\"\",DATE($F$2,$I$2,休暇希望!I4))","v":"2025-01-08"},{"$f":"IF(休暇希望!J4=\"\",\"\",DATE($F$2,$I$2,休暇希望!J4))","v":"2025-01-09"},{"$f":"IF(休暇希望!K4=\"\",\"\",DATE($F$2,$I$2,休暇希望!K4))","v":"2025-01-10"},{"$f":"IF(休暇希望!L4=\"\",\"\",DATE($F$2,$I$2,休暇希望!L4))","v":"2025-01-14"},{"$f":"IF(休暇希望!M4=\"\",\"\",DATE($F$2,$I$2,休暇希望!M4))","v":"2025-01-15"},{"$f":"IF(休暇希望!N4=\"\",\"\",DATE($F$2,$I$2,休暇希望!N4))","v":"2025-01-16"},{"$f":"IF(休暇希望!O4=\"\",\"\",DATE($F$2,$I$2,休暇希望!O4))","v":"2025-01-17"},{"$f":"IF(休暇希望!P4=\"\",\"\",DATE($F$2,$I$2,休暇希望!P4))","v":"2025-01-20"},{"$f":"IF(休暇希望!Q4=\"\",\"\",DATE($F$2,$I$2,休暇希望!Q4))","v":"2025-01-21"},{"$f":"IF(休暇希望!R4=\"\",\"\",DATE($F$2,$I$2,休暇希望!R4))","v":"2025-01-22"},{"$f":"IF(休暇希望!S4=\"\",\"\",DATE($F$2,$I$2,休暇希望!S4))","v":"2025-01-23"},{"$f":"IF(休暇希望!T4=\"\",\"\",DATE($F$2,$I$2,休暇希望!T4))","v":"2025-01-24"},{"$f":"IF(休暇希望!U4=\"\",\"\",DATE($F$2,$I$2,休暇希望!U4))","v":"2025-01-27"},{"$f":"IF(休暇希望!V4=\"\",\"\",DATE($F$2,$I$2,休暇希望!V4))","v":"2025-01-28"},{"$f":"IF(休暇希望!W4=\"\",\"\",DATE($F$2,$I$2,休暇希望!W4))","v":"2025-01-29"},{"$f":"IF(休暇希望!X4=\"\",\"\",DATE($F$2,$I$2,休暇希望!X4))","v":"2025-01-30"},{"$f":"IF(休暇希望!Y4=\"\",\"\",DATE($F$2,$I$2,休暇希望!Y4))","v":"2025-01-31"},{"$f":"IF(休暇希望!Z4=\"\",\"\",DATE($F$2,$I$2,休暇希望!Z4))","v":""},{"$f":"IF(休暇希望!AA4=\"\",\"\",DATE($F$2,$I$2,休暇希望!AA4))","v":""},{"$f":"IF(休暇希望!AB4=\"\",\"\",DATE($F$2,$I$2,休暇希望!AB4))","v":""},{"$f":"IF(休暇希望!AC4=\"\",\"\",DATE($F$2,$I$2,休暇希望!AC4))","v":""},{"$f":"IF(休暇希望!AD4=\"\",\"\",DATE($F$2,$I$2,休暇希望!AD4))","v":""},{"$f":"IF(休暇希望!AE4=\"\",\"\",DATE($F$2,$I$2,休暇希望!AE4))","v":""},{"$f":"IF(休暇希望!AF4=\"\",\"\",DATE($F$2,$I$2,休暇希望!AF4))","v":""},{"$f":"IF(休暇希望!AG4=\"\",\"\",DATE($F$2,$I$2,休暇希望!AG4))","v":""},{"$f":"IF(休暇希望!AH4=\"\",\"\",DATE($F$2,$I$2,休暇希望!AH4))","v":""},{"$f":"IF(休暇希望!AI4=\"\",\"\",DATE($F$2,$I$2,休暇希望!AI4))","v":""}]
[null,"A",{"$f":"_xlfn.SWITCH($B10,\"A\",$Q$3,\"B\",$R$3,\"C\",$S$3,\"D\",$T$3,\"E\",$U$3,)","v":5.9999999999999991},2,{"$f":"NETWORKDAYS($H$3,$H$4,各種設定!$A$4:$A$22)-COUNTIF(F10:AJ10,\">0\")","v":"00:00:00"},"",5.9999999999999991,5.9999999999999991,"","",5.9999999999999991,5.9999999999999991,5.9999999999999991,5.9999999999999991,5.9999999999999991,"","","",5.9999999999999991,5.9999999999999991,5.9999999999999991,5.9999999999999991,"","",5.9999999999999991,5.9999999999999991,5.9999999999999991,5.9999999999999991,5.9999999999999991,"","",5.9999999999999991,5.9999999999999991,5.9999999999999991,5.9999999999999991,5.9999999999999991,null,{"$f":"IF(休暇希望!E5=\"\",\"\",DATE($F$2,$I$2,休暇希望!E5))","v":"2025-01-14"},{"$f":"IF(休暇希望!F5=\"\",\"\",DATE($F$2,$I$2,休暇希望!F5))","v":"2025-01-15"},{"$f":"IF(休暇希望!G5=\"\",\"\",DATE($F$2,$I$2,休暇希望!G5))","v":"2025-01-17"},{"$f":"IF(休暇希望!H5=\"\",\"\",DATE($F$2,$I$2,休暇希望!H5))","v":"2025-01-16"},{"$f":"IF(休暇希望!I5=\"\",\"\",DATE($F$2,$I$2,休暇希望!I5))","v":"2025-01-23"},{"$f":"IF(休暇希望!J5=\"\",\"\",DATE($F$2,$I$2,休暇希望!J5))","v":"2025-01-22"},{"$f":"IF(休暇希望!K5=\"\",\"\",DATE($F$2,$I$2,休暇希望!K5))","v":"2025-01-20"},{"$f":"IF(休暇希望!L5=\"\",\"\",DATE($F$2,$I$2,休暇希望!L5))","v":"2025-01-21"},{"$f":"IF(休暇希望!M5=\"\",\"\",DATE($F$2,$I$2,休暇希望!M5))","v":"2025-01-29"},{"$f":"IF(休暇希望!N5=\"\",\"\",DATE($F$2,$I$2,休暇希望!N5))","v":"2025-01-24"},{"$f":"IF(休暇希望!O5=\"\",\"\",DATE($F$2,$I$2,休暇希望!O5))","v":"2025-01-27"},{"$f":"IF(休暇希望!P5=\"\",\"\",DATE($F$2,$I$2,休暇希望!P5))","v":"2025-01-28"},{"$f":"IF(休暇希望!Q5=\"\",\"\",DATE($F$2,$I$2,休暇希望!Q5))","v":"2025-01-31"},{"$f":"IF(休暇希望!R5=\"\",\"\",DATE($F$2,$I$2,休暇希望!R5))","v":"2025-01-30"},{"$f":"IF(休暇希望!S5=\"\",\"\",DATE($F$2,$I$2,休暇希望!S5))","v":"2025-01-10"},{"$f":"IF(休暇希望!T5=\"\",\"\",DATE($F$2,$I$2,休暇希望!T5))","v":"2025-01-09"},{"$f":"IF(休暇希望!U5=\"\",\"\",DATE($F$2,$I$2,休暇希望!U5))","v":"2025-01-08"},{"$f":"IF(休暇希望!V5=\"\",\"\",DATE($F$2,$I$2,休暇希望!V5))","v":"2025-01-07"},{"$f":"IF(休暇希望!W5=\"\",\"\",DATE($F$2,$I$2,休暇希望!W5))","v":"2025-01-06"},{"$f":"IF(休暇希望!X5=\"\",\"\",DATE($F$2,$I$2,休暇希望!X5))","v":"2025-01-03"},{"$f":"IF(休暇希望!Y5=\"\",\"\",DATE($F$2,$I$2,休暇希望!Y5))","v":"2025-01-02"},{"$f":"IF(休暇希望!Z5=\"\",\"\",DATE($F$2,$I$2,休暇希望!Z5))","v":""},{"$f":"IF(休暇希望!AA5=\"\",\"\",DATE($F$2,$I$2,休暇希望!AA5))","v":""},{"$f":"IF(休暇希望!AB5=\"\",\"\",DATE($F$2,$I$2,休暇希望!AB5))","v":""},{"$f":"IF(休暇希望!AC5=\"\",\"\",DATE($F$2,$I$2,休暇希望!AC5))","v":""},{"$f":"IF(休暇希望!AD5=\"\",\"\",DATE($F$2,$I$2,休暇希望!AD5))","v":""},{"$f":"IF(休暇希望!AE5=\"\",\"\",DATE($F$2,$I$2,休暇希望!AE5))","v":""},{"$f":"IF(休暇希望!AF5=\"\",\"\",DATE($F$2,$I$2,休暇希望!AF5))","v":""},{"$f":"IF(休暇希望!AG5=\"\",\"\",DATE($F$2,$I$2,休暇希望!AG5))","v":""},{"$f":"IF(休暇希望!AH5=\"\",\"\",DATE($F$2,$I$2,休暇希望!AH5))","v":""},{"$f":"IF(休暇希望!AI5=\"\",\"\",DATE($F$2,$I$2,休暇希望!AI5))","v":""}]
[null,"A",{"$f":"_xlfn.SWITCH($B11,\"A\",$Q$3,\"B\",$R$3,\"C\",$S$3,\"D\",$T$3,\"E\",$U$3,)","v":5.9999999999999991},3,{"$f":"NETWORKDAYS($H$3,$H$4,各種設定!$A$4:$A$22)-COUNTIF(F11:AJ11,\">0\")","v":"1900-01-21"},"","","","","","","","","","","","","","","","","","","","","","","","","","","","","","","",null,{"$f":"IF(休暇希望!E6=\"\",\"\",DATE($F$2,$I$2,休暇希望!E6))","v":""},{"$f":"IF(休暇希望!F6=\"\",\"\",DATE($F$2,$I$2,休暇希望!F6))","v":""},{"$f":"IF(休暇希望!G6=\"\",\"\",DATE($F$2,$I$2,休暇希望!G6))","v":""},{"$f":"IF(休暇希望!H6=\"\",\"\",DATE($F$2,$I$2,休暇希望!H6))","v":""},{"$f":"IF(休暇希望!I6=\"\",\"\",DATE($F$2,$I$2,休暇希望!I6))","v":""},{"$f":"IF(休暇希望!J6=\"\",\"\",DATE($F$2,$I$2,休暇希望!J6))","v":""},{"$f":"IF(休暇希望!K6=\"\",\"\",DATE($F$2,$I$2,休暇希望!K6))","v":""},{"$f":"IF(休暇希望!L6=\"\",\"\",DATE($F$2,$I$2,休暇希望!L6))","v":""},{"$f":"IF(休暇希望!M6=\"\",\"\",DATE($F$2,$I$2,休暇希望!M6))","v":""},{"$f":"IF(休暇希望!N6=\"\",\"\",DATE($F$2,$I$2,休暇希望!N6))","v":""},{"$f":"IF(休暇希望!O6=\"\",\"\",DATE($F$2,$I$2,休暇希望!O6))","v":""},{"$f":"IF(休暇希望!P6=\"\",\"\",DATE($F$2,$I$2,休暇希望!P6))","v":""},{"$f":"IF(休暇希望!Q6=\"\",\"\",DATE($F$2,$I$2,休暇希望!Q6))","v":""},{"$f":"IF(休暇希望!R6=\"\",\"\",DATE($F$2,$I$2,休暇希望!R6))","v":""},{"$f":"IF(休暇希望!S6=\"\",\"\",DATE($F$2,$I$2,休暇希望!S6))","v":""},{"$f":"IF(休暇希望!T6=\"\",\"\",DATE($F$2,$I$2,休暇希望!T6))","v":""},{"$f":"IF(休暇希望!U6=\"\",\"\",DATE($F$2,$I$2,休暇希望!U6))","v":""},{"$f":"IF(休暇希望!V6=\"\",\"\",DATE($F$2,$I$2,休暇希望!V6))","v":""},{"$f":"IF(休暇希望!W6=\"\",\"\",DATE($F$2,$I$2,休暇希望!W6))","v":""},{"$f":"IF(休暇希望!X6=\"\",\"\",DATE($F$2,$I$2,休暇希望!X6))","v":""},{"$f":"IF(休暇希望!Y6=\"\",\"\",DATE($F$2,$I$2,休暇希望!Y6))","v":""},{"$f":"IF(休暇希望!Z6=\"\",\"\",DATE($F$2,$I$2,休暇希望!Z6))","v":""},{"$f":"IF(休暇希望!AA6=\"\",\"\",DATE($F$2,$I$2,休暇希望!AA6))","v":""},{"$f":"IF(休暇希望!AB6=\"\",\"\",DATE($F$2,$I$2,休暇希望!AB6))","v":""},{"$f":"IF(休暇希望!AC6=\"\",\"\",DATE($F$2,$I$2,休暇希望!AC6))","v":""},{"$f":"IF(休暇希望!AD6=\"\",\"\",DATE($F$2,$I$2,休暇希望!AD6))","v":""},{"$f":"IF(休暇希望!AE6=\"\",\"\",DATE($F$2,$I$2,休暇希望!AE6))","v":""},{"$f":"IF(休暇希望!AF6=\"\",\"\",DATE($F$2,$I$2,休暇希望!AF6))","v":""},{"$f":"IF(休暇希望!AG6=\"\",\"\",DATE($F$2,$I$2,休暇希望!AG6))","v":""},{"$f":"IF(休暇希望!AH6=\"\",\"\",DATE($F$2,$I$2,休暇希望!AH6))","v":""},{"$f":"IF(休暇希望!AI6=\"\",\"\",DATE($F$2,$I$2,休暇希望!AI6))","v":""}]
[null,"A",{"$f":"_xlfn.SWITCH($B12,\"A\",$Q$3,\"B\",$R$3,\"C\",$S$3,\"D\",$T$3,\"E\",$U$3,)","v":5.9999999999999991},4,{"$f":"NETWORKDAYS($H$3,$H$4,各種設定!$A$4:$A$22)-COUNTIF(F12:AJ12,\">0\")","v":"1900-01-21"},"","","","","","","","","","","","","","","","","","","","","","","","","","","","","","","",null,{"$f":"IF(休暇希望!E7=\"\",\"\",DATE($F$2,$I$2,休暇希望!E7))","v":""},{"$f":"IF(休暇希望!F7=\"\",\"\",DATE($F$2,$I$2,休暇希望!F7))","v":""},{"$f":"IF(休暇希望!G7=\"\",\"\",DATE($F$2,$I$2,休暇希望!G7))","v":""},{"$f":"IF(休暇希望!H7=\"\",\"\",DATE($F$2,$I$2,休暇希望!H7))","v":""},{"$f":"IF(休暇希望!I7=\"\",\"\",DATE($F$2,$I$2,休暇希望!I7))","v":""},{"$f":"IF(休暇希望!J7=\"\",\"\",DATE($F$2,$I$2,休暇希望!J7))","v":""},{"$f":"IF(休暇希望!K7=\"\",\"\",DATE($F$2,$I$2,休暇希望!K7))","v":""},{"$f":"IF(休暇希望!L7=\"\",\"\",DATE($F$2,$I$2,休暇希望!L7))","v":""},{"$f":"IF(休暇希望!M7=\"\",\"\",DATE($F$2,$I$2,休暇希望!M7))","v":""},{"$f":"IF(休暇希望!N7=\"\",\"\",DATE($F$2,$I$2,休暇希望!N7))","v":""},{"$f":"IF(休暇希望!O7=\"\",\"\",DATE($F$2,$I$2,休暇希望!O7))","v":""},{"$f":"IF(休暇希望!P7=\"\",\"\",DATE($F$2,$I$2,休暇希望!P7))","v":""},{"$f":"IF(休暇希望!Q7=\"\",\"\",DATE($F$2,$I$2,休暇希望!Q7))","v":""},{"$f":"IF(休暇希望!R7=\"\",\"\",DATE($F$2,$I$2,休暇希望!R7))","v":""},{"$f":"IF(休暇希望!S7=\"\",\"\",DATE($F$2,$I$2,休暇希望!S7))","v":""},{"$f":"IF(休暇希望!T7=\"\",\"\",DATE($F$2,$I$2,休暇希望!T7))","v":""},{"$f":"IF(休暇希望!U7=\"\",\"\",DATE($F$2,$I$2,休暇希望!U7))","v":""},{"$f":"IF(休暇希望!V7=\"\",\"\",DATE($F$2,$I$2,休暇希望!V7))","v":""},{"$f":"IF(休暇希望!W7=\"\",\"\",DATE($F$2,$I$2,休暇希望!W7))","v":""},{"$f":"IF(休暇希望!X7=\"\",\"\",DATE($F$2,$I$2,休暇希望!X7))","v":""},{"$f":"IF(休暇希望!Y7=\"\",\"\",DATE($F$2,$I$2,休暇希望!Y7))","v":""},{"$f":"IF(休暇希望!Z7=\"\",\"\",DATE($F$2,$I$2,休暇希望!Z7))","v":""},{"$f":"IF(休暇希望!AA7=\"\",\"\",DATE($F$2,$I$2,休暇希望!AA7))","v":""},{"$f":"IF(休暇希望!AB7=\"\",\"\",DATE($F$2,$I$2,休暇希望!AB7))","v":""},{"$f":"IF(休暇希望!AC7=\"\",\"\",DATE($F$2,$I$2,休暇希望!AC7))","v":""},{"$f":"IF(休暇希望!AD7=\"\",\"\",DATE($F$2,$I$2,休暇希望!AD7))","v":""},{"$f":"IF(休暇希望!AE7=\"\",\"\",DATE($F$2,$I$2,休暇希望!AE7))","v":""},{"$f":"IF(休暇希望!AF7=\"\",\"\",DATE($F$2,$I$2,休暇希望!AF7))","v":""},{"$f":"IF(休暇希望!AG7=\"\",\"\",DATE($F$2,$I$2,休暇希望!AG7))","v":""},{"$f":"IF(休暇希望!AH7=\"\",\"\",DATE($F$2,$I$2,休暇希望!AH7))","v":""},{"$f":"IF(休暇希望!AI7=\"\",\"\",DATE($F$2,$I$2,休暇希望!AI7))","v":""}]
[null,"A",5.9999999999999991,5,{"$f":"NETWORKDAYS($H$3,$H$4,各種設定!$A$4:$A$22)-COUNTIF(F13:AJ13,\">0\")","v":"1900-01-21"},"","","","","","","","","","","","","","","","","","","","","","","","","","","","","","","",null,{"$f":"IF(休暇希望!E8=\"\",\"\",DATE($F$2,$I$2,休暇希望!E8))","v":""},{"$f":"IF(休暇希望!F8=\"\",\"\",DATE($F$2,$I$2,休暇希望!F8))","v":""},{"$f":"IF(休暇希望!G8=\"\",\"\",DATE($F$2,$I$2,休暇希望!G8))","v":""},{"$f":"IF(休暇希望!H8=\"\",\"\",DATE($F$2,$I$2,休暇希望!H8))","v":""},{"$f":"IF(休暇希望!I8=\"\",\"\",DATE($F$2,$I$2,休暇希望!I8))","v":""},{"$f":"IF(休暇希望!J8=\"\",\"\",DATE($F$2,$I$2,休暇希望!J8))","v":""},{"$f":"IF(休暇希望!K8=\"\",\"\",DATE($F$2,$I$2,休暇希望!K8))","v":""},{"$f":"IF(休暇希望!L8=\"\",\"\",DATE($F$2,$I$2,休暇希望!L8))","v":""},{"$f":"IF(休暇希望!M8=\"\",\"\",DATE($F$2,$I$2,休暇希望!M8))","v":""},{"$f":"IF(休暇希望!N8=\"\",\"\",DATE($F$2,$I$2,休暇希望!N8))","v":""},{"$f":"IF(休暇希望!O8=\"\",\"\",DATE($F$2,$I$2,休暇希望!O8))","v":""},{"$f":"IF(休暇希望!P8=\"\",\"\",DATE($F$2,$I$2,休暇希望!P8))","v":""},{"$f":"IF(休暇希望!Q8=\"\",\"\",DATE($F$2,$I$2,休暇希望!Q8))","v":""},{"$f":"IF(休暇希望!R8=\"\",\"\",DATE($F$2,$I$2,休暇希望!R8))","v":""},{"$f":"IF(休暇希望!S8=\"\",\"\",DATE($F$2,$I$2,休暇希望!S8))","v":""},{"$f":"IF(休暇希望!T8=\"\",\"\",DATE($F$2,$I$2,休暇希望!T8))","v":""},{"$f":"IF(休暇希望!U8=\"\",\"\",DATE($F$2,$I$2,休暇希望!U8))","v":""},{"$f":"IF(休暇希望!V8=\"\",\"\",DATE($F$2,$I$2,休暇希望!V8))","v":""},{"$f":"IF(休暇希望!W8=\"\",\"\",DATE($F$2,$I$2,休暇希望!W8))","v":""},{"$f":"IF(休暇希望!X8=\"\",\"\",DATE($F$2,$I$2,休暇希望!X8))","v":""},{"$f":"IF(休暇希望!Y8=\"\",\"\",DATE($F$2,$I$2,休暇希望!Y8))","v":""},{"$f":"IF(休暇希望!Z8=\"\",\"\",DATE($F$2,$I$2,休暇希望!Z8))","v":""},{"$f":"IF(休暇希望!AA8=\"\",\"\",DATE($F$2,$I$2,休暇希望!AA8))","v":""},{"$f":"IF(休暇希望!AB8=\"\",\"\",DATE($F$2,$I$2,休暇希望!AB8))","v":""},{"$f":"IF(休暇希望!AC8=\"\",\"\",DATE($F$2,$I$2,休暇希望!AC8))","v":""},{"$f":"IF(休暇希望!AD8=\"\",\"\",DATE($F$2,$I$2,休暇希望!AD8))","v":""},{"$f":"IF(休暇希望!AE8=\"\",\"\",DATE($F$2,$I$2,休暇希望!AE8))","v":""},{"$f":"IF(休暇希望!AF8=\"\",\"\",DATE($F$2,$I$2,休暇希望!AF8))","v":""},{"$f":"IF(休暇希望!AG8=\"\",\"\",DATE($F$2,$I$2,休暇希望!AG8))","v":""},{"$f":"IF(休暇希望!AH8=\"\",\"\",DATE($F$2,$I$2,休暇希望!AH8))","v":""},{"$f":"IF(休暇希望!AI8=\"\",\"\",DATE($F$2,$I$2,休暇希望!AI8))","v":""}]
[null,"B",7,6,{"$f":"NETWORKDAYS($H$3,$H$4,各種設定!$A$4:$A$22)-COUNTIF(F14:AJ14,\">0\")","v":"1900-01-21"},"","","","","","","","","","","","","","","","","","","","","","","","","","","","","","","",null,{"$f":"IF(休暇希望!E9=\"\",\"\",DATE($F$2,$I$2,休暇希望!E9))","v":""},{"$f":"IF(休暇希望!F9=\"\",\"\",DATE($F$2,$I$2,休暇希望!F9))","v":""},{"$f":"IF(休暇希望!G9=\"\",\"\",DATE($F$2,$I$2,休暇希望!G9))","v":""},{"$f":"IF(休暇希望!H9=\"\",\"\",DATE($F$2,$I$2,休暇希望!H9))","v":""},{"$f":"IF(休暇希望!I9=\"\",\"\",DATE($F$2,$I$2,休暇希望!I9))","v":""},{"$f":"IF(休暇希望!J9=\"\",\"\",DATE($F$2,$I$2,休暇希望!J9))","v":""},{"$f":"IF(休暇希望!K9=\"\",\"\",DATE($F$2,$I$2,休暇希望!K9))","v":""},{"$f":"IF(休暇希望!L9=\"\",\"\",DATE($F$2,$I$2,休暇希望!L9))","v":""},{"$f":"IF(休暇希望!M9=\"\",\"\",DATE($F$2,$I$2,休暇希望!M9))","v":""},{"$f":"IF(休暇希望!N9=\"\",\"\",DATE($F$2,$I$2,休暇希望!N9))","v":""},{"$f":"IF(休暇希望!O9=\"\",\"\",DATE($F$2,$I$2,休暇希望!O9))","v":""},{"$f":"IF(休暇希望!P9=\"\",\"\",DATE($F$2,$I$2,休暇希望!P9))","v":""},{"$f":"IF(休暇希望!Q9=\"\",\"\",DATE($F$2,$I$2,休暇希望!Q9))","v":""},{"$f":"IF(休暇希望!R9=\"\",\"\",DATE($F$2,$I$2,休暇希望!R9))","v":""},{"$f":"IF(休暇希望!S9=\"\",\"\",DATE($F$2,$I$2,休暇希望!S9))","v":""},{"$f":"IF(休暇希望!T9=\"\",\"\",DATE($F$2,$I$2,休暇希望!T9))","v":""},{"$f":"IF(休暇希望!U9=\"\",\"\",DATE($F$2,$I$2,休暇希望!U9))","v":""},{"$f":"IF(休暇希望!V9=\"\",\"\",DATE($F$2,$I$2,休暇希望!V9))","v":""},{"$f":"IF(休暇希望!W9=\"\",\"\",DATE($F$2,$I$2,休暇希望!W9))","v":""},{"$f":"IF(休暇希望!X9=\"\",\"\",DATE($F$2,$I$2,休暇希望!X9))","v":""},{"$f":"IF(休暇希望!Y9=\"\",\"\",DATE($F$2,$I$2,休暇希望!Y9))","v":""},{"$f":"IF(休暇希望!Z9=\"\",\"\",DATE($F$2,$I$2,休暇希望!Z9))","v":""},{"$f":"IF(休暇希望!AA9=\"\",\"\",DATE($F$2,$I$2,休暇希望!AA9))","v":""},{"$f":"IF(休暇希望!AB9=\"\",\"\",DATE($F$2,$I$2,休暇希望!AB9))","v":""},{"$f":"IF(休暇希望!AC9=\"\",\"\",DATE($F$2,$I$2,休暇希望!AC9))","v":""},{"$f":"IF(休暇希望!AD9=\"\",\"\",DATE($F$2,$I$2,休暇希望!AD9))","v":""},{"$f":"IF(休暇希望!AE9=\"\",\"\",DATE($F$2,$I$2,休暇希望!AE9))","v":""},{"$f":"IF(休暇希望!AF9=\"\",\"\",DATE($F$2,$I$2,休暇希望!AF9))","v":""},{"$f":"IF(休暇希望!AG9=\"\",\"\",DATE($F$2,$I$2,休暇希望!AG9))","v":""},{"$f":"IF(休暇希望!AH9=\"\",\"\",DATE($F$2,$I$2,休暇希望!AH9))","v":""},{"$f":"IF(休暇希望!AI9=\"\",\"\",DATE($F$2,$I$2,休暇希望!AI9))","v":""}]
[null,"B",7,7,{"$f":"NETWORKDAYS($H$3,$H$4,各種設定!$A$4:$A$22)-COUNTIF(F15:AJ15,\">0\")","v":"1900-01-21"},"","","","","","","","","","","","","","","","","","","","","","","","","","","","","","","",null,{"$f":"IF(休暇希望!E10=\"\",\"\",DATE($F$2,$I$2,休暇希望!E10))","v":""},{"$f":"IF(休暇希望!F10=\"\",\"\",DATE($F$2,$I$2,休暇希望!F10))","v":""},{"$f":"IF(休暇希望!G10=\"\",\"\",DATE($F$2,$I$2,休暇希望!G10))","v":""},{"$f":"IF(休暇希望!H10=\"\",\"\",DATE($F$2,$I$2,休暇希望!H10))","v":""},{"$f":"IF(休暇希望!I10=\"\",\"\",DATE($F$2,$I$2,休暇希望!I10))","v":""},{"$f":"IF(休暇希望!J10=\"\",\"\",DATE($F$2,$I$2,休暇希望!J10))","v":""},{"$f":"IF(休暇希望!K10=\"\",\"\",DATE($F$2,$I$2,休暇希望!K10))","v":""},{"$f":"IF(休暇希望!L10=\"\",\"\",DATE($F$2,$I$2,休暇希望!L10))","v":""},{"$f":"IF(休暇希望!M10=\"\",\"\",DATE($F$2,$I$2,休暇希望!M10))","v":""},{"$f":"IF(休暇希望!N10=\"\",\"\",DATE($F$2,$I$2,休暇希望!N10))","v":""},{"$f":"IF(休暇希望!O10=\"\",\"\",DATE($F$2,$I$2,休暇希望!O10))","v":""},{"$f":"IF(休暇希望!P10=\"\",\"\",DATE($F$2,$I$2,休暇希望!P10))","v":""},{"$f":"IF(休暇希望!Q10=\"\",\"\",DATE($F$2,$I$2,休暇希望!Q10))","v":""},{"$f":"IF(休暇希望!R10=\"\",\"\",DATE($F$2,$I$2,休暇希望!R10))","v":""},{"$f":"IF(休暇希望!S10=\"\",\"\",DATE($F$2,$I$2,休暇希望!S10))","v":""},{"$f":"IF(休暇希望!T10=\"\",\"\",DATE($F$2,$I$2,休暇希望!T10))","v":""},{"$f":"IF(休暇希望!U10=\"\",\"\",DATE($F$2,$I$2,休暇希望!U10))","v":""},{"$f":"IF(休暇希望!V10=\"\",\"\",DATE($F$2,$I$2,休暇希望!V10))","v":""},{"$f":"IF(休暇希望!W10=\"\",\"\",DATE($F$2,$I$2,休暇希望!W10))","v":""},{"$f":"IF(休暇希望!X10=\"\",\"\",DATE($F$2,$I$2,休暇希望!X10))","v":""},{"$f":"IF(休暇希望!Y10=\"\",\"\",DATE($F$2,$I$2,休暇希望!Y10))","v":""},{"$f":"IF(休暇希望!Z10=\"\",\"\",DATE($F$2,$I$2,休暇希望!Z10))","v":""},{"$f":"IF(休暇希望!AA10=\"\",\"\",DATE($F$2,$I$2,休暇希望!AA10))","v":""},{"$f":"IF(休暇希望!AB10=\"\",\"\",DATE($F$2,$I$2,休暇希望!AB10))","v":""},{"$f":"IF(休暇希望!AC10=\"\",\"\",DATE($F$2,$I$2,休暇希望!AC10))","v":""},{"$f":"IF(休暇希望!AD10=\"\",\"\",DATE($F$2,$I$2,休暇希望!AD10))","v":""},{"$f":"IF(休暇希望!AE10=\"\",\"\",DATE($F$2,$I$2,休暇希望!AE10))","v":""},{"$f":"IF(休暇希望!AF10=\"\",\"\",DATE($F$2,$I$2,休暇希望!AF10))","v":""},{"$f":"IF(休暇希望!AG10=\"\",\"\",DATE($F$2,$I$2,休暇希望!AG10))","v":""},{"$f":"IF(休暇希望!AH10=\"\",\"\",DATE($F$2,$I$2,休暇希望!AH10))","v":""},{"$f":"IF(休暇希望!AI10=\"\",\"\",DATE($F$2,$I$2,休暇希望!AI10))","v":""}]
[null,"B",7,8,{"$f":"NETWORKDAYS($H$3,$H$4,各種設定!$A$4:$A$22)-COUNTIF(F16:AJ16,\">0\")","v":"1900-01-21"},"","","","","","","","","","","","","","","","","","","","","","","","","","","","","","","",null,{"$f":"IF(休暇希望!E11=\"\",\"\",DATE($F$2,$I$2,休暇希望!E11))","v":""},{"$f":"IF(休暇希望!F11=\"\",\"\",DATE($F$2,$I$2,休暇希望!F11))","v":""},{"$f":"IF(休暇希望!G11=\"\",\"\",DATE($F$2,$I$2,休暇希望!G11))","v":""},{"$f":"IF(休暇希望!H11=\"\",\"\",DATE($F$2,$I$2,休暇希望!H11))","v":""},{"$f":"IF(休暇希望!I11=\"\",\"\",DATE($F$2,$I$2,休暇希望!I11))","v":""},{"$f":"IF(休暇希望!J11=\"\",\"\",DATE($F$2,$I$2,休暇希望!J11))","v":""},{"$f":"IF(休暇希望!K11=\"\",\"\",DATE($F$2,$I$2,休暇希望!K11))","v":""},{"$f":"IF(休暇希望!L11=\"\",\"\",DATE($F$2,$I$2,休暇希望!L11))","v":""},{"$f":"IF(休暇希望!M11=\"\",\"\",DATE($F$2,$I$2,休暇希望!M11))","v":""},{"$f":"IF(休暇希望!N11=\"\",\"\",DATE($F$2,$I$2,休暇希望!N11))","v":""},{"$f":"IF(休暇希望!O11=\"\",\"\",DATE($F$2,$I$2,休暇希望!O11))","v":""},{"$f":"IF(休暇希望!P11=\"\",\"\",DATE($F$2,$I$2,休暇希望!P11))","v":""},{"$f":"IF(休暇希望!Q11=\"\",\"\",DATE($F$2,$I$2,休暇希望!Q11))","v":""},{"$f":"IF(休暇希望!R11=\"\",\"\",DATE($F$2,$I$2,休暇希望!R11))","v":""},{"$f":"IF(休暇希望!S11=\"\",\"\",DATE($F$2,$I$2,休暇希望!S11))","v":""},{"$f":"IF(休暇希望!T11=\"\",\"\",DATE($F$2,$I$2,休暇希望!T11))","v":""},{"$f":"IF(休暇希望!U11=\"\",\"\",DATE($F$2,$I$2,休暇希望!U11))","v":""},{"$f":"IF(休暇希望!V11=\"\",\"\",DATE($F$2,$I$2,休暇希望!V11))","v":""},{"$f":"IF(休暇希望!W11=\"\",\"\",DATE($F$2,$I$2,休暇希望!W11))","v":""},{"$f":"IF(休暇希望!X11=\"\",\"\",DATE($F$2,$I$2,休暇希望!X11))","v":""},{"$f":"IF(休暇希望!Y11=\"\",\"\",DATE($F$2,$I$2,休暇希望!Y11))","v":""},{"$f":"IF(休暇希望!Z11=\"\",\"\",DATE($F$2,$I$2,休暇希望!Z11))","v":""},{"$f":"IF(休暇希望!AA11=\"\",\"\",DATE($F$2,$I$2,休暇希望!AA11))","v":""},{"$f":"IF(休暇希望!AB11=\"\",\"\",DATE($F$2,$I$2,休暇希望!AB11))","v":""},{"$f":"IF(休暇希望!AC11=\"\",\"\",DATE($F$2,$I$2,休暇希望!AC11))","v":""},{"$f":"IF(休暇希望!AD11=\"\",\"\",DATE($F$2,$I$2,休暇希望!AD11))","v":""},{"$f":"IF(休暇希望!AE11=\"\",\"\",DATE($F$2,$I$2,休暇希望!AE11))","v":""},{"$f":"IF(休暇希望!AF11=\"\",\"\",DATE($F$2,$I$2,休暇希望!AF11))","v":""},{"$f":"IF(休暇希望!AG11=\"\",\"\",DATE($F$2,$I$2,休暇希望!AG11))","v":""},{"$f":"IF(休暇希望!AH11=\"\",\"\",DATE($F$2,$I$2,休暇希望!AH11))","v":""},{"$f":"IF(休暇希望!AI11=\"\",\"\",DATE($F$2,$I$2,休暇希望!AI11))","v":""}]
[null,"B",7,9,{"$f":"NETWORKDAYS($H$3,$H$4,各種設定!$A$4:$A$22)-COUNTIF(F17:AJ17,\">0\")","v":"1900-01-21"},"","","","","","","","","","","","","","","","","","","","","","","","","","","","","","","",null,{"$f":"IF(休暇希望!E12=\"\",\"\",DATE($F$2,$I$2,休暇希望!E12))","v":""},{"$f":"IF(休暇希望!F12=\"\",\"\",DATE($F$2,$I$2,休暇希望!F12))","v":""},{"$f":"IF(休暇希望!G12=\"\",\"\",DATE($F$2,$I$2,休暇希望!G12))","v":""},{"$f":"IF(休暇希望!H12=\"\",\"\",DATE($F$2,$I$2,休暇希望!H12))","v":""},{"$f":"IF(休暇希望!I12=\"\",\"\",DATE($F$2,$I$2,休暇希望!I12))","v":""},{"$f":"IF(休暇希望!J12=\"\",\"\",DATE($F$2,$I$2,休暇希望!J12))","v":""},{"$f":"IF(休暇希望!K12=\"\",\"\",DATE($F$2,$I$2,休暇希望!K12))","v":""},{"$f":"IF(休暇希望!L12=\"\",\"\",DATE($F$2,$I$2,休暇希望!L12))","v":""},{"$f":"IF(休暇希望!M12=\"\",\"\",DATE($F$2,$I$2,休暇希望!M12))","v":""},{"$f":"IF(休暇希望!N12=\"\",\"\",DATE($F$2,$I$2,休暇希望!N12))","v":""},{"$f":"IF(休暇希望!O12=\"\",\"\",DATE($F$2,$I$2,休暇希望!O12))","v":""},{"$f":"IF(休暇希望!P12=\"\",\"\",DATE($F$2,$I$2,休暇希望!P12))","v":""},{"$f":"IF(休暇希望!Q12=\"\",\"\",DATE($F$2,$I$2,休暇希望!Q12))","v":""},{"$f":"IF(休暇希望!R12=\"\",\"\",DATE($F$2,$I$2,休暇希望!R12))","v":""},{"$f":"IF(休暇希望!S12=\"\",\"\",DATE($F$2,$I$2,休暇希望!S12))","v":""},{"$f":"IF(休暇希望!T12=\"\",\"\",DATE($F$2,$I$2,休暇希望!T12))","v":""},{"$f":"IF(休暇希望!U12=\"\",\"\",DATE($F$2,$I$2,休暇希望!U12))","v":""},{"$f":"IF(休暇希望!V12=\"\",\"\",DATE($F$2,$I$2,休暇希望!V12))","v":""},{"$f":"IF(休暇希望!W12=\"\",\"\",DATE($F$2,$I$2,休暇希望!W12))","v":""},{"$f":"IF(休暇希望!X12=\"\",\"\",DATE($F$2,$I$2,休暇希望!X12))","v":""},{"$f":"IF(休暇希望!Y12=\"\",\"\",DATE($F$2,$I$2,休暇希望!Y12))","v":""},{"$f":"IF(休暇希望!Z12=\"\",\"\",DATE($F$2,$I$2,休暇希望!Z12))","v":""},{"$f":"IF(休暇希望!AA12=\"\",\"\",DATE($F$2,$I$2,休暇希望!AA12))","v":""},{"$f":"IF(休暇希望!AB12=\"\",\"\",DATE($F$2,$I$2,休暇希望!AB12))","v":""},{"$f":"IF(休暇希望!AC12=\"\",\"\",DATE($F$2,$I$2,休暇希望!AC12))","v":""},{"$f":"IF(休暇希望!AD12=\"\",\"\",DATE($F$2,$I$2,休暇希望!AD12))","v":""},{"$f":"IF(休暇希望!AE12=\"\",\"\",DATE($F$2,$I$2,休暇希望!AE12))","v":""},{"$f":"IF(休暇希望!AF12=\"\",\"\",DATE($F$2,$I$2,休暇希望!AF12))","v":""},{"$f":"IF(休暇希望!AG12=\"\",\"\",DATE($F$2,$I$2,休暇希望!AG12))","v":""},{"$f":"IF(休暇希望!AH12=\"\",\"\",DATE($F$2,$I$2,休暇希望!AH12))","v":""},{"$f":"IF(休暇希望!AI12=\"\",\"\",DATE($F$2,$I$2,休暇希望!AI12))","v":""}]
[null,"B",7,10,{"$f":"NETWORKDAYS($H$3,$H$4,各種設定!$A$4:$A$22)-COUNTIF(F18:AJ18,\">0\")","v":"1900-01-21"},"","","","","","","","","","","","","","","","","","","","","","","","","","","","","","","",null,{"$f":"IF(休暇希望!E13=\"\",\"\",DATE($F$2,$I$2,休暇希望!E13))","v":""},{"$f":"IF(休暇希望!F13=\"\",\"\",DATE($F$2,$I$2,休暇希望!F13))","v":""},{"$f":"IF(休暇希望!G13=\"\",\"\",DATE($F$2,$I$2,休暇希望!G13))","v":""},{"$f":"IF(休暇希望!H13=\"\",\"\",DATE($F$2,$I$2,休暇希望!H13))","v":""},{"$f":"IF(休暇希望!I13=\"\",\"\",DATE($F$2,$I$2,休暇希望!I13))","v":""},{"$f":"IF(休暇希望!J13=\"\",\"\",DATE($F$2,$I$2,休暇希望!J13))","v":""},{"$f":"IF(休暇希望!K13=\"\",\"\",DATE($F$2,$I$2,休暇希望!K13))","v":""},{"$f":"IF(休暇希望!L13=\"\",\"\",DATE($F$2,$I$2,休暇希望!L13))","v":""},{"$f":"IF(休暇希望!M13=\"\",\"\",DATE($F$2,$I$2,休暇希望!M13))","v":""},{"$f":"IF(休暇希望!N13=\"\",\"\",DATE($F$2,$I$2,休暇希望!N13))","v":""},{"$f":"IF(休暇希望!O13=\"\",\"\",DATE($F$2,$I$2,休暇希望!O13))","v":""},{"$f":"IF(休暇希望!P13=\"\",\"\",DATE($F$2,$I$2,休暇希望!P13))","v":""},{"$f":"IF(休暇希望!Q13=\"\",\"\",DATE($F$2,$I$2,休暇希望!Q13))","v":""},{"$f":"IF(休暇希望!R13=\"\",\"\",DATE($F$2,$I$2,休暇希望!R13))","v":""},{"$f":"IF(休暇希望!S13=\"\",\"\",DATE($F$2,$I$2,休暇希望!S13))","v":""},{"$f":"IF(休暇希望!T13=\"\",\"\",DATE($F$2,$I$2,休暇希望!T13))","v":""},{"$f":"IF(休暇希望!U13=\"\",\"\",DATE($F$2,$I$2,休暇希望!U13))","v":""},{"$f":"IF(休暇希望!V13=\"\",\"\",DATE($F$2,$I$2,休暇希望!V13))","v":""},{"$f":"IF(休暇希望!W13=\"\",\"\",DATE($F$2,$I$2,休暇希望!W13))","v":""},{"$f":"IF(休暇希望!X13=\"\",\"\",DATE($F$2,$I$2,休暇希望!X13))","v":""},{"$f":"IF(休暇希望!Y13=\"\",\"\",DATE($F$2,$I$2,休暇希望!Y13))","v":""},{"$f":"IF(休暇希望!Z13=\"\",\"\",DATE($F$2,$I$2,休暇希望!Z13))","v":""},{"$f":"IF(休暇希望!AA13=\"\",\"\",DATE($F$2,$I$2,休暇希望!AA13))","v":""},{"$f":"IF(休暇希望!AB13=\"\",\"\",DATE($F$2,$I$2,休暇希望!AB13))","v":""},{"$f":"IF(休暇希望!AC13=\"\",\"\",DATE($F$2,$I$2,休暇希望!AC13))","v":""},{"$f":"IF(休暇希望!AD13=\"\",\"\",DATE($F$2,$I$2,休暇希望!AD13))","v":""},{"$f":"IF(休暇希望!AE13=\"\",\"\",DATE($F$2,$I$2,休暇希望!AE13))","v":""},{"$f":"IF(休暇希望!AF13=\"\",\"\",DATE($F$2,$I$2,休暇希望!AF13))","v":""},{"$f":"IF(休暇希望!AG13=\"\",\"\",DATE($F$2,$I$2,休暇希望!AG13))","v":""},{"$f":"IF(休暇希望!AH13=\"\",\"\",DATE($F$2,$I$2,休暇希望!AH13))","v":""},{"$f":"IF(休暇希望!AI13=\"\",\"\",DATE($F$2,$I$2,休暇希望!AI13))","v":""}]
[null,"C",7.5,11,{"$f":"NETWORKDAYS($H$3,$H$4,各種設定!$A$4:$A$22)-COUNTIF(F19:AJ19,\">0\")","v":"1900-01-21"},{"$f":"IF(F$7=\"\",\"\",IF(COUNTIF($AL19:$BP19,F$7)>0,$C19,\"\"))","v":""},"","","","","","","","","",{"$f":"IF(P$7=\"\",\"\",IF(COUNTIF($AL19:$BP19,P$7)>0,$C19,\"\"))","v":""},"","","","","","","","","",{"$f":"IF(Z$7=\"\",\"\",IF(COUNTIF($AL19:$BP19,Z$7)>0,$C19,\"\"))","v":""},"","","","","","","","","","",null,{"$f":"IF(休暇希望!E14=\"\",\"\",DATE($F$2,$I$2,休暇希望!E14))","v":""},{"$f":"IF(休暇希望!F14=\"\",\"\",DATE($F$2,$I$2,休暇希望!F14))","v":""},{"$f":"IF(休暇希望!G14=\"\",\"\",DATE($F$2,$I$2,休暇希望!G14))","v":""},{"$f":"IF(休暇希望!H14=\"\",\"\",DATE($F$2,$I$2,休暇希望!H14))","v":""},{"$f":"IF(休暇希望!I14=\"\",\"\",DATE($F$2,$I$2,休暇希望!I14))","v":""},{"$f":"IF(休暇希望!J14=\"\",\"\",DATE($F$2,$I$2,休暇希望!J14))","v":""},{"$f":"IF(休暇希望!K14=\"\",\"\",DATE($F$2,$I$2,休暇希望!K14))","v":""},{"$f":"IF(休暇希望!L14=\"\",\"\",DATE($F$2,$I$2,休暇希望!L14))","v":""},{"$f":"IF(休暇希望!M14=\"\",\"\",DATE($F$2,$I$2,休暇希望!M14))","v":""},{"$f":"IF(休暇希望!N14=\"\",\"\",DATE($F$2,$I$2,休暇希望!N14))","v":""},{"$f":"IF(休暇希望!O14=\"\",\"\",DATE($F$2,$I$2,休暇希望!O14))","v":""},{"$f":"IF(休暇希望!P14=\"\",\"\",DATE($F$2,$I$2,休暇希望!P14))","v":""},{"$f":"IF(休暇希望!Q14=\"\",\"\",DATE($F$2,$I$2,休暇希望!Q14))","v":""},{"$f":"IF(休暇希望!R14=\"\",\"\",DATE($F$2,$I$2,休暇希望!R14))","v":""},{"$f":"IF(休暇希望!S14=\"\",\"\",DATE($F$2,$I$2,休暇希望!S14))","v":""},{"$f":"IF(休暇希望!T14=\"\",\"\",DATE($F$2,$I$2,休暇希望!T14))","v":""},{"$f":"IF(休暇希望!U14=\"\",\"\",DATE($F$2,$I$2,休暇希望!U14))","v":""},{"$f":"IF(休暇希望!V14=\"\",\"\",DATE($F$2,$I$2,休暇希望!V14))","v":""},{"$f":"IF(休暇希望!W14=\"\",\"\",DATE($F$2,$I$2,休暇希望!W14))","v":""},{"$f":"IF(休暇希望!X14=\"\",\"\",DATE($F$2,$I$2,休暇希望!X14))","v":""},{"$f":"IF(休暇希望!Y14=\"\",\"\",DATE($F$2,$I$2,休暇希望!Y14))","v":""},{"$f":"IF(休暇希望!Z14=\"\",\"\",DATE($F$2,$I$2,休暇希望!Z14))","v":""},{"$f":"IF(休暇希望!AA14=\"\",\"\",DATE($F$2,$I$2,休暇希望!AA14))","v":""},{"$f":"IF(休暇希望!AB14=\"\",\"\",DATE($F$2,$I$2,休暇希望!AB14))","v":""},{"$f":"IF(休暇希望!AC14=\"\",\"\",DATE($F$2,$I$2,休暇希望!AC14))","v":""},{"$f":"IF(休暇希望!AD14=\"\",\"\",DATE($F$2,$I$2,休暇希望!AD14))","v":""},{"$f":"IF(休暇希望!AE14=\"\",\"\",DATE($F$2,$I$2,休暇希望!AE14))","v":""},{"$f":"IF(休暇希望!AF14=\"\",\"\",DATE($F$2,$I$2,休暇希望!AF14))","v":""},{"$f":"IF(休暇希望!AG14=\"\",\"\",DATE($F$2,$I$2,休暇希望!AG14))","v":""},{"$f":"IF(休暇希望!AH14=\"\",\"\",DATE($F$2,$I$2,休暇希望!AH14))","v":""},{"$f":"IF(休暇希望!AI14=\"\",\"\",DATE($F$2,$I$2,休暇希望!AI14))","v":""}]
[null,"C",7.5,12,{"$f":"NETWORKDAYS($H$3,$H$4,各種設定!$A$4:$A$22)-COUNTIF(F20:AJ20,\">0\")","v":"1900-01-21"},"","","","","","","","","","","","","","","","","","","","","","","","","","","","","","","",null,{"$f":"IF(休暇希望!E15=\"\",\"\",DATE($F$2,$I$2,休暇希望!E15))","v":""},{"$f":"IF(休暇希望!F15=\"\",\"\",DATE($F$2,$I$2,休暇希望!F15))","v":""},{"$f":"IF(休暇希望!G15=\"\",\"\",DATE($F$2,$I$2,休暇希望!G15))","v":""},{"$f":"IF(休暇希望!H15=\"\",\"\",DATE($F$2,$I$2,休暇希望!H15))","v":""},{"$f":"IF(休暇希望!I15=\"\",\"\",DATE($F$2,$I$2,休暇希望!I15))","v":""},{"$f":"IF(休暇希望!J15=\"\",\"\",DATE($F$2,$I$2,休暇希望!J15))","v":""},{"$f":"IF(休暇希望!K15=\"\",\"\",DATE($F$2,$I$2,休暇希望!K15))","v":""},{"$f":"IF(休暇希望!L15=\"\",\"\",DATE($F$2,$I$2,休暇希望!L15))","v":""},{"$f":"IF(休暇希望!M15=\"\",\"\",DATE($F$2,$I$2,休暇希望!M15))","v":""},{"$f":"IF(休暇希望!N15=\"\",\"\",DATE($F$2,$I$2,休暇希望!N15))","v":""},{"$f":"IF(休暇希望!O15=\"\",\"\",DATE($F$2,$I$2,休暇希望!O15))","v":""},{"$f":"IF(休暇希望!P15=\"\",\"\",DATE($F$2,$I$2,休暇希望!P15))","v":""},{"$f":"IF(休暇希望!Q15=\"\",\"\",DATE($F$2,$I$2,休暇希望!Q15))","v":""},{"$f":"IF(休暇希望!R15=\"\",\"\",DATE($F$2,$I$2,休暇希望!R15))","v":""},{"$f":"IF(休暇希望!S15=\"\",\"\",DATE($F$2,$I$2,休暇希望!S15))","v":""},{"$f":"IF(休暇希望!T15=\"\",\"\",DATE($F$2,$I$2,休暇希望!T15))","v":""},{"$f":"IF(休暇希望!U15=\"\",\"\",DATE($F$2,$I$2,休暇希望!U15))","v":""},{"$f":"IF(休暇希望!V15=\"\",\"\",DATE($F$2,$I$2,休暇希望!V15))","v":""},{"$f":"IF(休暇希望!W15=\"\",\"\",DATE($F$2,$I$2,休暇希望!W15))","v":""},{"$f":"IF(休暇希望!X15=\"\",\"\",DATE($F$2,$I$2,休暇希望!X15))","v":""},{"$f":"IF(休暇希望!Y15=\"\",\"\",DATE($F$2,$I$2,休暇希望!Y15))","v":""},{"$f":"IF(休暇希望!Z15=\"\",\"\",DATE($F$2,$I$2,休暇希望!Z15))","v":""},{"$f":"IF(休暇希望!AA15=\"\",\"\",DATE($F$2,$I$2,休暇希望!AA15))","v":""},{"$f":"IF(休暇希望!AB15=\"\",\"\",DATE($F$2,$I$2,休暇希望!AB15))","v":""},{"$f":"IF(休暇希望!AC15=\"\",\"\",DATE($F$2,$I$2,休暇希望!AC15))","v":""},{"$f":"IF(休暇希望!AD15=\"\",\"\",DATE($F$2,$I$2,休暇希望!AD15))","v":""},{"$f":"IF(休暇希望!AE15=\"\",\"\",DATE($F$2,$I$2,休暇希望!AE15))","v":""},{"$f":"IF(休暇希望!AF15=\"\",\"\",DATE($F$2,$I$2,休暇希望!AF15))","v":""},{"$f":"IF(休暇希望!AG15=\"\",\"\",DATE($F$2,$I$2,休暇希望!AG15))","v":""},{"$f":"IF(休暇希望!AH15=\"\",\"\",DATE($F$2,$I$2,休暇希望!AH15))","v":""},{"$f":"IF(休暇希望!AI15=\"\",\"\",DATE($F$2,$I$2,休暇希望!AI15))","v":""}]
[null,"C",7.5,13,{"$f":"NETWORKDAYS($H$3,$H$4,各種設定!$A$4:$A$22)-COUNTIF(F21:AJ21,\">0\")","v":"1900-01-21"},"","","","","","","","","","","","","","","","","","","","","","","","","","","","","","","",null,{"$f":"IF(休暇希望!E16=\"\",\"\",DATE($F$2,$I$2,休暇希望!E16))","v":""},{"$f":"IF(休暇希望!F16=\"\",\"\",DATE($F$2,$I$2,休暇希望!F16))","v":""},{"$f":"IF(休暇希望!G16=\"\",\"\",DATE($F$2,$I$2,休暇希望!G16))","v":""},{"$f":"IF(休暇希望!H16=\"\",\"\",DATE($F$2,$I$2,休暇希望!H16))","v":""},{"$f":"IF(休暇希望!I16=\"\",\"\",DATE($F$2,$I$2,休暇希望!I16))","v":""},{"$f":"IF(休暇希望!J16=\"\",\"\",DATE($F$2,$I$2,休暇希望!J16))","v":""},{"$f":"IF(休暇希望!K16=\"\",\"\",DATE($F$2,$I$2,休暇希望!K16))","v":""},{"$f":"IF(休暇希望!L16=\"\",\"\",DATE($F$2,$I$2,休暇希望!L16))","v":""},{"$f":"IF(休暇希望!M16=\"\",\"\",DATE($F$2,$I$2,休暇希望!M16))","v":""},{"$f":"IF(休暇希望!N16=\"\",\"\",DATE($F$2,$I$2,休暇希望!N16))","v":""},{"$f":"IF(休暇希望!O16=\"\",\"\",DATE($F$2,$I$2,休暇希望!O16))","v":""},{"$f":"IF(休暇希望!P16=\"\",\"\",DATE($F$2,$I$2,休暇希望!P16))","v":""},{"$f":"IF(休暇希望!Q16=\"\",\"\",DATE($F$2,$I$2,休暇希望!Q16))","v":""},{"$f":"IF(休暇希望!R16=\"\",\"\",DATE($F$2,$I$2,休暇希望!R16))","v":""},{"$f":"IF(休暇希望!S16=\"\",\"\",DATE($F$2,$I$2,休暇希望!S16))","v":""},{"$f":"IF(休暇希望!T16=\"\",\"\",DATE($F$2,$I$2,休暇希望!T16))","v":""},{"$f":"IF(休暇希望!U16=\"\",\"\",DATE($F$2,$I$2,休暇希望!U16))","v":""},{"$f":"IF(休暇希望!V16=\"\",\"\",DATE($F$2,$I$2,休暇希望!V16))","v":""},{"$f":"IF(休暇希望!W16=\"\",\"\",DATE($F$2,$I$2,休暇希望!W16))","v":""},{"$f":"IF(休暇希望!X16=\"\",\"\",DATE($F$2,$I$2,休暇希望!X16))","v":""},{"$f":"IF(休暇希望!Y16=\"\",\"\",DATE($F$2,$I$2,休暇希望!Y16))","v":""},{"$f":"IF(休暇希望!Z16=\"\",\"\",DATE($F$2,$I$2,休暇希望!Z16))","v":""},{"$f":"IF(休暇希望!AA16=\"\",\"\",DATE($F$2,$I$2,休暇希望!AA16))","v":""},{"$f":"IF(休暇希望!AB16=\"\",\"\",DATE($F$2,$I$2,休暇希望!AB16))","v":""},{"$f":"IF(休暇希望!AC16=\"\",\"\",DATE($F$2,$I$2,休暇希望!AC16))","v":""},{"$f":"IF(休暇希望!AD16=\"\",\"\",DATE($F$2,$I$2,休暇希望!AD16))","v":""},{"$f":"IF(休暇希望!AE16=\"\",\"\",DATE($F$2,$I$2,休暇希望!AE16))","v":""},{"$f":"IF(休暇希望!AF16=\"\",\"\",DATE($F$2,$I$2,休暇希望!AF16))","v":""},{"$f":"IF(休暇希望!AG16=\"\",\"\",DATE($F$2,$I$2,休暇希望!AG16))","v":""},{"$f":"IF(休暇希望!AH16=\"\",\"\",DATE($F$2,$I$2,休暇希望!AH16))","v":""},{"$f":"IF(休暇希望!AI16=\"\",\"\",DATE($F$2,$I$2,休暇希望!AI16))","v":""}]
[null,"C",7.5,14,{"$f":"NETWORKDAYS($H$3,$H$4,各種設定!$A$4:$A$22)-COUNTIF(F22:AJ22,\">0\")","v":"1900-01-21"},"","","","","","","","","","","","","","","","","","","","","","","","","","","","","","","",null,{"$f":"IF(休暇希望!E17=\"\",\"\",DATE($F$2,$I$2,休暇希望!E17))","v":""},{"$f":"IF(休暇希望!F17=\"\",\"\",DATE($F$2,$I$2,休暇希望!F17))","v":""},{"$f":"IF(休暇希望!G17=\"\",\"\",DATE($F$2,$I$2,休暇希望!G17))","v":""},{"$f":"IF(休暇希望!H17=\"\",\"\",DATE($F$2,$I$2,休暇希望!H17))","v":""},{"$f":"IF(休暇希望!I17=\"\",\"\",DATE($F$2,$I$2,休暇希望!I17))","v":""},{"$f":"IF(休暇希望!J17=\"\",\"\",DATE($F$2,$I$2,休暇希望!J17))","v":""},{"$f":"IF(休暇希望!K17=\"\",\"\",DATE($F$2,$I$2,休暇希望!K17))","v":""},{"$f":"IF(休暇希望!L17=\"\",\"\",DATE($F$2,$I$2,休暇希望!L17))","v":""},{"$f":"IF(休暇希望!M17=\"\",\"\",DATE($F$2,$I$2,休暇希望!M17))","v":""},{"$f":"IF(休暇希望!N17=\"\",\"\",DATE($F$2,$I$2,休暇希望!N17))","v":""},{"$f":"IF(休暇希望!O17=\"\",\"\",DATE($F$2,$I$2,休暇希望!O17))","v":""},{"$f":"IF(休暇希望!P17=\"\",\"\",DATE($F$2,$I$2,休暇希望!P17))","v":""},{"$f":"IF(休暇希望!Q17=\"\",\"\",DATE($F$2,$I$2,休暇希望!Q17))","v":""},{"$f":"IF(休暇希望!R17=\"\",\"\",DATE($F$2,$I$2,休暇希望!R17))","v":""},{"$f":"IF(休暇希望!S17=\"\",\"\",DATE($F$2,$I$2,休暇希望!S17))","v":""},{"$f":"IF(休暇希望!T17=\"\",\"\",DATE($F$2,$I$2,休暇希望!T17))","v":""},{"$f":"IF(休暇希望!U17=\"\",\"\",DATE($F$2,$I$2,休暇希望!U17))","v":""},{"$f":"IF(休暇希望!V17=\"\",\"\",DATE($F$2,$I$2,休暇希望!V17))","v":""},{"$f":"IF(休暇希望!W17=\"\",\"\",DATE($F$2,$I$2,休暇希望!W17))","v":""},{"$f":"IF(休暇希望!X17=\"\",\"\",DATE($F$2,$I$2,休暇希望!X17))","v":""},{"$f":"IF(休暇希望!Y17=\"\",\"\",DATE($F$2,$I$2,休暇希望!Y17))","v":""},{"$f":"IF(休暇希望!Z17=\"\",\"\",DATE($F$2,$I$2,休暇希望!Z17))","v":""},{"$f":"IF(休暇希望!AA17=\"\",\"\",DATE($F$2,$I$2,休暇希望!AA17))","v":""},{"$f":"IF(休暇希望!AB17=\"\",\"\",DATE($F$2,$I$2,休暇希望!AB17))","v":""},{"$f":"IF(休暇希望!AC17=\"\",\"\",DATE($F$2,$I$2,休暇希望!AC17))","v":""},{"$f":"IF(休暇希望!AD17=\"\",\"\",DATE($F$2,$I$2,休暇希望!AD17))","v":""},{"$f":"IF(休暇希望!AE17=\"\",\"\",DATE($F$2,$I$2,休暇希望!AE17))","v":""},{"$f":"IF(休暇希望!AF17=\"\",\"\",DATE($F$2,$I$2,休暇希望!AF17))","v":""},{"$f":"IF(休暇希望!AG17=\"\",\"\",DATE($F$2,$I$2,休暇希望!AG17))","v":""},{"$f":"IF(休暇希望!AH17=\"\",\"\",DATE($F$2,$I$2,休暇希望!AH17))","v":""},{"$f":"IF(休暇希望!AI17=\"\",\"\",DATE($F$2,$I$2,休暇希望!AI17))","v":""}]
[null,"C",7.5,15,{"$f":"NETWORKDAYS($H$3,$H$4,各種設定!$A$4:$A$22)-COUNTIF(F23:AJ23,\">0\")","v":"1900-01-21"},"","","","","","","","","","","","","","","","","","","","","","","","","","","","","","","",null,{"$f":"IF(休暇希望!E18=\"\",\"\",DATE($F$2,$I$2,休暇希望!E18))","v":""},{"$f":"IF(休暇希望!F18=\"\",\"\",DATE($F$2,$I$2,休暇希望!F18))","v":""},{"$f":"IF(休暇希望!G18=\"\",\"\",DATE($F$2,$I$2,休暇希望!G18))","v":""},{"$f":"IF(休暇希望!H18=\"\",\"\",DATE($F$2,$I$2,休暇希望!H18))","v":""},{"$f":"IF(休暇希望!I18=\"\",\"\",DATE($F$2,$I$2,休暇希望!I18))","v":""},{"$f":"IF(休暇希望!J18=\"\",\"\",DATE($F$2,$I$2,休暇希望!J18))","v":""},{"$f":"IF(休暇希望!K18=\"\",\"\",DATE($F$2,$I$2,休暇希望!K18))","v":""},{"$f":"IF(休暇希望!L18=\"\",\"\",DATE($F$2,$I$2,休暇希望!L18))","v":""},{"$f":"IF(休暇希望!M18=\"\",\"\",DATE($F$2,$I$2,休暇希望!M18))","v":""},{"$f":"IF(休暇希望!N18=\"\",\"\",DATE($F$2,$I$2,休暇希望!N18))","v":""},{"$f":"IF(休暇希望!O18=\"\",\"\",DATE($F$2,$I$2,休暇希望!O18))","v":""},{"$f":"IF(休暇希望!P18=\"\",\"\",DATE($F$2,$I$2,休暇希望!P18))","v":""},{"$f":"IF(休暇希望!Q18=\"\",\"\",DATE($F$2,$I$2,休暇希望!Q18))","v":""},{"$f":"IF(休暇希望!R18=\"\",\"\",DATE($F$2,$I$2,休暇希望!R18))","v":""},{"$f":"IF(休暇希望!S18=\"\",\"\",DATE($F$2,$I$2,休暇希望!S18))","v":""},{"$f":"IF(休暇希望!T18=\"\",\"\",DATE($F$2,$I$2,休暇希望!T18))","v":""},{"$f":"IF(休暇希望!U18=\"\",\"\",DATE($F$2,$I$2,休暇希望!U18))","v":""},{"$f":"IF(休暇希望!V18=\"\",\"\",DATE($F$2,$I$2,休暇希望!V18))","v":""},{"$f":"IF(休暇希望!W18=\"\",\"\",DATE($F$2,$I$2,休暇希望!W18))","v":""},{"$f":"IF(休暇希望!X18=\"\",\"\",DATE($F$2,$I$2,休暇希望!X18))","v":""},{"$f":"IF(休暇希望!Y18=\"\",\"\",DATE($F$2,$I$2,休暇希望!Y18))","v":""},{"$f":"IF(休暇希望!Z18=\"\",\"\",DATE($F$2,$I$2,休暇希望!Z18))","v":""},{"$f":"IF(休暇希望!AA18=\"\",\"\",DATE($F$2,$I$2,休暇希望!AA18))","v":""},{"$f":"IF(休暇希望!AB18=\"\",\"\",DATE($F$2,$I$2,休暇希望!AB18))","v":""},{"$f":"IF(休暇希望!AC18=\"\",\"\",DATE($F$2,$I$2,休暇希望!AC18))","v":""},{"$f":"IF(休暇希望!AD18=\"\",\"\",DATE($F$2,$I$2,休暇希望!AD18))","v":""},{"$f":"IF(休暇希望!AE18=\"\",\"\",DATE($F$2,$I$2,休暇希望!AE18))","v":""},{"$f":"IF(休暇希望!AF18=\"\",\"\",DATE($F$2,$I$2,休暇希望!AF18))","v":""},{"$f":"IF(休暇希望!AG18=\"\",\"\",DATE($F$2,$I$2,休暇希望!AG18))","v":""},{"$f":"IF(休暇希望!AH18=\"\",\"\",DATE($F$2,$I$2,休暇希望!AH18))","v":""},{"$f":"IF(休暇希望!AI18=\"\",\"\",DATE($F$2,$I$2,休暇希望!AI18))","v":""}]
[null,"D",{"$f":"_xlfn.SWITCH($B24,\"A\",$Q$3,\"B\",$R$3,\"C\",$S$3,\"D\",$T$3,\"E\",$U$3,)","v":5.25},16,{"$f":"NETWORKDAYS($H$3,$H$4,各種設定!$A$4:$A$22)-COUNTIF(F24:AJ24,\">0\")","v":"1900-01-21"},"","","","","","","","","","","","","","","","","","","","","","","","","","","","","","","",null,{"$f":"IF(休暇希望!E19=\"\",\"\",DATE($F$2,$I$2,休暇希望!E19))","v":""},{"$f":"IF(休暇希望!F19=\"\",\"\",DATE($F$2,$I$2,休暇希望!F19))","v":""},{"$f":"IF(休暇希望!G19=\"\",\"\",DATE($F$2,$I$2,休暇希望!G19))","v":""},{"$f":"IF(休暇希望!H19=\"\",\"\",DATE($F$2,$I$2,休暇希望!H19))","v":""},{"$f":"IF(休暇希望!I19=\"\",\"\",DATE($F$2,$I$2,休暇希望!I19))","v":""},{"$f":"IF(休暇希望!J19=\"\",\"\",DATE($F$2,$I$2,休暇希望!J19))","v":""},{"$f":"IF(休暇希望!K19=\"\",\"\",DATE($F$2,$I$2,休暇希望!K19))","v":""},{"$f":"IF(休暇希望!L19=\"\",\"\",DATE($F$2,$I$2,休暇希望!L19))","v":""},{"$f":"IF(休暇希望!M19=\"\",\"\",DATE($F$2,$I$2,休暇希望!M19))","v":""},{"$f":"IF(休暇希望!N19=\"\",\"\",DATE($F$2,$I$2,休暇希望!N19))","v":""},{"$f":"IF(休暇希望!O19=\"\",\"\",DATE($F$2,$I$2,休暇希望!O19))","v":""},{"$f":"IF(休暇希望!P19=\"\",\"\",DATE($F$2,$I$2,休暇希望!P19))","v":""},{"$f":"IF(休暇希望!Q19=\"\",\"\",DATE($F$2,$I$2,休暇希望!Q19))","v":""},{"$f":"IF(休暇希望!R19=\"\",\"\",DATE($F$2,$I$2,休暇希望!R19))","v":""},{"$f":"IF(休暇希望!S19=\"\",\"\",DATE($F$2,$I$2,休暇希望!S19))","v":""},{"$f":"IF(休暇希望!T19=\"\",\"\",DATE($F$2,$I$2,休暇希望!T19))","v":""},{"$f":"IF(休暇希望!U19=\"\",\"\",DATE($F$2,$I$2,休暇希望!U19))","v":""},{"$f":"IF(休暇希望!V19=\"\",\"\",DATE($F$2,$I$2,休暇希望!V19))","v":""},{"$f":"IF(休暇希望!W19=\"\",\"\",DATE($F$2,$I$2,休暇希望!W19))","v":""},{"$f":"IF(休暇希望!X19=\"\",\"\",DATE($F$2,$I$2,休暇希望!X19))","v":""},{"$f":"IF(休暇希望!Y19=\"\",\"\",DATE($F$2,$I$2,休暇希望!Y19))","v":""},{"$f":"IF(休暇希望!Z19=\"\",\"\",DATE($F$2,$I$2,休暇希望!Z19))","v":""},{"$f":"IF(休暇希望!AA19=\"\",\"\",DATE($F$2,$I$2,休暇希望!AA19))","v":""},{"$f":"IF(休暇希望!AB19=\"\",\"\",DATE($F$2,$I$2,休暇希望!AB19))","v":""},{"$f":"IF(休暇希望!AC19=\"\",\"\",DATE($F$2,$I$2,休暇希望!AC19))","v":""},{"$f":"IF(休暇希望!AD19=\"\",\"\",DATE($F$2,$I$2,休暇希望!AD19))","v":""},{"$f":"IF(休暇希望!AE19=\"\",\"\",DATE($F$2,$I$2,休暇希望!AE19))","v":""},{"$f":"IF(休暇希望!AF19=\"\",\"\",DATE($F$2,$I$2,休暇希望!AF19))","v":""},{"$f":"IF(休暇希望!AG19=\"\",\"\",DATE($F$2,$I$2,休暇希望!AG19))","v":""},{"$f":"IF(休暇希望!AH19=\"\",\"\",DATE($F$2,$I$2,休暇希望!AH19))","v":""},{"$f":"IF(休暇希望!AI19=\"\",\"\",DATE($F$2,$I$2,休暇希望!AI19))","v":""}]
[null,"D",{"$f":"_xlfn.SWITCH($B25,\"A\",$Q$3,\"B\",$R$3,\"C\",$S$3,\"D\",$T$3,\"E\",$U$3,)","v":5.25},17,{"$f":"NETWORKDAYS($H$3,$H$4,各種設定!$A$4:$A$22)-COUNTIF(F25:AJ25,\">0\")","v":"1900-01-21"},"","","","","","","","","","","","","","","","","","","","","","","","","","","","","","","",null,{"$f":"IF(休暇希望!E20=\"\",\"\",DATE($F$2,$I$2,休暇希望!E20))","v":""},{"$f":"IF(休暇希望!F20=\"\",\"\",DATE($F$2,$I$2,休暇希望!F20))","v":""},{"$f":"IF(休暇希望!G20=\"\",\"\",DATE($F$2,$I$2,休暇希望!G20))","v":""},{"$f":"IF(休暇希望!H20=\"\",\"\",DATE($F$2,$I$2,休暇希望!H20))","v":""},{"$f":"IF(休暇希望!I20=\"\",\"\",DATE($F$2,$I$2,休暇希望!I20))","v":""},{"$f":"IF(休暇希望!J20=\"\",\"\",DATE($F$2,$I$2,休暇希望!J20))","v":""},{"$f":"IF(休暇希望!K20=\"\",\"\",DATE($F$2,$I$2,休暇希望!K20))","v":""},{"$f":"IF(休暇希望!L20=\"\",\"\",DATE($F$2,$I$2,休暇希望!L20))","v":""},{"$f":"IF(休暇希望!M20=\"\",\"\",DATE($F$2,$I$2,休暇希望!M20))","v":""},{"$f":"IF(休暇希望!N20=\"\",\"\",DATE($F$2,$I$2,休暇希望!N20))","v":""},{"$f":"IF(休暇希望!O20=\"\",\"\",DATE($F$2,$I$2,休暇希望!O20))","v":""},{"$f":"IF(休暇希望!P20=\"\",\"\",DATE($F$2,$I$2,休暇希望!P20))","v":""},{"$f":"IF(休暇希望!Q20=\"\",\"\",DATE($F$2,$I$2,休暇希望!Q20))","v":""},{"$f":"IF(休暇希望!R20=\"\",\"\",DATE($F$2,$I$2,休暇希望!R20))","v":""},{"$f":"IF(休暇希望!S20=\"\",\"\",DATE($F$2,$I$2,休暇希望!S20))","v":""},{"$f":"IF(休暇希望!T20=\"\",\"\",DATE($F$2,$I$2,休暇希望!T20))","v":""},{"$f":"IF(休暇希望!U20=\"\",\"\",DATE($F$2,$I$2,休暇希望!U20))","v":""},{"$f":"IF(休暇希望!V20=\"\",\"\",DATE($F$2,$I$2,休暇希望!V20))","v":""},{"$f":"IF(休暇希望!W20=\"\",\"\",DATE($F$2,$I$2,休暇希望!W20))","v":""},{"$f":"IF(休暇希望!X20=\"\",\"\",DATE($F$2,$I$2,休暇希望!X20))","v":""},{"$f":"IF(休暇希望!Y20=\"\",\"\",DATE($F$2,$I$2,休暇希望!Y20))","v":""},{"$f":"IF(休暇希望!Z20=\"\",\"\",DATE($F$2,$I$2,休暇希望!Z20))","v":""},{"$f":"IF(休暇希望!AA20=\"\",\"\",DATE($F$2,$I$2,休暇希望!AA20))","v":""},{"$f":"IF(休暇希望!AB20=\"\",\"\",DATE($F$2,$I$2,休暇希望!AB20))","v":""},{"$f":"IF(休暇希望!AC20=\"\",\"\",DATE($F$2,$I$2,休暇希望!AC20))","v":""},{"$f":"IF(休暇希望!AD20=\"\",\"\",DATE($F$2,$I$2,休暇希望!AD20))","v":""},{"$f":"IF(休暇希望!AE20=\"\",\"\",DATE($F$2,$I$2,休暇希望!AE20))","v":""},{"$f":"IF(休暇希望!AF20=\"\",\"\",DATE($F$2,$I$2,休暇希望!AF20))","v":""},{"$f":"IF(休暇希望!AG20=\"\",\"\",DATE($F$2,$I$2,休暇希望!AG20))","v":""},{"$f":"IF(休暇希望!AH20=\"\",\"\",DATE($F$2,$I$2,休暇希望!AH20))","v":""},{"$f":"IF(休暇希望!AI20=\"\",\"\",DATE($F$2,$I$2,休暇希望!AI20))","v":""}]
[null,"D",{"$f":"_xlfn.SWITCH($B26,\"A\",$Q$3,\"B\",$R$3,\"C\",$S$3,\"D\",$T$3,\"E\",$U$3,)","v":5.25},18,{"$f":"NETWORKDAYS($H$3,$H$4,各種設定!$A$4:$A$22)-COUNTIF(F26:AJ26,\">0\")","v":"1900-01-21"},"","","","","","","","","","","","","","","","","","","","","","","","","","","","","","","",null,{"$f":"IF(休暇希望!E21=\"\",\"\",DATE($F$2,$I$2,休暇希望!E21))","v":""},{"$f":"IF(休暇希望!F21=\"\",\"\",DATE($F$2,$I$2,休暇希望!F21))","v":""},{"$f":"IF(休暇希望!G21=\"\",\"\",DATE($F$2,$I$2,休暇希望!G21))","v":""},{"$f":"IF(休暇希望!H21=\"\",\"\",DATE($F$2,$I$2,休暇希望!H21))","v":""},{"$f":"IF(休暇希望!I21=\"\",\"\",DATE($F$2,$I$2,休暇希望!I21))","v":""},{"$f":"IF(休暇希望!J21=\"\",\"\",DATE($F$2,$I$2,休暇希望!J21))","v":""},{"$f":"IF(休暇希望!K21=\"\",\"\",DATE($F$2,$I$2,休暇希望!K21))","v":""},{"$f":"IF(休暇希望!L21=\"\",\"\",DATE($F$2,$I$2,休暇希望!L21))","v":""},{"$f":"IF(休暇希望!M21=\"\",\"\",DATE($F$2,$I$2,休暇希望!M21))","v":""},{"$f":"IF(休暇希望!N21=\"\",\"\",DATE($F$2,$I$2,休暇希望!N21))","v":""},{"$f":"IF(休暇希望!O21=\"\",\"\",DATE($F$2,$I$2,休暇希望!O21))","v":""},{"$f":"IF(休暇希望!P21=\"\",\"\",DATE($F$2,$I$2,休暇希望!P21))","v":""},{"$f":"IF(休暇希望!Q21=\"\",\"\",DATE($F$2,$I$2,休暇希望!Q21))","v":""},{"$f":"IF(休暇希望!R21=\"\",\"\",DATE($F$2,$I$2,休暇希望!R21))","v":""},{"$f":"IF(休暇希望!S21=\"\",\"\",DATE($F$2,$I$2,休暇希望!S21))","v":""},{"$f":"IF(休暇希望!T21=\"\",\"\",DATE($F$2,$I$2,休暇希望!T21))","v":""},{"$f":"IF(休暇希望!U21=\"\",\"\",DATE($F$2,$I$2,休暇希望!U21))","v":""},{"$f":"IF(休暇希望!V21=\"\",\"\",DATE($F$2,$I$2,休暇希望!V21))","v":""},{"$f":"IF(休暇希望!W21=\"\",\"\",DATE($F$2,$I$2,休暇希望!W21))","v":""},{"$f":"IF(休暇希望!X21=\"\",\"\",DATE($F$2,$I$2,休暇希望!X21))","v":""},{"$f":"IF(休暇希望!Y21=\"\",\"\",DATE($F$2,$I$2,休暇希望!Y21))","v":""},{"$f":"IF(休暇希望!Z21=\"\",\"\",DATE($F$2,$I$2,休暇希望!Z21))","v":""},{"$f":"IF(休暇希望!AA21=\"\",\"\",DATE($F$2,$I$2,休暇希望!AA21))","v":""},{"$f":"IF(休暇希望!AB21=\"\",\"\",DATE($F$2,$I$2,休暇希望!AB21))","v":""},{"$f":"IF(休暇希望!AC21=\"\",\"\",DATE($F$2,$I$2,休暇希望!AC21))","v":""},{"$f":"IF(休暇希望!AD21=\"\",\"\",DATE($F$2,$I$2,休暇希望!AD21))","v":""},{"$f":"IF(休暇希望!AE21=\"\",\"\",DATE($F$2,$I$2,休暇希望!AE21))","v":""},{"$f":"IF(休暇希望!AF21=\"\",\"\",DATE($F$2,$I$2,休暇希望!AF21))","v":""},{"$f":"IF(休暇希望!AG21=\"\",\"\",DATE($F$2,$I$2,休暇希望!AG21))","v":""},{"$f":"IF(休暇希望!AH21=\"\",\"\",DATE($F$2,$I$2,休暇希望!AH21))","v":""},{"$f":"IF(休暇希望!AI21=\"\",\"\",DATE($F$2,$I$2,休暇希望!AI21))","v":""}]
[null,"D",5.25,19,{"$f":"NETWORKDAYS($H$3,$H$4,各種設定!$A$4:$A$22)-COUNTIF(F27:AJ27,\">0\")","v":"1900-01-21"},"","","","","","","","","","","","","","","","","","","","","","","","","","","","","","","",null,{"$f":"IF(休暇希望!E22=\"\",\"\",DATE($F$2,$I$2,休暇希望!E22))","v":""},{"$f":"IF(休暇希望!F22=\"\",\"\",DATE($F$2,$I$2,休暇希望!F22))","v":""},{"$f":"IF(休暇希望!G22=\"\",\"\",DATE($F$2,$I$2,休暇希望!G22))","v":""},{"$f":"IF(休暇希望!H22=\"\",\"\",DATE($F$2,$I$2,休暇希望!H22))","v":""},{"$f":"IF(休暇希望!I22=\"\",\"\",DATE($F$2,$I$2,休暇希望!I22))","v":""},{"$f":"IF(休暇希望!J22=\"\",\"\",DATE($F$2,$I$2,休暇希望!J22))","v":""},{"$f":"IF(休暇希望!K22=\"\",\"\",DATE($F$2,$I$2,休暇希望!K22))","v":""},{"$f":"IF(休暇希望!L22=\"\",\"\",DATE($F$2,$I$2,休暇希望!L22))","v":""},{"$f":"IF(休暇希望!M22=\"\",\"\",DATE($F$2,$I$2,休暇希望!M22))","v":""},{"$f":"IF(休暇希望!N22=\"\",\"\",DATE($F$2,$I$2,休暇希望!N22))","v":""},{"$f":"IF(休暇希望!O22=\"\",\"\",DATE($F$2,$I$2,休暇希望!O22))","v":""},{"$f":"IF(休暇希望!P22=\"\",\"\",DATE($F$2,$I$2,休暇希望!P22))","v":""},{"$f":"IF(休暇希望!Q22=\"\",\"\",DATE($F$2,$I$2,休暇希望!Q22))","v":""},{"$f":"IF(休暇希望!R22=\"\",\"\",DATE($F$2,$I$2,休暇希望!R22))","v":""},{"$f":"IF(休暇希望!S22=\"\",\"\",DATE($F$2,$I$2,休暇希望!S22))","v":""},{"$f":"IF(休暇希望!T22=\"\",\"\",DATE($F$2,$I$2,休暇希望!T22))","v":""},{"$f":"IF(休暇希望!U22=\"\",\"\",DATE($F$2,$I$2,休暇希望!U22))","v":""},{"$f":"IF(休暇希望!V22=\"\",\"\",DATE($F$2,$I$2,休暇希望!V22))","v":""},{"$f":"IF(休暇希望!W22=\"\",\"\",DATE($F$2,$I$2,休暇希望!W22))","v":""},{"$f":"IF(休暇希望!X22=\"\",\"\",DATE($F$2,$I$2,休暇希望!X22))","v":""},{"$f":"IF(休暇希望!Y22=\"\",\"\",DATE($F$2,$I$2,休暇希望!Y22))","v":""},{"$f":"IF(休暇希望!Z22=\"\",\"\",DATE($F$2,$I$2,休暇希望!Z22))","v":""},{"$f":"IF(休暇希望!AA22=\"\",\"\",DATE($F$2,$I$2,休暇希望!AA22))","v":""},{"$f":"IF(休暇希望!AB22=\"\",\"\",DATE($F$2,$I$2,休暇希望!AB22))","v":""},{"$f":"IF(休暇希望!AC22=\"\",\"\",DATE($F$2,$I$2,休暇希望!AC22))","v":""},{"$f":"IF(休暇希望!AD22=\"\",\"\",DATE($F$2,$I$2,休暇希望!AD22))","v":""},{"$f":"IF(休暇希望!AE22=\"\",\"\",DATE($F$2,$I$2,休暇希望!AE22))","v":""},{"$f":"IF(休暇希望!AF22=\"\",\"\",DATE($F$2,$I$2,休暇希望!AF22))","v":""},{"$f":"IF(休暇希望!AG22=\"\",\"\",DATE($F$2,$I$2,休暇希望!AG22))","v":""},{"$f":"IF(休暇希望!AH22=\"\",\"\",DATE($F$2,$I$2,休暇希望!AH22))","v":""},{"$f":"IF(休暇希望!AI22=\"\",\"\",DATE($F$2,$I$2,休暇希望!AI22))","v":""}]
[null,"D",5.25,20,{"$f":"NETWORKDAYS($H$3,$H$4,各種設定!$A$4:$A$22)-COUNTIF(F28:AJ28,\">0\")","v":"1900-01-21"},"","","","","","","","","","","","","","","","","","","","","","","","","","","","","","","",null,{"$f":"IF(休暇希望!E23=\"\",\"\",DATE($F$2,$I$2,休暇希望!E23))","v":""},{"$f":"IF(休暇希望!F23=\"\",\"\",DATE($F$2,$I$2,休暇希望!F23))","v":""},{"$f":"IF(休暇希望!G23=\"\",\"\",DATE($F$2,$I$2,休暇希望!G23))","v":""},{"$f":"IF(休暇希望!H23=\"\",\"\",DATE($F$2,$I$2,休暇希望!H23))","v":""},{"$f":"IF(休暇希望!I23=\"\",\"\",DATE($F$2,$I$2,休暇希望!I23))","v":""},{"$f":"IF(休暇希望!J23=\"\",\"\",DATE($F$2,$I$2,休暇希望!J23))","v":""},{"$f":"IF(休暇希望!K23=\"\",\"\",DATE($F$2,$I$2,休暇希望!K23))","v":""},{"$f":"IF(休暇希望!L23=\"\",\"\",DATE($F$2,$I$2,休暇希望!L23))","v":""},{"$f":"IF(休暇希望!M23=\"\",\"\",DATE($F$2,$I$2,休暇希望!M23))","v":""},{"$f":"IF(休暇希望!N23=\"\",\"\",DATE($F$2,$I$2,休暇希望!N23))","v":""},{"$f":"IF(休暇希望!O23=\"\",\"\",DATE($F$2,$I$2,休暇希望!O23))","v":""},{"$f":"IF(休暇希望!P23=\"\",\"\",DATE($F$2,$I$2,休暇希望!P23))","v":""},{"$f":"IF(休暇希望!Q23=\"\",\"\",DATE($F$2,$I$2,休暇希望!Q23))","v":""},{"$f":"IF(休暇希望!R23=\"\",\"\",DATE($F$2,$I$2,休暇希望!R23))","v":""},{"$f":"IF(休暇希望!S23=\"\",\"\",DATE($F$2,$I$2,休暇希望!S23))","v":""},{"$f":"IF(休暇希望!T23=\"\",\"\",DATE($F$2,$I$2,休暇希望!T23))","v":""},{"$f":"IF(休暇希望!U23=\"\",\"\",DATE($F$2,$I$2,休暇希望!U23))","v":""},{"$f":"IF(休暇希望!V23=\"\",\"\",DATE($F$2,$I$2,休暇希望!V23))","v":""},{"$f":"IF(休暇希望!W23=\"\",\"\",DATE($F$2,$I$2,休暇希望!W23))","v":""},{"$f":"IF(休暇希望!X23=\"\",\"\",DATE($F$2,$I$2,休暇希望!X23))","v":""},{"$f":"IF(休暇希望!Y23=\"\",\"\",DATE($F$2,$I$2,休暇希望!Y23))","v":""},{"$f":"IF(休暇希望!Z23=\"\",\"\",DATE($F$2,$I$2,休暇希望!Z23))","v":""},{"$f":"IF(休暇希望!AA23=\"\",\"\",DATE($F$2,$I$2,休暇希望!AA23))","v":""},{"$f":"IF(休暇希望!AB23=\"\",\"\",DATE($F$2,$I$2,休暇希望!AB23))","v":""},{"$f":"IF(休暇希望!AC23=\"\",\"\",DATE($F$2,$I$2,休暇希望!AC23))","v":""},{"$f":"IF(休暇希望!AD23=\"\",\"\",DATE($F$2,$I$2,休暇希望!AD23))","v":""},{"$f":"IF(休暇希望!AE23=\"\",\"\",DATE($F$2,$I$2,休暇希望!AE23))","v":""},{"$f":"IF(休暇希望!AF23=\"\",\"\",DATE($F$2,$I$2,休暇希望!AF23))","v":""},{"$f":"IF(休暇希望!AG23=\"\",\"\",DATE($F$2,$I$2,休暇希望!AG23))","v":""},{"$f":"IF(休暇希望!AH23=\"\",\"\",DATE($F$2,$I$2,休暇希望!AH23))","v":""},{"$f":"IF(休暇希望!AI23=\"\",\"\",DATE($F$2,$I$2,休暇希望!AI23))","v":""}]
[null,"E",4.0000000000000018,21,{"$f":"NETWORKDAYS($H$3,$H$4,各種設定!$A$4:$A$22)-COUNTIF(F29:AJ29,\">0\")","v":"1900-01-21"},{"$f":"IF(F$7=\"\",\"\",IF(COUNTIF($AL29:$BP29,F$7)>0,$C29,\"\"))","v":""},"","","","","","","","","",{"$f":"IF(P$7=\"\",\"\",IF(COUNTIF($AL29:$BP29,P$7)>0,$C29,\"\"))","v":""},"","","","","","","","","",{"$f":"IF(Z$7=\"\",\"\",IF(COUNTIF($AL29:$BP29,Z$7)>0,$C29,\"\"))","v":""},"","","","","","","","","","",null,{"$f":"IF(休暇希望!E24=\"\",\"\",DATE($F$2,$I$2,休暇希望!E24))","v":""},{"$f":"IF(休暇希望!F24=\"\",\"\",DATE($F$2,$I$2,休暇希望!F24))","v":""},{"$f":"IF(休暇希望!G24=\"\",\"\",DATE($F$2,$I$2,休暇希望!G24))","v":""},{"$f":"IF(休暇希望!H24=\"\",\"\",DATE($F$2,$I$2,休暇希望!H24))","v":""},{"$f":"IF(休暇希望!I24=\"\",\"\",DATE($F$2,$I$2,休暇希望!I24))","v":""},{"$f":"IF(休暇希望!J24=\"\",\"\",DATE($F$2,$I$2,休暇希望!J24))","v":""},{"$f":"IF(休暇希望!K24=\"\",\"\",DATE($F$2,$I$2,休暇希望!K24))","v":""},{"$f":"IF(休暇希望!L24=\"\",\"\",DATE($F$2,$I$2,休暇希望!L24))","v":""},{"$f":"IF(休暇希望!M24=\"\",\"\",DATE($F$2,$I$2,休暇希望!M24))","v":""},{"$f":"IF(休暇希望!N24=\"\",\"\",DATE($F$2,$I$2,休暇希望!N24))","v":""},{"$f":"IF(休暇希望!O24=\"\",\"\",DATE($F$2,$I$2,休暇希望!O24))","v":""},{"$f":"IF(休暇希望!P24=\"\",\"\",DATE($F$2,$I$2,休暇希望!P24))","v":""},{"$f":"IF(休暇希望!Q24=\"\",\"\",DATE($F$2,$I$2,休暇希望!Q24))","v":""},{"$f":"IF(休暇希望!R24=\"\",\"\",DATE($F$2,$I$2,休暇希望!R24))","v":""},{"$f":"IF(休暇希望!S24=\"\",\"\",DATE($F$2,$I$2,休暇希望!S24))","v":""},{"$f":"IF(休暇希望!T24=\"\",\"\",DATE($F$2,$I$2,休暇希望!T24))","v":""},{"$f":"IF(休暇希望!U24=\"\",\"\",DATE($F$2,$I$2,休暇希望!U24))","v":""},{"$f":"IF(休暇希望!V24=\"\",\"\",DATE($F$2,$I$2,休暇希望!V24))","v":""},{"$f":"IF(休暇希望!W24=\"\",\"\",DATE($F$2,$I$2,休暇希望!W24))","v":""},{"$f":"IF(休暇希望!X24=\"\",\"\",DATE($F$2,$I$2,休暇希望!X24))","v":""},{"$f":"IF(休暇希望!Y24=\"\",\"\",DATE($F$2,$I$2,休暇希望!Y24))","v":""},{"$f":"IF(休暇希望!Z24=\"\",\"\",DATE($F$2,$I$2,休暇希望!Z24))","v":""},{"$f":"IF(休暇希望!AA24=\"\",\"\",DATE($F$2,$I$2,休暇希望!AA24))","v":""},{"$f":"IF(休暇希望!AB24=\"\",\"\",DATE($F$2,$I$2,休暇希望!AB24))","v":""},{"$f":"IF(休暇希望!AC24=\"\",\"\",DATE($F$2,$I$2,休暇希望!AC24))","v":""},{"$f":"IF(休暇希望!AD24=\"\",\"\",DATE($F$2,$I$2,休暇希望!AD24))","v":""},{"$f":"IF(休暇希望!AE24=\"\",\"\",DATE($F$2,$I$2,休暇希望!AE24))","v":""},{"$f":"IF(休暇希望!AF24=\"\",\"\",DATE($F$2,$I$2,休暇希望!AF24))","v":""},{"$f":"IF(休暇希望!AG24=\"\",\"\",DATE($F$2,$I$2,休暇希望!AG24))","v":""},{"$f":"IF(休暇希望!AH24=\"\",\"\",DATE($F$2,$I$2,休暇希望!AH24))","v":""},{"$f":"IF(休暇希望!AI24=\"\",\"\",DATE($F$2,$I$2,休暇希望!AI24))","v":""}]
[null,"E",4.0000000000000018,22,{"$f":"NETWORKDAYS($H$3,$H$4,各種設定!$A$4:$A$22)-COUNTIF(F30:AJ30,\">0\")","v":"1900-01-21"},"","","","","","","","","","","","","","","","","","","","","","","","","","","","","","","",null,{"$f":"IF(休暇希望!E25=\"\",\"\",DATE($F$2,$I$2,休暇希望!E25))","v":""},{"$f":"IF(休暇希望!F25=\"\",\"\",DATE($F$2,$I$2,休暇希望!F25))","v":""},{"$f":"IF(休暇希望!G25=\"\",\"\",DATE($F$2,$I$2,休暇希望!G25))","v":""},{"$f":"IF(休暇希望!H25=\"\",\"\",DATE($F$2,$I$2,休暇希望!H25))","v":""},{"$f":"IF(休暇希望!I25=\"\",\"\",DATE($F$2,$I$2,休暇希望!I25))","v":""},{"$f":"IF(休暇希望!J25=\"\",\"\",DATE($F$2,$I$2,休暇希望!J25))","v":""},{"$f":"IF(休暇希望!K25=\"\",\"\",DATE($F$2,$I$2,休暇希望!K25))","v":""},{"$f":"IF(休暇希望!L25=\"\",\"\",DATE($F$2,$I$2,休暇希望!L25))","v":""},{"$f":"IF(休暇希望!M25=\"\",\"\",DATE($F$2,$I$2,休暇希望!M25))","v":""},{"$f":"IF(休暇希望!N25=\"\",\"\",DATE($F$2,$I$2,休暇希望!N25))","v":""},{"$f":"IF(休暇希望!O25=\"\",\"\",DATE($F$2,$I$2,休暇希望!O25))","v":""},{"$f":"IF(休暇希望!P25=\"\",\"\",DATE($F$2,$I$2,休暇希望!P25))","v":""},{"$f":"IF(休暇希望!Q25=\"\",\"\",DATE($F$2,$I$2,休暇希望!Q25))","v":""},{"$f":"IF(休暇希望!R25=\"\",\"\",DATE($F$2,$I$2,休暇希望!R25))","v":""},{"$f":"IF(休暇希望!S25=\"\",\"\",DATE($F$2,$I$2,休暇希望!S25))","v":""},{"$f":"IF(休暇希望!T25=\"\",\"\",DATE($F$2,$I$2,休暇希望!T25))","v":""},{"$f":"IF(休暇希望!U25=\"\",\"\",DATE($F$2,$I$2,休暇希望!U25))","v":""},{"$f":"IF(休暇希望!V25=\"\",\"\",DATE($F$2,$I$2,休暇希望!V25))","v":""},{"$f":"IF(休暇希望!W25=\"\",\"\",DATE($F$2,$I$2,休暇希望!W25))","v":""},{"$f":"IF(休暇希望!X25=\"\",\"\",DATE($F$2,$I$2,休暇希望!X25))","v":""},{"$f":"IF(休暇希望!Y25=\"\",\"\",DATE($F$2,$I$2,休暇希望!Y25))","v":""},{"$f":"IF(休暇希望!Z25=\"\",\"\",DATE($F$2,$I$2,休暇希望!Z25))","v":""},{"$f":"IF(休暇希望!AA25=\"\",\"\",DATE($F$2,$I$2,休暇希望!AA25))","v":""},{"$f":"IF(休暇希望!AB25=\"\",\"\",DATE($F$2,$I$2,休暇希望!AB25))","v":""},{"$f":"IF(休暇希望!AC25=\"\",\"\",DATE($F$2,$I$2,休暇希望!AC25))","v":""},{"$f":"IF(休暇希望!AD25=\"\",\"\",DATE($F$2,$I$2,休暇希望!AD25))","v":""},{"$f":"IF(休暇希望!AE25=\"\",\"\",DATE($F$2,$I$2,休暇希望!AE25))","v":""},{"$f":"IF(休暇希望!AF25=\"\",\"\",DATE($F$2,$I$2,休暇希望!AF25))","v":""},{"$f":"IF(休暇希望!AG25=\"\",\"\",DATE($F$2,$I$2,休暇希望!AG25))","v":""},{"$f":"IF(休暇希望!AH25=\"\",\"\",DATE($F$2,$I$2,休暇希望!AH25))","v":""},{"$f":"IF(休暇希望!AI25=\"\",\"\",DATE($F$2,$I$2,休暇希望!AI25))","v":""}]
[null,"E",4.0000000000000018,23,{"$f":"NETWORKDAYS($H$3,$H$4,各種設定!$A$4:$A$22)-COUNTIF(F31:AJ31,\">0\")","v":"1900-01-21"},"","","","","","","","","","","","","","","","","","","","","","","","","","","","","","","",null,{"$f":"IF(休暇希望!E26=\"\",\"\",DATE($F$2,$I$2,休暇希望!E26))","v":""},{"$f":"IF(休暇希望!F26=\"\",\"\",DATE($F$2,$I$2,休暇希望!F26))","v":""},{"$f":"IF(休暇希望!G26=\"\",\"\",DATE($F$2,$I$2,休暇希望!G26))","v":""},{"$f":"IF(休暇希望!H26=\"\",\"\",DATE($F$2,$I$2,休暇希望!H26))","v":""},{"$f":"IF(休暇希望!I26=\"\",\"\",DATE($F$2,$I$2,休暇希望!I26))","v":""},{"$f":"IF(休暇希望!J26=\"\",\"\",DATE($F$2,$I$2,休暇希望!J26))","v":""},{"$f":"IF(休暇希望!K26=\"\",\"\",DATE($F$2,$I$2,休暇希望!K26))","v":""},{"$f":"IF(休暇希望!L26=\"\",\"\",DATE($F$2,$I$2,休暇希望!L26))","v":""},{"$f":"IF(休暇希望!M26=\"\",\"\",DATE($F$2,$I$2,休暇希望!M26))","v":""},{"$f":"IF(休暇希望!N26=\"\",\"\",DATE($F$2,$I$2,休暇希望!N26))","v":""},{"$f":"IF(休暇希望!O26=\"\",\"\",DATE($F$2,$I$2,休暇希望!O26))","v":""},{"$f":"IF(休暇希望!P26=\"\",\"\",DATE($F$2,$I$2,休暇希望!P26))","v":""},{"$f":"IF(休暇希望!Q26=\"\",\"\",DATE($F$2,$I$2,休暇希望!Q26))","v":""},{"$f":"IF(休暇希望!R26=\"\",\"\",DATE($F$2,$I$2,休暇希望!R26))","v":""},{"$f":"IF(休暇希望!S26=\"\",\"\",DATE($F$2,$I$2,休暇希望!S26))","v":""},{"$f":"IF(休暇希望!T26=\"\",\"\",DATE($F$2,$I$2,休暇希望!T26))","v":""},{"$f":"IF(休暇希望!U26=\"\",\"\",DATE($F$2,$I$2,休暇希望!U26))","v":""},{"$f":"IF(休暇希望!V26=\"\",\"\",DATE($F$2,$I$2,休暇希望!V26))","v":""},{"$f":"IF(休暇希望!W26=\"\",\"\",DATE($F$2,$I$2,休暇希望!W26))","v":""},{"$f":"IF(休暇希望!X26=\"\",\"\",DATE($F$2,$I$2,休暇希望!X26))","v":""},{"$f":"IF(休暇希望!Y26=\"\",\"\",DATE($F$2,$I$2,休暇希望!Y26))","v":""},{"$f":"IF(休暇希望!Z26=\"\",\"\",DATE($F$2,$I$2,休暇希望!Z26))","v":""},{"$f":"IF(休暇希望!AA26=\"\",\"\",DATE($F$2,$I$2,休暇希望!AA26))","v":""},{"$f":"IF(休暇希望!AB26=\"\",\"\",DATE($F$2,$I$2,休暇希望!AB26))","v":""},{"$f":"IF(休暇希望!AC26=\"\",\"\",DATE($F$2,$I$2,休暇希望!AC26))","v":""},{"$f":"IF(休暇希望!AD26=\"\",\"\",DATE($F$2,$I$2,休暇希望!AD26))","v":""},{"$f":"IF(休暇希望!AE26=\"\",\"\",DATE($F$2,$I$2,休暇希望!AE26))","v":""},{"$f":"IF(休暇希望!AF26=\"\",\"\",DATE($F$2,$I$2,休暇希望!AF26))","v":""},{"$f":"IF(休暇希望!AG26=\"\",\"\",DATE($F$2,$I$2,休暇希望!AG26))","v":""},{"$f":"IF(休暇希望!AH26=\"\",\"\",DATE($F$2,$I$2,休暇希望!AH26))","v":""},{"$f":"IF(休暇希望!AI26=\"\",\"\",DATE($F$2,$I$2,休暇希望!AI26))","v":""}]
[null,"E",4.0000000000000018,24,{"$f":"NETWORKDAYS($H$3,$H$4,各種設定!$A$4:$A$22)-COUNTIF(F32:AJ32,\">0\")","v":"1900-01-21"},"","","","","","","","","","","","","","","","","","","","","","","","","","","","","","","",null,{"$f":"IF(休暇希望!E27=\"\",\"\",DATE($F$2,$I$2,休暇希望!E27))","v":""},{"$f":"IF(休暇希望!F27=\"\",\"\",DATE($F$2,$I$2,休暇希望!F27))","v":""},{"$f":"IF(休暇希望!G27=\"\",\"\",DATE($F$2,$I$2,休暇希望!G27))","v":""},{"$f":"IF(休暇希望!H27=\"\",\"\",DATE($F$2,$I$2,休暇希望!H27))","v":""},{"$f":"IF(休暇希望!I27=\"\",\"\",DATE($F$2,$I$2,休暇希望!I27))","v":""},{"$f":"IF(休暇希望!J27=\"\",\"\",DATE($F$2,$I$2,休暇希望!J27))","v":""},{"$f":"IF(休暇希望!K27=\"\",\"\",DATE($F$2,$I$2,休暇希望!K27))","v":""},{"$f":"IF(休暇希望!L27=\"\",\"\",DATE($F$2,$I$2,休暇希望!L27))","v":""},{"$f":"IF(休暇希望!M27=\"\",\"\",DATE($F$2,$I$2,休暇希望!M27))","v":""},{"$f":"IF(休暇希望!N27=\"\",\"\",DATE($F$2,$I$2,休暇希望!N27))","v":""},{"$f":"IF(休暇希望!O27=\"\",\"\",DATE($F$2,$I$2,休暇希望!O27))","v":""},{"$f":"IF(休暇希望!P27=\"\",\"\",DATE($F$2,$I$2,休暇希望!P27))","v":""},{"$f":"IF(休暇希望!Q27=\"\",\"\",DATE($F$2,$I$2,休暇希望!Q27))","v":""},{"$f":"IF(休暇希望!R27=\"\",\"\",DATE($F$2,$I$2,休暇希望!R27))","v":""},{"$f":"IF(休暇希望!S27=\"\",\"\",DATE($F$2,$I$2,休暇希望!S27))","v":""},{"$f":"IF(休暇希望!T27=\"\",\"\",DATE($F$2,$I$2,休暇希望!T27))","v":""},{"$f":"IF(休暇希望!U27=\"\",\"\",DATE($F$2,$I$2,休暇希望!U27))","v":""},{"$f":"IF(休暇希望!V27=\"\",\"\",DATE($F$2,$I$2,休暇希望!V27))","v":""},{"$f":"IF(休暇希望!W27=\"\",\"\",DATE($F$2,$I$2,休暇希望!W27))","v":""},{"$f":"IF(休暇希望!X27=\"\",\"\",DATE($F$2,$I$2,休暇希望!X27))","v":""},{"$f":"IF(休暇希望!Y27=\"\",\"\",DATE($F$2,$I$2,休暇希望!Y27))","v":""},{"$f":"IF(休暇希望!Z27=\"\",\"\",DATE($F$2,$I$2,休暇希望!Z27))","v":""},{"$f":"IF(休暇希望!AA27=\"\",\"\",DATE($F$2,$I$2,休暇希望!AA27))","v":""},{"$f":"IF(休暇希望!AB27=\"\",\"\",DATE($F$2,$I$2,休暇希望!AB27))","v":""},{"$f":"IF(休暇希望!AC27=\"\",\"\",DATE($F$2,$I$2,休暇希望!AC27))","v":""},{"$f":"IF(休暇希望!AD27=\"\",\"\",DATE($F$2,$I$2,休暇希望!AD27))","v":""},{"$f":"IF(休暇希望!AE27=\"\",\"\",DATE($F$2,$I$2,休暇希望!AE27))","v":""},{"$f":"IF(休暇希望!AF27=\"\",\"\",DATE($F$2,$I$2,休暇希望!AF27))","v":""},{"$f":"IF(休暇希望!AG27=\"\",\"\",DATE($F$2,$I$2,休暇希望!AG27))","v":""},{"$f":"IF(休暇希望!AH27=\"\",\"\",DATE($F$2,$I$2,休暇希望!AH27))","v":""},{"$f":"IF(休暇希望!AI27=\"\",\"\",DATE($F$2,$I$2,休暇希望!AI27))","v":""}]
[null,"E",4.0000000000000018,25,{"$f":"NETWORKDAYS($H$3,$H$4,各種設定!$A$4:$A$22)-COUNTIF(F33:AJ33,\">0\")","v":"1900-01-21"},"","","","","","","","","","","","","","","","","","","","","","","","","","","","","","","",null,{"$f":"IF(休暇希望!E28=\"\",\"\",DATE($F$2,$I$2,休暇希望!E28))","v":""},{"$f":"IF(休暇希望!F28=\"\",\"\",DATE($F$2,$I$2,休暇希望!F28))","v":""},{"$f":"IF(休暇希望!G28=\"\",\"\",DATE($F$2,$I$2,休暇希望!G28))","v":""},{"$f":"IF(休暇希望!H28=\"\",\"\",DATE($F$2,$I$2,休暇希望!H28))","v":""},{"$f":"IF(休暇希望!I28=\"\",\"\",DATE($F$2,$I$2,休暇希望!I28))","v":""},{"$f":"IF(休暇希望!J28=\"\",\"\",DATE($F$2,$I$2,休暇希望!J28))","v":""},{"$f":"IF(休暇希望!K28=\"\",\"\",DATE($F$2,$I$2,休暇希望!K28))","v":""},{"$f":"IF(休暇希望!L28=\"\",\"\",DATE($F$2,$I$2,休暇希望!L28))","v":""},{"$f":"IF(休暇希望!M28=\"\",\"\",DATE($F$2,$I$2,休暇希望!M28))","v":""},{"$f":"IF(休暇希望!N28=\"\",\"\",DATE($F$2,$I$2,休暇希望!N28))","v":""},{"$f":"IF(休暇希望!O28=\"\",\"\",DATE($F$2,$I$2,休暇希望!O28))","v":""},{"$f":"IF(休暇希望!P28=\"\",\"\",DATE($F$2,$I$2,休暇希望!P28))","v":""},{"$f":"IF(休暇希望!Q28=\"\",\"\",DATE($F$2,$I$2,休暇希望!Q28))","v":""},{"$f":"IF(休暇希望!R28=\"\",\"\",DATE($F$2,$I$2,休暇希望!R28))","v":""},{"$f":"IF(休暇希望!S28=\"\",\"\",DATE($F$2,$I$2,休暇希望!S28))","v":""},{"$f":"IF(休暇希望!T28=\"\",\"\",DATE($F$2,$I$2,休暇希望!T28))","v":""},{"$f":"IF(休暇希望!U28=\"\",\"\",DATE($F$2,$I$2,休暇希望!U28))","v":""},{"$f":"IF(休暇希望!V28=\"\",\"\",DATE($F$2,$I$2,休暇希望!V28))","v":""},{"$f":"IF(休暇希望!W28=\"\",\"\",DATE($F$2,$I$2,休暇希望!W28))","v":""},{"$f":"IF(休暇希望!X28=\"\",\"\",DATE($F$2,$I$2,休暇希望!X28))","v":""},{"$f":"IF(休暇希望!Y28=\"\",\"\",DATE($F$2,$I$2,休暇希望!Y28))","v":""},{"$f":"IF(休暇希望!Z28=\"\",\"\",DATE($F$2,$I$2,休暇希望!Z28))","v":""},{"$f":"IF(休暇希望!AA28=\"\",\"\",DATE($F$2,$I$2,休暇希望!AA28))","v":""},{"$f":"IF(休暇希望!AB28=\"\",\"\",DATE($F$2,$I$2,休暇希望!AB28))","v":""},{"$f":"IF(休暇希望!AC28=\"\",\"\",DATE($F$2,$I$2,休暇希望!AC28))","v":""},{"$f":"IF(休暇希望!AD28=\"\",\"\",DATE($F$2,$I$2,休暇希望!AD28))","v":""},{"$f":"IF(休暇希望!AE28=\"\",\"\",DATE($F$2,$I$2,休暇希望!AE28))","v":""},{"$f":"IF(休暇希望!AF28=\"\",\"\",DATE($F$2,$I$2,休暇希望!AF28))","v":""},{"$f":"IF(休暇希望!AG28=\"\",\"\",DATE($F$2,$I$2,休暇希望!AG28))","v":""},{"$f":"IF(休暇希望!AH28=\"\",\"\",DATE($F$2,$I$2,休暇希望!AH28))","v":""},{"$f":"IF(休暇希望!AI28=\"\",\"\",DATE($F$2,$I$2,休暇希望!AI28))","v":""}]
[null,"E",4.0000000000000018,26,{"$f":"NETWORKDAYS($H$3,$H$4,各種設定!$A$4:$A$22)-COUNTIF(F34:AJ34,\">0\")","v":"1900-01-21"},"","","","","","","","","","","","","","","","","","","","","","","","","","","","","","","",null,{"$f":"IF(休暇希望!E29=\"\",\"\",DATE($F$2,$I$2,休暇希望!E29))","v":""},{"$f":"IF(休暇希望!F29=\"\",\"\",DATE($F$2,$I$2,休暇希望!F29))","v":""},{"$f":"IF(休暇希望!G29=\"\",\"\",DATE($F$2,$I$2,休暇希望!G29))","v":""},{"$f":"IF(休暇希望!H29=\"\",\"\",DATE($F$2,$I$2,休暇希望!H29))","v":""},{"$f":"IF(休暇希望!I29=\"\",\"\",DATE($F$2,$I$2,休暇希望!I29))","v":""},{"$f":"IF(休暇希望!J29=\"\",\"\",DATE($F$2,$I$2,休暇希望!J29))","v":""},{"$f":"IF(休暇希望!K29=\"\",\"\",DATE($F$2,$I$2,休暇希望!K29))","v":""},{"$f":"IF(休暇希望!L29=\"\",\"\",DATE($F$2,$I$2,休暇希望!L29))","v":""},{"$f":"IF(休暇希望!M29=\"\",\"\",DATE($F$2,$I$2,休暇希望!M29))","v":""},{"$f":"IF(休暇希望!N29=\"\",\"\",DATE($F$2,$I$2,休暇希望!N29))","v":""},{"$f":"IF(休暇希望!O29=\"\",\"\",DATE($F$2,$I$2,休暇希望!O29))","v":""},{"$f":"IF(休暇希望!P29=\"\",\"\",DATE($F$2,$I$2,休暇希望!P29))","v":""},{"$f":"IF(休暇希望!Q29=\"\",\"\",DATE($F$2,$I$2,休暇希望!Q29))","v":""},{"$f":"IF(休暇希望!R29=\"\",\"\",DATE($F$2,$I$2,休暇希望!R29))","v":""},{"$f":"IF(休暇希望!S29=\"\",\"\",DATE($F$2,$I$2,休暇希望!S29))","v":""},{"$f":"IF(休暇希望!T29=\"\",\"\",DATE($F$2,$I$2,休暇希望!T29))","v":""},{"$f":"IF(休暇希望!U29=\"\",\"\",DATE($F$2,$I$2,休暇希望!U29))","v":""},{"$f":"IF(休暇希望!V29=\"\",\"\",DATE($F$2,$I$2,休暇希望!V29))","v":""},{"$f":"IF(休暇希望!W29=\"\",\"\",DATE($F$2,$I$2,休暇希望!W29))","v":""},{"$f":"IF(休暇希望!X29=\"\",\"\",DATE($F$2,$I$2,休暇希望!X29))","v":""},{"$f":"IF(休暇希望!Y29=\"\",\"\",DATE($F$2,$I$2,休暇希望!Y29))","v":""},{"$f":"IF(休暇希望!Z29=\"\",\"\",DATE($F$2,$I$2,休暇希望!Z29))","v":""},{"$f":"IF(休暇希望!AA29=\"\",\"\",DATE($F$2,$I$2,休暇希望!AA29))","v":""},{"$f":"IF(休暇希望!AB29=\"\",\"\",DATE($F$2,$I$2,休暇希望!AB29))","v":""},{"$f":"IF(休暇希望!AC29=\"\",\"\",DATE($F$2,$I$2,休暇希望!AC29))","v":""},{"$f":"IF(休暇希望!AD29=\"\",\"\",DATE($F$2,$I$2,休暇希望!AD29))","v":""},{"$f":"IF(休暇希望!AE29=\"\",\"\",DATE($F$2,$I$2,休暇希望!AE29))","v":""},{"$f":"IF(休暇希望!AF29=\"\",\"\",DATE($F$2,$I$2,休暇希望!AF29))","v":""},{"$f":"IF(休暇希望!AG29=\"\",\"\",DATE($F$2,$I$2,休暇希望!AG29))","v":""},{"$f":"IF(休暇希望!AH29=\"\",\"\",DATE($F$2,$I$2,休暇希望!AH29))","v":""},{"$f":"IF(休暇希望!AI29=\"\",\"\",DATE($F$2,$I$2,休暇希望!AI29))","v":""}]
[null,"E",4.0000000000000018,27,{"$f":"NETWORKDAYS($H$3,$H$4,各種設定!$A$4:$A$22)-COUNTIF(F35:AJ35,\">0\")","v":"1900-01-21"},"","","","","","","","","","","","","","","","","","","","","","","","","","","","","","","",null,{"$f":"IF(休暇希望!E30=\"\",\"\",DATE($F$2,$I$2,休暇希望!E30))","v":""},{"$f":"IF(休暇希望!F30=\"\",\"\",DATE($F$2,$I$2,休暇希望!F30))","v":""},{"$f":"IF(休暇希望!G30=\"\",\"\",DATE($F$2,$I$2,休暇希望!G30))","v":""},{"$f":"IF(休暇希望!H30=\"\",\"\",DATE($F$2,$I$2,休暇希望!H30))","v":""},{"$f":"IF(休暇希望!I30=\"\",\"\",DATE($F$2,$I$2,休暇希望!I30))","v":""},{"$f":"IF(休暇希望!J30=\"\",\"\",DATE($F$2,$I$2,休暇希望!J30))","v":""},{"$f":"IF(休暇希望!K30=\"\",\"\",DATE($F$2,$I$2,休暇希望!K30))","v":""},{"$f":"IF(休暇希望!L30=\"\",\"\",DATE($F$2,$I$2,休暇希望!L30))","v":""},{"$f":"IF(休暇希望!M30=\"\",\"\",DATE($F$2,$I$2,休暇希望!M30))","v":""},{"$f":"IF(休暇希望!N30=\"\",\"\",DATE($F$2,$I$2,休暇希望!N30))","v":""},{"$f":"IF(休暇希望!O30=\"\",\"\",DATE($F$2,$I$2,休暇希望!O30))","v":""},{"$f":"IF(休暇希望!P30=\"\",\"\",DATE($F$2,$I$2,休暇希望!P30))","v":""},{"$f":"IF(休暇希望!Q30=\"\",\"\",DATE($F$2,$I$2,休暇希望!Q30))","v":""},{"$f":"IF(休暇希望!R30=\"\",\"\",DATE($F$2,$I$2,休暇希望!R30))","v":""},{"$f":"IF(休暇希望!S30=\"\",\"\",DATE($F$2,$I$2,休暇希望!S30))","v":""},{"$f":"IF(休暇希望!T30=\"\",\"\",DATE($F$2,$I$2,休暇希望!T30))","v":""},{"$f":"IF(休暇希望!U30=\"\",\"\",DATE($F$2,$I$2,休暇希望!U30))","v":""},{"$f":"IF(休暇希望!V30=\"\",\"\",DATE($F$2,$I$2,休暇希望!V30))","v":""},{"$f":"IF(休暇希望!W30=\"\",\"\",DATE($F$2,$I$2,休暇希望!W30))","v":""},{"$f":"IF(休暇希望!X30=\"\",\"\",DATE($F$2,$I$2,休暇希望!X30))","v":""},{"$f":"IF(休暇希望!Y30=\"\",\"\",DATE($F$2,$I$2,休暇希望!Y30))","v":""},{"$f":"IF(休暇希望!Z30=\"\",\"\",DATE($F$2,$I$2,休暇希望!Z30))","v":""},{"$f":"IF(休暇希望!AA30=\"\",\"\",DATE($F$2,$I$2,休暇希望!AA30))","v":""},{"$f":"IF(休暇希望!AB30=\"\",\"\",DATE($F$2,$I$2,休暇希望!AB30))","v":""},{"$f":"IF(休暇希望!AC30=\"\",\"\",DATE($F$2,$I$2,休暇希望!AC30))","v":""},{"$f":"IF(休暇希望!AD30=\"\",\"\",DATE($F$2,$I$2,休暇希望!AD30))","v":""},{"$f":"IF(休暇希望!AE30=\"\",\"\",DATE($F$2,$I$2,休暇希望!AE30))","v":""},{"$f":"IF(休暇希望!AF30=\"\",\"\",DATE($F$2,$I$2,休暇希望!AF30))","v":""},{"$f":"IF(休暇希望!AG30=\"\",\"\",DATE($F$2,$I$2,休暇希望!AG30))","v":""},{"$f":"IF(休暇希望!AH30=\"\",\"\",DATE($F$2,$I$2,休暇希望!AH30))","v":""},{"$f":"IF(休暇希望!AI30=\"\",\"\",DATE($F$2,$I$2,休暇希望!AI30))","v":""}]
[null,"E",4.0000000000000018,28,{"$f":"NETWORKDAYS($H$3,$H$4,各種設定!$A$4:$A$22)-COUNTIF(F36:AJ36,\">0\")","v":"1900-01-21"},"","","","","","","","","","","","","","","","","","","","","","","","","","","","","","","",null,{"$f":"IF(休暇希望!E31=\"\",\"\",DATE($F$2,$I$2,休暇希望!E31))","v":""},{"$f":"IF(休暇希望!F31=\"\",\"\",DATE($F$2,$I$2,休暇希望!F31))","v":""},{"$f":"IF(休暇希望!G31=\"\",\"\",DATE($F$2,$I$2,休暇希望!G31))","v":""},{"$f":"IF(休暇希望!H31=\"\",\"\",DATE($F$2,$I$2,休暇希望!H31))","v":""},{"$f":"IF(休暇希望!I31=\"\",\"\",DATE($F$2,$I$2,休暇希望!I31))","v":""},{"$f":"IF(休暇希望!J31=\"\",\"\",DATE($F$2,$I$2,休暇希望!J31))","v":""},{"$f":"IF(休暇希望!K31=\"\",\"\",DATE($F$2,$I$2,休暇希望!K31))","v":""},{"$f":"IF(休暇希望!L31=\"\",\"\",DATE($F$2,$I$2,休暇希望!L31))","v":""},{"$f":"IF(休暇希望!M31=\"\",\"\",DATE($F$2,$I$2,休暇希望!M31))","v":""},{"$f":"IF(休暇希望!N31=\"\",\"\",DATE($F$2,$I$2,休暇希望!N31))","v":""},{"$f":"IF(休暇希望!O31=\"\",\"\",DATE($F$2,$I$2,休暇希望!O31))","v":""},{"$f":"IF(休暇希望!P31=\"\",\"\",DATE($F$2,$I$2,休暇希望!P31))","v":""},{"$f":"IF(休暇希望!Q31=\"\",\"\",DATE($F$2,$I$2,休暇希望!Q31))","v":""},{"$f":"IF(休暇希望!R31=\"\",\"\",DATE($F$2,$I$2,休暇希望!R31))","v":""},{"$f":"IF(休暇希望!S31=\"\",\"\",DATE($F$2,$I$2,休暇希望!S31))","v":""},{"$f":"IF(休暇希望!T31=\"\",\"\",DATE($F$2,$I$2,休暇希望!T31))","v":""},{"$f":"IF(休暇希望!U31=\"\",\"\",DATE($F$2,$I$2,休暇希望!U31))","v":""},{"$f":"IF(休暇希望!V31=\"\",\"\",DATE($F$2,$I$2,休暇希望!V31))","v":""},{"$f":"IF(休暇希望!W31=\"\",\"\",DATE($F$2,$I$2,休暇希望!W31))","v":""},{"$f":"IF(休暇希望!X31=\"\",\"\",DATE($F$2,$I$2,休暇希望!X31))","v":""},{"$f":"IF(休暇希望!Y31=\"\",\"\",DATE($F$2,$I$2,休暇希望!Y31))","v":""},{"$f":"IF(休暇希望!Z31=\"\",\"\",DATE($F$2,$I$2,休暇希望!Z31))","v":""},{"$f":"IF(休暇希望!AA31=\"\",\"\",DATE($F$2,$I$2,休暇希望!AA31))","v":""},{"$f":"IF(休暇希望!AB31=\"\",\"\",DATE($F$2,$I$2,休暇希望!AB31))","v":""},{"$f":"IF(休暇希望!AC31=\"\",\"\",DATE($F$2,$I$2,休暇希望!AC31))","v":""},{"$f":"IF(休暇希望!AD31=\"\",\"\",DATE($F$2,$I$2,休暇希望!AD31))","v":""},{"$f":"IF(休暇希望!AE31=\"\",\"\",DATE($F$2,$I$2,休暇希望!AE31))","v":""},{"$f":"IF(休暇希望!AF31=\"\",\"\",DATE($F$2,$I$2,休暇希望!AF31))","v":""},{"$f":"IF(休暇希望!AG31=\"\",\"\",DATE($F$2,$I$2,休暇希望!AG31))","v":""},{"$f":"IF(休暇希望!AH31=\"\",\"\",DATE($F$2,$I$2,休暇希望!AH31))","v":""},{"$f":"IF(休暇希望!AI31=\"\",\"\",DATE($F$2,$I$2,休暇希望!AI31))","v":""}]
[null,"E",4.0000000000000018,29,{"$f":"NETWORKDAYS($H$3,$H$4,各種設定!$A$4:$A$22)-COUNTIF(F37:AJ37,\">0\")","v":"1900-01-21"},"","","","","","","","","","","","","","","","","","","","","","","","","","","","","","","",null,{"$f":"IF(休暇希望!E32=\"\",\"\",DATE($F$2,$I$2,休暇希望!E32))","v":""},{"$f":"IF(休暇希望!F32=\"\",\"\",DATE($F$2,$I$2,休暇希望!F32))","v":""},{"$f":"IF(休暇希望!G32=\"\",\"\",DATE($F$2,$I$2,休暇希望!G32))","v":""},{"$f":"IF(休暇希望!H32=\"\",\"\",DATE($F$2,$I$2,休暇希望!H32))","v":""},{"$f":"IF(休暇希望!I32=\"\",\"\",DATE($F$2,$I$2,休暇希望!I32))","v":""},{"$f":"IF(休暇希望!J32=\"\",\"\",DATE($F$2,$I$2,休暇希望!J32))","v":""},{"$f":"IF(休暇希望!K32=\"\",\"\",DATE($F$2,$I$2,休暇希望!K32))","v":""},{"$f":"IF(休暇希望!L32=\"\",\"\",DATE($F$2,$I$2,休暇希望!L32))","v":""},{"$f":"IF(休暇希望!M32=\"\",\"\",DATE($F$2,$I$2,休暇希望!M32))","v":""},{"$f":"IF(休暇希望!N32=\"\",\"\",DATE($F$2,$I$2,休暇希望!N32))","v":""},{"$f":"IF(休暇希望!O32=\"\",\"\",DATE($F$2,$I$2,休暇希望!O32))","v":""},{"$f":"IF(休暇希望!P32=\"\",\"\",DATE($F$2,$I$2,休暇希望!P32))","v":""},{"$f":"IF(休暇希望!Q32=\"\",\"\",DATE($F$2,$I$2,休暇希望!Q32))","v":""},{"$f":"IF(休暇希望!R32=\"\",\"\",DATE($F$2,$I$2,休暇希望!R32))","v":""},{"$f":"IF(休暇希望!S32=\"\",\"\",DATE($F$2,$I$2,休暇希望!S32))","v":""},{"$f":"IF(休暇希望!T32=\"\",\"\",DATE($F$2,$I$2,休暇希望!T32))","v":""},{"$f":"IF(休暇希望!U32=\"\",\"\",DATE($F$2,$I$2,休暇希望!U32))","v":""},{"$f":"IF(休暇希望!V32=\"\",\"\",DATE($F$2,$I$2,休暇希望!V32))","v":""},{"$f":"IF(休暇希望!W32=\"\",\"\",DATE($F$2,$I$2,休暇希望!W32))","v":""},{"$f":"IF(休暇希望!X32=\"\",\"\",DATE($F$2,$I$2,休暇希望!X32))","v":""},{"$f":"IF(休暇希望!Y32=\"\",\"\",DATE($F$2,$I$2,休暇希望!Y32))","v":""},{"$f":"IF(休暇希望!Z32=\"\",\"\",DATE($F$2,$I$2,休暇希望!Z32))","v":""},{"$f":"IF(休暇希望!AA32=\"\",\"\",DATE($F$2,$I$2,休暇希望!AA32))","v":""},{"$f":"IF(休暇希望!AB32=\"\",\"\",DATE($F$2,$I$2,休暇希望!AB32))","v":""},{"$f":"IF(休暇希望!AC32=\"\",\"\",DATE($F$2,$I$2,休暇希望!AC32))","v":""},{"$f":"IF(休暇希望!AD32=\"\",\"\",DATE($F$2,$I$2,休暇希望!AD32))","v":""},{"$f":"IF(休暇希望!AE32=\"\",\"\",DATE($F$2,$I$2,休暇希望!AE32))","v":""},{"$f":"IF(休暇希望!AF32=\"\",\"\",DATE($F$2,$I$2,休暇希望!AF32))","v":""},{"$f":"IF(休暇希望!AG32=\"\",\"\",DATE($F$2,$I$2,休暇希望!AG32))","v":""},{"$f":"IF(休暇希望!AH32=\"\",\"\",DATE($F$2,$I$2,休暇希望!AH32))","v":""},{"$f":"IF(休暇希望!AI32=\"\",\"\",DATE($F$2,$I$2,休暇希望!AI32))","v":""}]
[null,"E",4.0000000000000018,30,{"$f":"NETWORKDAYS($H$3,$H$4,各種設定!$A$4:$A$22)-COUNTIF(F38:AJ38,\">0\")","v":"1900-01-21"},"","","","","","","","","","","","","","","","","","","","","","","","","","","","","","","",null,{"$f":"IF(休暇希望!E33=\"\",\"\",DATE($F$2,$I$2,休暇希望!E33))","v":""},{"$f":"IF(休暇希望!F33=\"\",\"\",DATE($F$2,$I$2,休暇希望!F33))","v":""},{"$f":"IF(休暇希望!G33=\"\",\"\",DATE($F$2,$I$2,休暇希望!G33))","v":""},{"$f":"IF(休暇希望!H33=\"\",\"\",DATE($F$2,$I$2,休暇希望!H33))","v":""},{"$f":"IF(休暇希望!I33=\"\",\"\",DATE($F$2,$I$2,休暇希望!I33))","v":""},{"$f":"IF(休暇希望!J33=\"\",\"\",DATE($F$2,$I$2,休暇希望!J33))","v":""},{"$f":"IF(休暇希望!K33=\"\",\"\",DATE($F$2,$I$2,休暇希望!K33))","v":""},{"$f":"IF(休暇希望!L33=\"\",\"\",DATE($F$2,$I$2,休暇希望!L33))","v":""},{"$f":"IF(休暇希望!M33=\"\",\"\",DATE($F$2,$I$2,休暇希望!M33))","v":""},{"$f":"IF(休暇希望!N33=\"\",\"\",DATE($F$2,$I$2,休暇希望!N33))","v":""},{"$f":"IF(休暇希望!O33=\"\",\"\",DATE($F$2,$I$2,休暇希望!O33))","v":""},{"$f":"IF(休暇希望!P33=\"\",\"\",DATE($F$2,$I$2,休暇希望!P33))","v":""},{"$f":"IF(休暇希望!Q33=\"\",\"\",DATE($F$2,$I$2,休暇希望!Q33))","v":""},{"$f":"IF(休暇希望!R33=\"\",\"\",DATE($F$2,$I$2,休暇希望!R33))","v":""},{"$f":"IF(休暇希望!S33=\"\",\"\",DATE($F$2,$I$2,休暇希望!S33))","v":""},{"$f":"IF(休暇希望!T33=\"\",\"\",DATE($F$2,$I$2,休暇希望!T33))","v":""},{"$f":"IF(休暇希望!U33=\"\",\"\",DATE($F$2,$I$2,休暇希望!U33))","v":""},{"$f":"IF(休暇希望!V33=\"\",\"\",DATE($F$2,$I$2,休暇希望!V33))","v":""},{"$f":"IF(休暇希望!W33=\"\",\"\",DATE($F$2,$I$2,休暇希望!W33))","v":""},{"$f":"IF(休暇希望!X33=\"\",\"\",DATE($F$2,$I$2,休暇希望!X33))","v":""},{"$f":"IF(休暇希望!Y33=\"\",\"\",DATE($F$2,$I$2,休暇希望!Y33))","v":""},{"$f":"IF(休暇希望!Z33=\"\",\"\",DATE($F$2,$I$2,休暇希望!Z33))","v":""},{"$f":"IF(休暇希望!AA33=\"\",\"\",DATE($F$2,$I$2,休暇希望!AA33))","v":""},{"$f":"IF(休暇希望!AB33=\"\",\"\",DATE($F$2,$I$2,休暇希望!AB33))","v":""},{"$f":"IF(休暇希望!AC33=\"\",\"\",DATE($F$2,$I$2,休暇希望!AC33))","v":""},{"$f":"IF(休暇希望!AD33=\"\",\"\",DATE($F$2,$I$2,休暇希望!AD33))","v":""},{"$f":"IF(休暇希望!AE33=\"\",\"\",DATE($F$2,$I$2,休暇希望!AE33))","v":""},{"$f":"IF(休暇希望!AF33=\"\",\"\",DATE($F$2,$I$2,休暇希望!AF33))","v":""},{"$f":"IF(休暇希望!AG33=\"\",\"\",DATE($F$2,$I$2,休暇希望!AG33))","v":""},{"$f":"IF(休暇希望!AH33=\"\",\"\",DATE($F$2,$I$2,休暇希望!AH33))","v":""},{"$f":"IF(休暇希望!AI33=\"\",\"\",DATE($F$2,$I$2,休暇希望!AI33))","v":""}]
[null,"E",4.0000000000000018,31,{"$f":"NETWORKDAYS($H$3,$H$4,各種設定!$A$4:$A$22)-COUNTIF(F39:AJ39,\">0\")","v":"1900-01-21"},"","","","","","","","","","","","","","","","","","","","","","","","","","","","","","","",null,{"$f":"IF(休暇希望!E34=\"\",\"\",DATE($F$2,$I$2,休暇希望!E34))","v":""},{"$f":"IF(休暇希望!F34=\"\",\"\",DATE($F$2,$I$2,休暇希望!F34))","v":""},{"$f":"IF(休暇希望!G34=\"\",\"\",DATE($F$2,$I$2,休暇希望!G34))","v":""},{"$f":"IF(休暇希望!H34=\"\",\"\",DATE($F$2,$I$2,休暇希望!H34))","v":""},{"$f":"IF(休暇希望!I34=\"\",\"\",DATE($F$2,$I$2,休暇希望!I34))","v":""},{"$f":"IF(休暇希望!J34=\"\",\"\",DATE($F$2,$I$2,休暇希望!J34))","v":""},{"$f":"IF(休暇希望!K34=\"\",\"\",DATE($F$2,$I$2,休暇希望!K34))","v":""},{"$f":"IF(休暇希望!L34=\"\",\"\",DATE($F$2,$I$2,休暇希望!L34))","v":""},{"$f":"IF(休暇希望!M34=\"\",\"\",DATE($F$2,$I$2,休暇希望!M34))","v":""},{"$f":"IF(休暇希望!N34=\"\",\"\",DATE($F$2,$I$2,休暇希望!N34))","v":""},{"$f":"IF(休暇希望!O34=\"\",\"\",DATE($F$2,$I$2,休暇希望!O34))","v":""},{"$f":"IF(休暇希望!P34=\"\",\"\",DATE($F$2,$I$2,休暇希望!P34))","v":""},{"$f":"IF(休暇希望!Q34=\"\",\"\",DATE($F$2,$I$2,休暇希望!Q34))","v":""},{"$f":"IF(休暇希望!R34=\"\",\"\",DATE($F$2,$I$2,休暇希望!R34))","v":""},{"$f":"IF(休暇希望!S34=\"\",\"\",DATE($F$2,$I$2,休暇希望!S34))","v":""},{"$f":"IF(休暇希望!T34=\"\",\"\",DATE($F$2,$I$2,休暇希望!T34))","v":""},{"$f":"IF(休暇希望!U34=\"\",\"\",DATE($F$2,$I$2,休暇希望!U34))","v":""},{"$f":"IF(休暇希望!V34=\"\",\"\",DATE($F$2,$I$2,休暇希望!V34))","v":""},{"$f":"IF(休暇希望!W34=\"\",\"\",DATE($F$2,$I$2,休暇希望!W34))","v":""},{"$f":"IF(休暇希望!X34=\"\",\"\",DATE($F$2,$I$2,休暇希望!X34))","v":""},{"$f":"IF(休暇希望!Y34=\"\",\"\",DATE($F$2,$I$2,休暇希望!Y34))","v":""},{"$f":"IF(休暇希望!Z34=\"\",\"\",DATE($F$2,$I$2,休暇希望!Z34))","v":""},{"$f":"IF(休暇希望!AA34=\"\",\"\",DATE($F$2,$I$2,休暇希望!AA34))","v":""},{"$f":"IF(休暇希望!AB34=\"\",\"\",DATE($F$2,$I$2,休暇希望!AB34))","v":""},{"$f":"IF(休暇希望!AC34=\"\",\"\",DATE($F$2,$I$2,休暇希望!AC34))","v":""},{"$f":"IF(休暇希望!AD34=\"\",\"\",DATE($F$2,$I$2,休暇希望!AD34))","v":""},{"$f":"IF(休暇希望!AE34=\"\",\"\",DATE($F$2,$I$2,休暇希望!AE34))","v":""},{"$f":"IF(休暇希望!AF34=\"\",\"\",DATE($F$2,$I$2,休暇希望!AF34))","v":""},{"$f":"IF(休暇希望!AG34=\"\",\"\",DATE($F$2,$I$2,休暇希望!AG34))","v":""},{"$f":"IF(休暇希望!AH34=\"\",\"\",DATE($F$2,$I$2,休暇希望!AH34))","v":""},{"$f":"IF(休暇希望!AI34=\"\",\"\",DATE($F$2,$I$2,休暇希望!AI34))","v":""}]
[null,"E",4.0000000000000018,32,{"$f":"NETWORKDAYS($H$3,$H$4,各種設定!$A$4:$A$22)-COUNTIF(F40:AJ40,\">0\")","v":"1900-01-21"},"","","","","","","","","","","","","","","","","","","","","","","","","","","","","","","",null,{"$f":"IF(休暇希望!E35=\"\",\"\",DATE($F$2,$I$2,休暇希望!E35))","v":""},{"$f":"IF(休暇希望!F35=\"\",\"\",DATE($F$2,$I$2,休暇希望!F35))","v":""},{"$f":"IF(休暇希望!G35=\"\",\"\",DATE($F$2,$I$2,休暇希望!G35))","v":""},{"$f":"IF(休暇希望!H35=\"\",\"\",DATE($F$2,$I$2,休暇希望!H35))","v":""},{"$f":"IF(休暇希望!I35=\"\",\"\",DATE($F$2,$I$2,休暇希望!I35))","v":""},{"$f":"IF(休暇希望!J35=\"\",\"\",DATE($F$2,$I$2,休暇希望!J35))","v":""},{"$f":"IF(休暇希望!K35=\"\",\"\",DATE($F$2,$I$2,休暇希望!K35))","v":""},{"$f":"IF(休暇希望!L35=\"\",\"\",DATE($F$2,$I$2,休暇希望!L35))","v":""},{"$f":"IF(休暇希望!M35=\"\",\"\",DATE($F$2,$I$2,休暇希望!M35))","v":""},{"$f":"IF(休暇希望!N35=\"\",\"\",DATE($F$2,$I$2,休暇希望!N35))","v":""},{"$f":"IF(休暇希望!O35=\"\",\"\",DATE($F$2,$I$2,休暇希望!O35))","v":""},{"$f":"IF(休暇希望!P35=\"\",\"\",DATE($F$2,$I$2,休暇希望!P35))","v":""},{"$f":"IF(休暇希望!Q35=\"\",\"\",DATE($F$2,$I$2,休暇希望!Q35))","v":""},{"$f":"IF(休暇希望!R35=\"\",\"\",DATE($F$2,$I$2,休暇希望!R35))","v":""},{"$f":"IF(休暇希望!S35=\"\",\"\",DATE($F$2,$I$2,休暇希望!S35))","v":""},{"$f":"IF(休暇希望!T35=\"\",\"\",DATE($F$2,$I$2,休暇希望!T35))","v":""},{"$f":"IF(休暇希望!U35=\"\",\"\",DATE($F$2,$I$2,休暇希望!U35))","v":""},{"$f":"IF(休暇希望!V35=\"\",\"\",DATE($F$2,$I$2,休暇希望!V35))","v":""},{"$f":"IF(休暇希望!W35=\"\",\"\",DATE($F$2,$I$2,休暇希望!W35))","v":""},{"$f":"IF(休暇希望!X35=\"\",\"\",DATE($F$2,$I$2,休暇希望!X35))","v":""},{"$f":"IF(休暇希望!Y35=\"\",\"\",DATE($F$2,$I$2,休暇希望!Y35))","v":""},{"$f":"IF(休暇希望!Z35=\"\",\"\",DATE($F$2,$I$2,休暇希望!Z35))","v":""},{"$f":"IF(休暇希望!AA35=\"\",\"\",DATE($F$2,$I$2,休暇希望!AA35))","v":""},{"$f":"IF(休暇希望!AB35=\"\",\"\",DATE($F$2,$I$2,休暇希望!AB35))","v":""},{"$f":"IF(休暇希望!AC35=\"\",\"\",DATE($F$2,$I$2,休暇希望!AC35))","v":""},{"$f":"IF(休暇希望!AD35=\"\",\"\",DATE($F$2,$I$2,休暇希望!AD35))","v":""},{"$f":"IF(休暇希望!AE35=\"\",\"\",DATE($F$2,$I$2,休暇希望!AE35))","v":""},{"$f":"IF(休暇希望!AF35=\"\",\"\",DATE($F$2,$I$2,休暇希望!AF35))","v":""},{"$f":"IF(休暇希望!AG35=\"\",\"\",DATE($F$2,$I$2,休暇希望!AG35))","v":""},{"$f":"IF(休暇希望!AH35=\"\",\"\",DATE($F$2,$I$2,休暇希望!AH35))","v":""},{"$f":"IF(休暇希望!AI35=\"\",\"\",DATE($F$2,$I$2,休暇希望!AI35))","v":""}]
[null,"E",4.0000000000000018,33,{"$f":"NETWORKDAYS($H$3,$H$4,各種設定!$A$4:$A$22)-COUNTIF(F41:AJ41,\">0\")","v":"1900-01-21"},"","","","","","","","","","","","","","","","","","","","","","","","","","","","","","","",null,{"$f":"IF(休暇希望!E36=\"\",\"\",DATE($F$2,$I$2,休暇希望!E36))","v":""},{"$f":"IF(休暇希望!F36=\"\",\"\",DATE($F$2,$I$2,休暇希望!F36))","v":""},{"$f":"IF(休暇希望!G36=\"\",\"\",DATE($F$2,$I$2,休暇希望!G36))","v":""},{"$f":"IF(休暇希望!H36=\"\",\"\",DATE($F$2,$I$2,休暇希望!H36))","v":""},{"$f":"IF(休暇希望!I36=\"\",\"\",DATE($F$2,$I$2,休暇希望!I36))","v":""},{"$f":"IF(休暇希望!J36=\"\",\"\",DATE($F$2,$I$2,休暇希望!J36))","v":""},{"$f":"IF(休暇希望!K36=\"\",\"\",DATE($F$2,$I$2,休暇希望!K36))","v":""},{"$f":"IF(休暇希望!L36=\"\",\"\",DATE($F$2,$I$2,休暇希望!L36))","v":""},{"$f":"IF(休暇希望!M36=\"\",\"\",DATE($F$2,$I$2,休暇希望!M36))","v":""},{"$f":"IF(休暇希望!N36=\"\",\"\",DATE($F$2,$I$2,休暇希望!N36))","v":""},{"$f":"IF(休暇希望!O36=\"\",\"\",DATE($F$2,$I$2,休暇希望!O36))","v":""},{"$f":"IF(休暇希望!P36=\"\",\"\",DATE($F$2,$I$2,休暇希望!P36))","v":""},{"$f":"IF(休暇希望!Q36=\"\",\"\",DATE($F$2,$I$2,休暇希望!Q36))","v":""},{"$f":"IF(休暇希望!R36=\"\",\"\",DATE($F$2,$I$2,休暇希望!R36))","v":""},{"$f":"IF(休暇希望!S36=\"\",\"\",DATE($F$2,$I$2,休暇希望!S36))","v":""},{"$f":"IF(休暇希望!T36=\"\",\"\",DATE($F$2,$I$2,休暇希望!T36))","v":""},{"$f":"IF(休暇希望!U36=\"\",\"\",DATE($F$2,$I$2,休暇希望!U36))","v":""},{"$f":"IF(休暇希望!V36=\"\",\"\",DATE($F$2,$I$2,休暇希望!V36))","v":""},{"$f":"IF(休暇希望!W36=\"\",\"\",DATE($F$2,$I$2,休暇希望!W36))","v":""},{"$f":"IF(休暇希望!X36=\"\",\"\",DATE($F$2,$I$2,休暇希望!X36))","v":""},{"$f":"IF(休暇希望!Y36=\"\",\"\",DATE($F$2,$I$2,休暇希望!Y36))","v":""},{"$f":"IF(休暇希望!Z36=\"\",\"\",DATE($F$2,$I$2,休暇希望!Z36))","v":""},{"$f":"IF(休暇希望!AA36=\"\",\"\",DATE($F$2,$I$2,休暇希望!AA36))","v":""},{"$f":"IF(休暇希望!AB36=\"\",\"\",DATE($F$2,$I$2,休暇希望!AB36))","v":""},{"$f":"IF(休暇希望!AC36=\"\",\"\",DATE($F$2,$I$2,休暇希望!AC36))","v":""},{"$f":"IF(休暇希望!AD36=\"\",\"\",DATE($F$2,$I$2,休暇希望!AD36))","v":""},{"$f":"IF(休暇希望!AE36=\"\",\"\",DATE($F$2,$I$2,休暇希望!AE36))","v":""},{"$f":"IF(休暇希望!AF36=\"\",\"\",DATE($F$2,$I$2,休暇希望!AF36))","v":""},{"$f":"IF(休暇希望!AG36=\"\",\"\",DATE($F$2,$I$2,休暇希望!AG36))","v":""},{"$f":"IF(休暇希望!AH36=\"\",\"\",DATE($F$2,$I$2,休暇希望!AH36))","v":""},{"$f":"IF(休暇希望!AI36=\"\",\"\",DATE($F$2,$I$2,休暇希望!AI36))","v":""}]
[null,"E",4.0000000000000018,34,{"$f":"NETWORKDAYS($H$3,$H$4,各種設定!$A$4:$A$22)-COUNTIF(F42:AJ42,\">0\")","v":"1900-01-21"},"","","","","","","","","","","","","","","","","","","","","","","","","","","","","","","",null,{"$f":"IF(休暇希望!E37=\"\",\"\",DATE($F$2,$I$2,休暇希望!E37))","v":""},{"$f":"IF(休暇希望!F37=\"\",\"\",DATE($F$2,$I$2,休暇希望!F37))","v":""},{"$f":"IF(休暇希望!G37=\"\",\"\",DATE($F$2,$I$2,休暇希望!G37))","v":""},{"$f":"IF(休暇希望!H37=\"\",\"\",DATE($F$2,$I$2,休暇希望!H37))","v":""},{"$f":"IF(休暇希望!I37=\"\",\"\",DATE($F$2,$I$2,休暇希望!I37))","v":""},{"$f":"IF(休暇希望!J37=\"\",\"\",DATE($F$2,$I$2,休暇希望!J37))","v":""},{"$f":"IF(休暇希望!K37=\"\",\"\",DATE($F$2,$I$2,休暇希望!K37))","v":""},{"$f":"IF(休暇希望!L37=\"\",\"\",DATE($F$2,$I$2,休暇希望!L37))","v":""},{"$f":"IF(休暇希望!M37=\"\",\"\",DATE($F$2,$I$2,休暇希望!M37))","v":""},{"$f":"IF(休暇希望!N37=\"\",\"\",DATE($F$2,$I$2,休暇希望!N37))","v":""},{"$f":"IF(休暇希望!O37=\"\",\"\",DATE($F$2,$I$2,休暇希望!O37))","v":""},{"$f":"IF(休暇希望!P37=\"\",\"\",DATE($F$2,$I$2,休暇希望!P37))","v":""},{"$f":"IF(休暇希望!Q37=\"\",\"\",DATE($F$2,$I$2,休暇希望!Q37))","v":""},{"$f":"IF(休暇希望!R37=\"\",\"\",DATE($F$2,$I$2,休暇希望!R37))","v":""},{"$f":"IF(休暇希望!S37=\"\",\"\",DATE($F$2,$I$2,休暇希望!S37))","v":""},{"$f":"IF(休暇希望!T37=\"\",\"\",DATE($F$2,$I$2,休暇希望!T37))","v":""},{"$f":"IF(休暇希望!U37=\"\",\"\",DATE($F$2,$I$2,休暇希望!U37))","v":""},{"$f":"IF(休暇希望!V37=\"\",\"\",DATE($F$2,$I$2,休暇希望!V37))","v":""},{"$f":"IF(休暇希望!W37=\"\",\"\",DATE($F$2,$I$2,休暇希望!W37))","v":""},{"$f":"IF(休暇希望!X37=\"\",\"\",DATE($F$2,$I$2,休暇希望!X37))","v":""},{"$f":"IF(休暇希望!Y37=\"\",\"\",DATE($F$2,$I$2,休暇希望!Y37))","v":""},{"$f":"IF(休暇希望!Z37=\"\",\"\",DATE($F$2,$I$2,休暇希望!Z37))","v":""},{"$f":"IF(休暇希望!AA37=\"\",\"\",DATE($F$2,$I$2,休暇希望!AA37))","v":""},{"$f":"IF(休暇希望!AB37=\"\",\"\",DATE($F$2,$I$2,休暇希望!AB37))","v":""},{"$f":"IF(休暇希望!AC37=\"\",\"\",DATE($F$2,$I$2,休暇希望!AC37))","v":""},{"$f":"IF(休暇希望!AD37=\"\",\"\",DATE($F$2,$I$2,休暇希望!AD37))","v":""},{"$f":"IF(休暇希望!AE37=\"\",\"\",DATE($F$2,$I$2,休暇希望!AE37))","v":""},{"$f":"IF(休暇希望!AF37=\"\",\"\",DATE($F$2,$I$2,休暇希望!AF37))","v":""},{"$f":"IF(休暇希望!AG37=\"\",\"\",DATE($F$2,$I$2,休暇希望!AG37))","v":""},{"$f":"IF(休暇希望!AH37=\"\",\"\",DATE($F$2,$I$2,休暇希望!AH37))","v":""},{"$f":"IF(休暇希望!AI37=\"\",\"\",DATE($F$2,$I$2,休暇希望!AI37))","v":""}]
[null,"E",4.0000000000000018,35,{"$f":"NETWORKDAYS($H$3,$H$4,各種設定!$A$4:$A$22)-COUNTIF(F43:AJ43,\">0\")","v":"1900-01-21"},"","","","","","","","","","","","","","","","","","","","","","","","","","","","","","","",null,{"$f":"IF(休暇希望!E38=\"\",\"\",DATE($F$2,$I$2,休暇希望!E38))","v":""},{"$f":"IF(休暇希望!F38=\"\",\"\",DATE($F$2,$I$2,休暇希望!F38))","v":""},{"$f":"IF(休暇希望!G38=\"\",\"\",DATE($F$2,$I$2,休暇希望!G38))","v":""},{"$f":"IF(休暇希望!H38=\"\",\"\",DATE($F$2,$I$2,休暇希望!H38))","v":""},{"$f":"IF(休暇希望!I38=\"\",\"\",DATE($F$2,$I$2,休暇希望!I38))","v":""},{"$f":"IF(休暇希望!J38=\"\",\"\",DATE($F$2,$I$2,休暇希望!J38))","v":""},{"$f":"IF(休暇希望!K38=\"\",\"\",DATE($F$2,$I$2,休暇希望!K38))","v":""},{"$f":"IF(休暇希望!L38=\"\",\"\",DATE($F$2,$I$2,休暇希望!L38))","v":""},{"$f":"IF(休暇希望!M38=\"\",\"\",DATE($F$2,$I$2,休暇希望!M38))","v":""},{"$f":"IF(休暇希望!N38=\"\",\"\",DATE($F$2,$I$2,休暇希望!N38))","v":""},{"$f":"IF(休暇希望!O38=\"\",\"\",DATE($F$2,$I$2,休暇希望!O38))","v":""},{"$f":"IF(休暇希望!P38=\"\",\"\",DATE($F$2,$I$2,休暇希望!P38))","v":""},{"$f":"IF(休暇希望!Q38=\"\",\"\",DATE($F$2,$I$2,休暇希望!Q38))","v":""},{"$f":"IF(休暇希望!R38=\"\",\"\",DATE($F$2,$I$2,休暇希望!R38))","v":""},{"$f":"IF(休暇希望!S38=\"\",\"\",DATE($F$2,$I$2,休暇希望!S38))","v":""},{"$f":"IF(休暇希望!T38=\"\",\"\",DATE($F$2,$I$2,休暇希望!T38))","v":""},{"$f":"IF(休暇希望!U38=\"\",\"\",DATE($F$2,$I$2,休暇希望!U38))","v":""},{"$f":"IF(休暇希望!V38=\"\",\"\",DATE($F$2,$I$2,休暇希望!V38))","v":""},{"$f":"IF(休暇希望!W38=\"\",\"\",DATE($F$2,$I$2,休暇希望!W38))","v":""},{"$f":"IF(休暇希望!X38=\"\",\"\",DATE($F$2,$I$2,休暇希望!X38))","v":""},{"$f":"IF(休暇希望!Y38=\"\",\"\",DATE($F$2,$I$2,休暇希望!Y38))","v":""},{"$f":"IF(休暇希望!Z38=\"\",\"\",DATE($F$2,$I$2,休暇希望!Z38))","v":""},{"$f":"IF(休暇希望!AA38=\"\",\"\",DATE($F$2,$I$2,休暇希望!AA38))","v":""},{"$f":"IF(休暇希望!AB38=\"\",\"\",DATE($F$2,$I$2,休暇希望!AB38))","v":""},{"$f":"IF(休暇希望!AC38=\"\",\"\",DATE($F$2,$I$2,休暇希望!AC38))","v":""},{"$f":"IF(休暇希望!AD38=\"\",\"\",DATE($F$2,$I$2,休暇希望!AD38))","v":""},{"$f":"IF(休暇希望!AE38=\"\",\"\",DATE($F$2,$I$2,休暇希望!AE38))","v":""},{"$f":"IF(休暇希望!AF38=\"\",\"\",DATE($F$2,$I$2,休暇希望!AF38))","v":""},{"$f":"IF(休暇希望!AG38=\"\",\"\",DATE($F$2,$I$2,休暇希望!AG38))","v":""},{"$f":"IF(休暇希望!AH38=\"\",\"\",DATE($F$2,$I$2,休暇希望!AH38))","v":""},{"$f":"IF(休暇希望!AI38=\"\",\"\",DATE($F$2,$I$2,休暇希望!AI38))","v":""}]
[null,"E",4.0000000000000018,36,{"$f":"NETWORKDAYS($H$3,$H$4,各種設定!$A$4:$A$22)-COUNTIF(F44:AJ44,\">0\")","v":"1900-01-21"},"","","","","","","","","","","","","","","","","","","","","","","","","","","","","","","",null,{"$f":"IF(休暇希望!E39=\"\",\"\",DATE($F$2,$I$2,休暇希望!E39))","v":""},{"$f":"IF(休暇希望!F39=\"\",\"\",DATE($F$2,$I$2,休暇希望!F39))","v":""},{"$f":"IF(休暇希望!G39=\"\",\"\",DATE($F$2,$I$2,休暇希望!G39))","v":""},{"$f":"IF(休暇希望!H39=\"\",\"\",DATE($F$2,$I$2,休暇希望!H39))","v":""},{"$f":"IF(休暇希望!I39=\"\",\"\",DATE($F$2,$I$2,休暇希望!I39))","v":""},{"$f":"IF(休暇希望!J39=\"\",\"\",DATE($F$2,$I$2,休暇希望!J39))","v":""},{"$f":"IF(休暇希望!K39=\"\",\"\",DATE($F$2,$I$2,休暇希望!K39))","v":""},{"$f":"IF(休暇希望!L39=\"\",\"\",DATE($F$2,$I$2,休暇希望!L39))","v":""},{"$f":"IF(休暇希望!M39=\"\",\"\",DATE($F$2,$I$2,休暇希望!M39))","v":""},{"$f":"IF(休暇希望!N39=\"\",\"\",DATE($F$2,$I$2,休暇希望!N39))","v":""},{"$f":"IF(休暇希望!O39=\"\",\"\",DATE($F$2,$I$2,休暇希望!O39))","v":""},{"$f":"IF(休暇希望!P39=\"\",\"\",DATE($F$2,$I$2,休暇希望!P39))","v":""},{"$f":"IF(休暇希望!Q39=\"\",\"\",DATE($F$2,$I$2,休暇希望!Q39))","v":""},{"$f":"IF(休暇希望!R39=\"\",\"\",DATE($F$2,$I$2,休暇希望!R39))","v":""},{"$f":"IF(休暇希望!S39=\"\",\"\",DATE($F$2,$I$2,休暇希望!S39))","v":""},{"$f":"IF(休暇希望!T39=\"\",\"\",DATE($F$2,$I$2,休暇希望!T39))","v":""},{"$f":"IF(休暇希望!U39=\"\",\"\",DATE($F$2,$I$2,休暇希望!U39))","v":""},{"$f":"IF(休暇希望!V39=\"\",\"\",DATE($F$2,$I$2,休暇希望!V39))","v":""},{"$f":"IF(休暇希望!W39=\"\",\"\",DATE($F$2,$I$2,休暇希望!W39))","v":""},{"$f":"IF(休暇希望!X39=\"\",\"\",DATE($F$2,$I$2,休暇希望!X39))","v":""},{"$f":"IF(休暇希望!Y39=\"\",\"\",DATE($F$2,$I$2,休暇希望!Y39))","v":""},{"$f":"IF(休暇希望!Z39=\"\",\"\",DATE($F$2,$I$2,休暇希望!Z39))","v":""},{"$f":"IF(休暇希望!AA39=\"\",\"\",DATE($F$2,$I$2,休暇希望!AA39))","v":""},{"$f":"IF(休暇希望!AB39=\"\",\"\",DATE($F$2,$I$2,休暇希望!AB39))","v":""},{"$f":"IF(休暇希望!AC39=\"\",\"\",DATE($F$2,$I$2,休暇希望!AC39))","v":""},{"$f":"IF(休暇希望!AD39=\"\",\"\",DATE($F$2,$I$2,休暇希望!AD39))","v":""},{"$f":"IF(休暇希望!AE39=\"\",\"\",DATE($F$2,$I$2,休暇希望!AE39))","v":""},{"$f":"IF(休暇希望!AF39=\"\",\"\",DATE($F$2,$I$2,休暇希望!AF39))","v":""},{"$f":"IF(休暇希望!AG39=\"\",\"\",DATE($F$2,$I$2,休暇希望!AG39))","v":""},{"$f":"IF(休暇希望!AH39=\"\",\"\",DATE($F$2,$I$2,休暇希望!AH39))","v":""},{"$f":"IF(休暇希望!AI39=\"\",\"\",DATE($F$2,$I$2,休暇希望!AI39))","v":""}]
[null,"E",4.0000000000000018,37,{"$f":"NETWORKDAYS($H$3,$H$4,各種設定!$A$4:$A$22)-COUNTIF(F45:AJ45,\">0\")","v":"1900-01-21"},"","","","","","","","","","","","","","","","","","","","","","","","","","","","","","","",null,{"$f":"IF(休暇希望!E40=\"\",\"\",DATE($F$2,$I$2,休暇希望!E40))","v":""},{"$f":"IF(休暇希望!F40=\"\",\"\",DATE($F$2,$I$2,休暇希望!F40))","v":""},{"$f":"IF(休暇希望!G40=\"\",\"\",DATE($F$2,$I$2,休暇希望!G40))","v":""},{"$f":"IF(休暇希望!H40=\"\",\"\",DATE($F$2,$I$2,休暇希望!H40))","v":""},{"$f":"IF(休暇希望!I40=\"\",\"\",DATE($F$2,$I$2,休暇希望!I40))","v":""},{"$f":"IF(休暇希望!J40=\"\",\"\",DATE($F$2,$I$2,休暇希望!J40))","v":""},{"$f":"IF(休暇希望!K40=\"\",\"\",DATE($F$2,$I$2,休暇希望!K40))","v":""},{"$f":"IF(休暇希望!L40=\"\",\"\",DATE($F$2,$I$2,休暇希望!L40))","v":""},{"$f":"IF(休暇希望!M40=\"\",\"\",DATE($F$2,$I$2,休暇希望!M40))","v":""},{"$f":"IF(休暇希望!N40=\"\",\"\",DATE($F$2,$I$2,休暇希望!N40))","v":""},{"$f":"IF(休暇希望!O40=\"\",\"\",DATE($F$2,$I$2,休暇希望!O40))","v":""},{"$f":"IF(休暇希望!P40=\"\",\"\",DATE($F$2,$I$2,休暇希望!P40))","v":""},{"$f":"IF(休暇希望!Q40=\"\",\"\",DATE($F$2,$I$2,休暇希望!Q40))","v":""},{"$f":"IF(休暇希望!R40=\"\",\"\",DATE($F$2,$I$2,休暇希望!R40))","v":""},{"$f":"IF(休暇希望!S40=\"\",\"\",DATE($F$2,$I$2,休暇希望!S40))","v":""},{"$f":"IF(休暇希望!T40=\"\",\"\",DATE($F$2,$I$2,休暇希望!T40))","v":""},{"$f":"IF(休暇希望!U40=\"\",\"\",DATE($F$2,$I$2,休暇希望!U40))","v":""},{"$f":"IF(休暇希望!V40=\"\",\"\",DATE($F$2,$I$2,休暇希望!V40))","v":""},{"$f":"IF(休暇希望!W40=\"\",\"\",DATE($F$2,$I$2,休暇希望!W40))","v":""},{"$f":"IF(休暇希望!X40=\"\",\"\",DATE($F$2,$I$2,休暇希望!X40))","v":""},{"$f":"IF(休暇希望!Y40=\"\",\"\",DATE($F$2,$I$2,休暇希望!Y40))","v":""},{"$f":"IF(休暇希望!Z40=\"\",\"\",DATE($F$2,$I$2,休暇希望!Z40))","v":""},{"$f":"IF(休暇希望!AA40=\"\",\"\",DATE($F$2,$I$2,休暇希望!AA40))","v":""},{"$f":"IF(休暇希望!AB40=\"\",\"\",DATE($F$2,$I$2,休暇希望!AB40))","v":""},{"$f":"IF(休暇希望!AC40=\"\",\"\",DATE($F$2,$I$2,休暇希望!AC40))","v":""},{"$f":"IF(休暇希望!AD40=\"\",\"\",DATE($F$2,$I$2,休暇希望!AD40))","v":""},{"$f":"IF(休暇希望!AE40=\"\",\"\",DATE($F$2,$I$2,休暇希望!AE40))","v":""},{"$f":"IF(休暇希望!AF40=\"\",\"\",DATE($F$2,$I$2,休暇希望!AF40))","v":""},{"$f":"IF(休暇希望!AG40=\"\",\"\",DATE($F$2,$I$2,休暇希望!AG40))","v":""},{"$f":"IF(休暇希望!AH40=\"\",\"\",DATE($F$2,$I$2,休暇希望!AH40))","v":""},{"$f":"IF(休暇希望!AI40=\"\",\"\",DATE($F$2,$I$2,休暇希望!AI40))","v":""}]
[null,"E",4.0000000000000018,38,{"$f":"NETWORKDAYS($H$3,$H$4,各種設定!$A$4:$A$22)-COUNTIF(F46:AJ46,\">0\")","v":"1900-01-21"},"","","","","","","","","","","","","","","","","","","","","","","","","","","","","","","",null,{"$f":"IF(休暇希望!E41=\"\",\"\",DATE($F$2,$I$2,休暇希望!E41))","v":""},{"$f":"IF(休暇希望!F41=\"\",\"\",DATE($F$2,$I$2,休暇希望!F41))","v":""},{"$f":"IF(休暇希望!G41=\"\",\"\",DATE($F$2,$I$2,休暇希望!G41))","v":""},{"$f":"IF(休暇希望!H41=\"\",\"\",DATE($F$2,$I$2,休暇希望!H41))","v":""},{"$f":"IF(休暇希望!I41=\"\",\"\",DATE($F$2,$I$2,休暇希望!I41))","v":""},{"$f":"IF(休暇希望!J41=\"\",\"\",DATE($F$2,$I$2,休暇希望!J41))","v":""},{"$f":"IF(休暇希望!K41=\"\",\"\",DATE($F$2,$I$2,休暇希望!K41))","v":""},{"$f":"IF(休暇希望!L41=\"\",\"\",DATE($F$2,$I$2,休暇希望!L41))","v":""},{"$f":"IF(休暇希望!M41=\"\",\"\",DATE($F$2,$I$2,休暇希望!M41))","v":""},{"$f":"IF(休暇希望!N41=\"\",\"\",DATE($F$2,$I$2,休暇希望!N41))","v":""},{"$f":"IF(休暇希望!O41=\"\",\"\",DATE($F$2,$I$2,休暇希望!O41))","v":""},{"$f":"IF(休暇希望!P41=\"\",\"\",DATE($F$2,$I$2,休暇希望!P41))","v":""},{"$f":"IF(休暇希望!Q41=\"\",\"\",DATE($F$2,$I$2,休暇希望!Q41))","v":""},{"$f":"IF(休暇希望!R41=\"\",\"\",DATE($F$2,$I$2,休暇希望!R41))","v":""},{"$f":"IF(休暇希望!S41=\"\",\"\",DATE($F$2,$I$2,休暇希望!S41))","v":""},{"$f":"IF(休暇希望!T41=\"\",\"\",DATE($F$2,$I$2,休暇希望!T41))","v":""},{"$f":"IF(休暇希望!U41=\"\",\"\",DATE($F$2,$I$2,休暇希望!U41))","v":""},{"$f":"IF(休暇希望!V41=\"\",\"\",DATE($F$2,$I$2,休暇希望!V41))","v":""},{"$f":"IF(休暇希望!W41=\"\",\"\",DATE($F$2,$I$2,休暇希望!W41))","v":""},{"$f":"IF(休暇希望!X41=\"\",\"\",DATE($F$2,$I$2,休暇希望!X41))","v":""},{"$f":"IF(休暇希望!Y41=\"\",\"\",DATE($F$2,$I$2,休暇希望!Y41))","v":""},{"$f":"IF(休暇希望!Z41=\"\",\"\",DATE($F$2,$I$2,休暇希望!Z41))","v":""},{"$f":"IF(休暇希望!AA41=\"\",\"\",DATE($F$2,$I$2,休暇希望!AA41))","v":""},{"$f":"IF(休暇希望!AB41=\"\",\"\",DATE($F$2,$I$2,休暇希望!AB41))","v":""},{"$f":"IF(休暇希望!AC41=\"\",\"\",DATE($F$2,$I$2,休暇希望!AC41))","v":""},{"$f":"IF(休暇希望!AD41=\"\",\"\",DATE($F$2,$I$2,休暇希望!AD41))","v":""},{"$f":"IF(休暇希望!AE41=\"\",\"\",DATE($F$2,$I$2,休暇希望!AE41))","v":""},{"$f":"IF(休暇希望!AF41=\"\",\"\",DATE($F$2,$I$2,休暇希望!AF41))","v":""},{"$f":"IF(休暇希望!AG41=\"\",\"\",DATE($F$2,$I$2,休暇希望!AG41))","v":""},{"$f":"IF(休暇希望!AH41=\"\",\"\",DATE($F$2,$I$2,休暇希望!AH41))","v":""},{"$f":"IF(休暇希望!AI41=\"\",\"\",DATE($F$2,$I$2,休暇希望!AI41))","v":""}]
[null,"E",4.0000000000000018,39,{"$f":"NETWORKDAYS($H$3,$H$4,各種設定!$A$4:$A$22)-COUNTIF(F47:AJ47,\">0\")","v":"1900-01-21"},"","","","","","","","","","","","","","","","","","","","","","","","","","","","","","","",null,{"$f":"IF(休暇希望!E42=\"\",\"\",DATE($F$2,$I$2,休暇希望!E42))","v":""},{"$f":"IF(休暇希望!F42=\"\",\"\",DATE($F$2,$I$2,休暇希望!F42))","v":""},{"$f":"IF(休暇希望!G42=\"\",\"\",DATE($F$2,$I$2,休暇希望!G42))","v":""},{"$f":"IF(休暇希望!H42=\"\",\"\",DATE($F$2,$I$2,休暇希望!H42))","v":""},{"$f":"IF(休暇希望!I42=\"\",\"\",DATE($F$2,$I$2,休暇希望!I42))","v":""},{"$f":"IF(休暇希望!J42=\"\",\"\",DATE($F$2,$I$2,休暇希望!J42))","v":""},{"$f":"IF(休暇希望!K42=\"\",\"\",DATE($F$2,$I$2,休暇希望!K42))","v":""},{"$f":"IF(休暇希望!L42=\"\",\"\",DATE($F$2,$I$2,休暇希望!L42))","v":""},{"$f":"IF(休暇希望!M42=\"\",\"\",DATE($F$2,$I$2,休暇希望!M42))","v":""},{"$f":"IF(休暇希望!N42=\"\",\"\",DATE($F$2,$I$2,休暇希望!N42))","v":""},{"$f":"IF(休暇希望!O42=\"\",\"\",DATE($F$2,$I$2,休暇希望!O42))","v":""},{"$f":"IF(休暇希望!P42=\"\",\"\",DATE($F$2,$I$2,休暇希望!P42))","v":""},{"$f":"IF(休暇希望!Q42=\"\",\"\",DATE($F$2,$I$2,休暇希望!Q42))","v":""},{"$f":"IF(休暇希望!R42=\"\",\"\",DATE($F$2,$I$2,休暇希望!R42))","v":""},{"$f":"IF(休暇希望!S42=\"\",\"\",DATE($F$2,$I$2,休暇希望!S42))","v":""},{"$f":"IF(休暇希望!T42=\"\",\"\",DATE($F$2,$I$2,休暇希望!T42))","v":""},{"$f":"IF(休暇希望!U42=\"\",\"\",DATE($F$2,$I$2,休暇希望!U42))","v":""},{"$f":"IF(休暇希望!V42=\"\",\"\",DATE($F$2,$I$2,休暇希望!V42))","v":""},{"$f":"IF(休暇希望!W42=\"\",\"\",DATE($F$2,$I$2,休暇希望!W42))","v":""},{"$f":"IF(休暇希望!X42=\"\",\"\",DATE($F$2,$I$2,休暇希望!X42))","v":""},{"$f":"IF(休暇希望!Y42=\"\",\"\",DATE($F$2,$I$2,休暇希望!Y42))","v":""},{"$f":"IF(休暇希望!Z42=\"\",\"\",DATE($F$2,$I$2,休暇希望!Z42))","v":""},{"$f":"IF(休暇希望!AA42=\"\",\"\",DATE($F$2,$I$2,休暇希望!AA42))","v":""},{"$f":"IF(休暇希望!AB42=\"\",\"\",DATE($F$2,$I$2,休暇希望!AB42))","v":""},{"$f":"IF(休暇希望!AC42=\"\",\"\",DATE($F$2,$I$2,休暇希望!AC42))","v":""},{"$f":"IF(休暇希望!AD42=\"\",\"\",DATE($F$2,$I$2,休暇希望!AD42))","v":""},{"$f":"IF(休暇希望!AE42=\"\",\"\",DATE($F$2,$I$2,休暇希望!AE42))","v":""},{"$f":"IF(休暇希望!AF42=\"\",\"\",DATE($F$2,$I$2,休暇希望!AF42))","v":""},{"$f":"IF(休暇希望!AG42=\"\",\"\",DATE($F$2,$I$2,休暇希望!AG42))","v":""},{"$f":"IF(休暇希望!AH42=\"\",\"\",DATE($F$2,$I$2,休暇希望!AH42))","v":""},{"$f":"IF(休暇希望!AI42=\"\",\"\",DATE($F$2,$I$2,休暇希望!AI42))","v":""}]
[null,"E",4.0000000000000018,40,{"$f":"NETWORKDAYS($H$3,$H$4,各種設定!$A$4:$A$22)-COUNTIF(F48:AJ48,\">0\")","v":"1900-01-21"},"","","","","","","","","","","","","","","","","","","","","","","","","","","","","","","",null,{"$f":"IF(休暇希望!E43=\"\",\"\",DATE($F$2,$I$2,休暇希望!E43))","v":""},{"$f":"IF(休暇希望!F43=\"\",\"\",DATE($F$2,$I$2,休暇希望!F43))","v":""},{"$f":"IF(休暇希望!G43=\"\",\"\",DATE($F$2,$I$2,休暇希望!G43))","v":""},{"$f":"IF(休暇希望!H43=\"\",\"\",DATE($F$2,$I$2,休暇希望!H43))","v":""},{"$f":"IF(休暇希望!I43=\"\",\"\",DATE($F$2,$I$2,休暇希望!I43))","v":""},{"$f":"IF(休暇希望!J43=\"\",\"\",DATE($F$2,$I$2,休暇希望!J43))","v":""},{"$f":"IF(休暇希望!K43=\"\",\"\",DATE($F$2,$I$2,休暇希望!K43))","v":""},{"$f":"IF(休暇希望!L43=\"\",\"\",DATE($F$2,$I$2,休暇希望!L43))","v":""},{"$f":"IF(休暇希望!M43=\"\",\"\",DATE($F$2,$I$2,休暇希望!M43))","v":""},{"$f":"IF(休暇希望!N43=\"\",\"\",DATE($F$2,$I$2,休暇希望!N43))","v":""},{"$f":"IF(休暇希望!O43=\"\",\"\",DATE($F$2,$I$2,休暇希望!O43))","v":""},{"$f":"IF(休暇希望!P43=\"\",\"\",DATE($F$2,$I$2,休暇希望!P43))","v":""},{"$f":"IF(休暇希望!Q43=\"\",\"\",DATE($F$2,$I$2,休暇希望!Q43))","v":""},{"$f":"IF(休暇希望!R43=\"\",\"\",DATE($F$2,$I$2,休暇希望!R43))","v":""},{"$f":"IF(休暇希望!S43=\"\",\"\",DATE($F$2,$I$2,休暇希望!S43))","v":""},{"$f":"IF(休暇希望!T43=\"\",\"\",DATE($F$2,$I$2,休暇希望!T43))","v":""},{"$f":"IF(休暇希望!U43=\"\",\"\",DATE($F$2,$I$2,休暇希望!U43))","v":""},{"$f":"IF(休暇希望!V43=\"\",\"\",DATE($F$2,$I$2,休暇希望!V43))","v":""},{"$f":"IF(休暇希望!W43=\"\",\"\",DATE($F$2,$I$2,休暇希望!W43))","v":""},{"$f":"IF(休暇希望!X43=\"\",\"\",DATE($F$2,$I$2,休暇希望!X43))","v":""},{"$f":"IF(休暇希望!Y43=\"\",\"\",DATE($F$2,$I$2,休暇希望!Y43))","v":""},{"$f":"IF(休暇希望!Z43=\"\",\"\",DATE($F$2,$I$2,休暇希望!Z43))","v":""},{"$f":"IF(休暇希望!AA43=\"\",\"\",DATE($F$2,$I$2,休暇希望!AA43))","v":""},{"$f":"IF(休暇希望!AB43=\"\",\"\",DATE($F$2,$I$2,休暇希望!AB43))","v":""},{"$f":"IF(休暇希望!AC43=\"\",\"\",DATE($F$2,$I$2,休暇希望!AC43))","v":""},{"$f":"IF(休暇希望!AD43=\"\",\"\",DATE($F$2,$I$2,休暇希望!AD43))","v":""},{"$f":"IF(休暇希望!AE43=\"\",\"\",DATE($F$2,$I$2,休暇希望!AE43))","v":""},{"$f":"IF(休暇希望!AF43=\"\",\"\",DATE($F$2,$I$2,休暇希望!AF43))","v":""},{"$f":"IF(休暇希望!AG43=\"\",\"\",DATE($F$2,$I$2,休暇希望!AG43))","v":""},{"$f":"IF(休暇希望!AH43=\"\",\"\",DATE($F$2,$I$2,休暇希望!AH43))","v":""},{"$f":"IF(休暇希望!AI43=\"\",\"\",DATE($F$2,$I$2,休暇希望!AI43))","v":""}]
[null,"E",4.0000000000000018,41,{"$f":"NETWORKDAYS($H$3,$H$4,各種設定!$A$4:$A$22)-COUNTIF(F49:AJ49,\">0\")","v":"1900-01-21"},"","","","","","","","","","","","","","","","","","","","","","","","","","","","","","","",null,{"$f":"IF(休暇希望!E44=\"\",\"\",DATE($F$2,$I$2,休暇希望!E44))","v":""},{"$f":"IF(休暇希望!F44=\"\",\"\",DATE($F$2,$I$2,休暇希望!F44))","v":""},{"$f":"IF(休暇希望!G44=\"\",\"\",DATE($F$2,$I$2,休暇希望!G44))","v":""},{"$f":"IF(休暇希望!H44=\"\",\"\",DATE($F$2,$I$2,休暇希望!H44))","v":""},{"$f":"IF(休暇希望!I44=\"\",\"\",DATE($F$2,$I$2,休暇希望!I44))","v":""},{"$f":"IF(休暇希望!J44=\"\",\"\",DATE($F$2,$I$2,休暇希望!J44))","v":""},{"$f":"IF(休暇希望!K44=\"\",\"\",DATE($F$2,$I$2,休暇希望!K44))","v":""},{"$f":"IF(休暇希望!L44=\"\",\"\",DATE($F$2,$I$2,休暇希望!L44))","v":""},{"$f":"IF(休暇希望!M44=\"\",\"\",DATE($F$2,$I$2,休暇希望!M44))","v":""},{"$f":"IF(休暇希望!N44=\"\",\"\",DATE($F$2,$I$2,休暇希望!N44))","v":""},{"$f":"IF(休暇希望!O44=\"\",\"\",DATE($F$2,$I$2,休暇希望!O44))","v":""},{"$f":"IF(休暇希望!P44=\"\",\"\",DATE($F$2,$I$2,休暇希望!P44))","v":""},{"$f":"IF(休暇希望!Q44=\"\",\"\",DATE($F$2,$I$2,休暇希望!Q44))","v":""},{"$f":"IF(休暇希望!R44=\"\",\"\",DATE($F$2,$I$2,休暇希望!R44))","v":""},{"$f":"IF(休暇希望!S44=\"\",\"\",DATE($F$2,$I$2,休暇希望!S44))","v":""},{"$f":"IF(休暇希望!T44=\"\",\"\",DATE($F$2,$I$2,休暇希望!T44))","v":""},{"$f":"IF(休暇希望!U44=\"\",\"\",DATE($F$2,$I$2,休暇希望!U44))","v":""},{"$f":"IF(休暇希望!V44=\"\",\"\",DATE($F$2,$I$2,休暇希望!V44))","v":""},{"$f":"IF(休暇希望!W44=\"\",\"\",DATE($F$2,$I$2,休暇希望!W44))","v":""},{"$f":"IF(休暇希望!X44=\"\",\"\",DATE($F$2,$I$2,休暇希望!X44))","v":""},{"$f":"IF(休暇希望!Y44=\"\",\"\",DATE($F$2,$I$2,休暇希望!Y44))","v":""},{"$f":"IF(休暇希望!Z44=\"\",\"\",DATE($F$2,$I$2,休暇希望!Z44))","v":""},{"$f":"IF(休暇希望!AA44=\"\",\"\",DATE($F$2,$I$2,休暇希望!AA44))","v":""},{"$f":"IF(休暇希望!AB44=\"\",\"\",DATE($F$2,$I$2,休暇希望!AB44))","v":""},{"$f":"IF(休暇希望!AC44=\"\",\"\",DATE($F$2,$I$2,休暇希望!AC44))","v":""},{"$f":"IF(休暇希望!AD44=\"\",\"\",DATE($F$2,$I$2,休暇希望!AD44))","v":""},{"$f":"IF(休暇希望!AE44=\"\",\"\",DATE($F$2,$I$2,休暇希望!AE44))","v":""},{"$f":"IF(休暇希望!AF44=\"\",\"\",DATE($F$2,$I$2,休暇希望!AF44))","v":""},{"$f":"IF(休暇希望!AG44=\"\",\"\",DATE($F$2,$I$2,休暇希望!AG44))","v":""},{"$f":"IF(休暇希望!AH44=\"\",\"\",DATE($F$2,$I$2,休暇希望!AH44))","v":""},{"$f":"IF(休暇希望!AI44=\"\",\"\",DATE($F$2,$I$2,休暇希望!AI44))","v":""}]
[null,"E",4.0000000000000018,42,{"$f":"NETWORKDAYS($H$3,$H$4,各種設定!$A$4:$A$22)-COUNTIF(F50:AJ50,\">0\")","v":"1900-01-21"},"","","","","","","","","","","","","","","","","","","","","","",{"$f":"IF(AB$7=\"\",\"\",IF(COUNTIF($AL50:$BP50,AB$7)>0,$C50,\"\"))","v":""},"","","","","","","","",null,{"$f":"IF(休暇希望!E45=\"\",\"\",DATE($F$2,$I$2,休暇希望!E45))","v":""},{"$f":"IF(休暇希望!F45=\"\",\"\",DATE($F$2,$I$2,休暇希望!F45))","v":""},{"$f":"IF(休暇希望!G45=\"\",\"\",DATE($F$2,$I$2,休暇希望!G45))","v":""},{"$f":"IF(休暇希望!H45=\"\",\"\",DATE($F$2,$I$2,休暇希望!H45))","v":""},{"$f":"IF(休暇希望!I45=\"\",\"\",DATE($F$2,$I$2,休暇希望!I45))","v":""},{"$f":"IF(休暇希望!J45=\"\",\"\",DATE($F$2,$I$2,休暇希望!J45))","v":""},{"$f":"IF(休暇希望!K45=\"\",\"\",DATE($F$2,$I$2,休暇希望!K45))","v":""},{"$f":"IF(休暇希望!L45=\"\",\"\",DATE($F$2,$I$2,休暇希望!L45))","v":""},{"$f":"IF(休暇希望!M45=\"\",\"\",DATE($F$2,$I$2,休暇希望!M45))","v":""},{"$f":"IF(休暇希望!N45=\"\",\"\",DATE($F$2,$I$2,休暇希望!N45))","v":""},{"$f":"IF(休暇希望!O45=\"\",\"\",DATE($F$2,$I$2,休暇希望!O45))","v":""},{"$f":"IF(休暇希望!P45=\"\",\"\",DATE($F$2,$I$2,休暇希望!P45))","v":""},{"$f":"IF(休暇希望!Q45=\"\",\"\",DATE($F$2,$I$2,休暇希望!Q45))","v":""},{"$f":"IF(休暇希望!R45=\"\",\"\",DATE($F$2,$I$2,休暇希望!R45))","v":""},{"$f":"IF(休暇希望!S45=\"\",\"\",DATE($F$2,$I$2,休暇希望!S45))","v":""},{"$f":"IF(休暇希望!T45=\"\",\"\",DATE($F$2,$I$2,休暇希望!T45))","v":""},{"$f":"IF(休暇希望!U45=\"\",\"\",DATE($F$2,$I$2,休暇希望!U45))","v":""},{"$f":"IF(休暇希望!V45=\"\",\"\",DATE($F$2,$I$2,休暇希望!V45))","v":""},{"$f":"IF(休暇希望!W45=\"\",\"\",DATE($F$2,$I$2,休暇希望!W45))","v":""},{"$f":"IF(休暇希望!X45=\"\",\"\",DATE($F$2,$I$2,休暇希望!X45))","v":""},{"$f":"IF(休暇希望!Y45=\"\",\"\",DATE($F$2,$I$2,休暇希望!Y45))","v":""},{"$f":"IF(休暇希望!Z45=\"\",\"\",DATE($F$2,$I$2,休暇希望!Z45))","v":""},{"$f":"IF(休暇希望!AA45=\"\",\"\",DATE($F$2,$I$2,休暇希望!AA45))","v":""},{"$f":"IF(休暇希望!AB45=\"\",\"\",DATE($F$2,$I$2,休暇希望!AB45))","v":""},{"$f":"IF(休暇希望!AC45=\"\",\"\",DATE($F$2,$I$2,休暇希望!AC45))","v":""},{"$f":"IF(休暇希望!AD45=\"\",\"\",DATE($F$2,$I$2,休暇希望!AD45))","v":""},{"$f":"IF(休暇希望!AE45=\"\",\"\",DATE($F$2,$I$2,休暇希望!AE45))","v":""},{"$f":"IF(休暇希望!AF45=\"\",\"\",DATE($F$2,$I$2,休暇希望!AF45))","v":""},{"$f":"IF(休暇希望!AG45=\"\",\"\",DATE($F$2,$I$2,休暇希望!AG45))","v":""},{"$f":"IF(休暇希望!AH45=\"\",\"\",DATE($F$2,$I$2,休暇希望!AH45))","v":""},{"$f":"IF(休暇希望!AI45=\"\",\"\",DATE($F$2,$I$2,休暇希望!AI45))","v":""}]
[null,"E",4.0000000000000018,43,{"$f":"NETWORKDAYS($H$3,$H$4,各種設定!$A$4:$A$22)-COUNTIF(F51:AJ51,\">0\")","v":"1900-01-21"},"","","","","","","","","","","","","","","","","","","","","","","","","","","","","","","",null,{"$f":"IF(休暇希望!E46=\"\",\"\",DATE($F$2,$I$2,休暇希望!E46))","v":""},{"$f":"IF(休暇希望!F46=\"\",\"\",DATE($F$2,$I$2,休暇希望!F46))","v":""},{"$f":"IF(休暇希望!G46=\"\",\"\",DATE($F$2,$I$2,休暇希望!G46))","v":""},{"$f":"IF(休暇希望!H46=\"\",\"\",DATE($F$2,$I$2,休暇希望!H46))","v":""},{"$f":"IF(休暇希望!I46=\"\",\"\",DATE($F$2,$I$2,休暇希望!I46))","v":""},{"$f":"IF(休暇希望!J46=\"\",\"\",DATE($F$2,$I$2,休暇希望!J46))","v":""},{"$f":"IF(休暇希望!K46=\"\",\"\",DATE($F$2,$I$2,休暇希望!K46))","v":""},{"$f":"IF(休暇希望!L46=\"\",\"\",DATE($F$2,$I$2,休暇希望!L46))","v":""},{"$f":"IF(休暇希望!M46=\"\",\"\",DATE($F$2,$I$2,休暇希望!M46))","v":""},{"$f":"IF(休暇希望!N46=\"\",\"\",DATE($F$2,$I$2,休暇希望!N46))","v":""},{"$f":"IF(休暇希望!O46=\"\",\"\",DATE($F$2,$I$2,休暇希望!O46))","v":""},{"$f":"IF(休暇希望!P46=\"\",\"\",DATE($F$2,$I$2,休暇希望!P46))","v":""},{"$f":"IF(休暇希望!Q46=\"\",\"\",DATE($F$2,$I$2,休暇希望!Q46))","v":""},{"$f":"IF(休暇希望!R46=\"\",\"\",DATE($F$2,$I$2,休暇希望!R46))","v":""},{"$f":"IF(休暇希望!S46=\"\",\"\",DATE($F$2,$I$2,休暇希望!S46))","v":""},{"$f":"IF(休暇希望!T46=\"\",\"\",DATE($F$2,$I$2,休暇希望!T46))","v":""},{"$f":"IF(休暇希望!U46=\"\",\"\",DATE($F$2,$I$2,休暇希望!U46))","v":""},{"$f":"IF(休暇希望!V46=\"\",\"\",DATE($F$2,$I$2,休暇希望!V46))","v":""},{"$f":"IF(休暇希望!W46=\"\",\"\",DATE($F$2,$I$2,休暇希望!W46))","v":""},{"$f":"IF(休暇希望!X46=\"\",\"\",DATE($F$2,$I$2,休暇希望!X46))","v":""},{"$f":"IF(休暇希望!Y46=\"\",\"\",DATE($F$2,$I$2,休暇希望!Y46))","v":""},{"$f":"IF(休暇希望!Z46=\"\",\"\",DATE($F$2,$I$2,休暇希望!Z46))","v":""},{"$f":"IF(休暇希望!AA46=\"\",\"\",DATE($F$2,$I$2,休暇希望!AA46))","v":""},{"$f":"IF(休暇希望!AB46=\"\",\"\",DATE($F$2,$I$2,休暇希望!AB46))","v":""},{"$f":"IF(休暇希望!AC46=\"\",\"\",DATE($F$2,$I$2,休暇希望!AC46))","v":""},{"$f":"IF(休暇希望!AD46=\"\",\"\",DATE($F$2,$I$2,休暇希望!AD46))","v":""},{"$f":"IF(休暇希望!AE46=\"\",\"\",DATE($F$2,$I$2,休暇希望!AE46))","v":""},{"$f":"IF(休暇希望!AF46=\"\",\"\",DATE($F$2,$I$2,休暇希望!AF46))","v":""},{"$f":"IF(休暇希望!AG46=\"\",\"\",DATE($F$2,$I$2,休暇希望!AG46))","v":""},{"$f":"IF(休暇希望!AH46=\"\",\"\",DATE($F$2,$I$2,休暇希望!AH46))","v":""},{"$f":"IF(休暇希望!AI46=\"\",\"\",DATE($F$2,$I$2,休暇希望!AI46))","v":""}]
[null,"E",4.0000000000000018,44,{"$f":"NETWORKDAYS($H$3,$H$4,各種設定!$A$4:$A$22)-COUNTIF(F52:AJ52,\">0\")","v":"1900-01-21"},"","","","","",{"$f":"IF(K$7=\"\",\"\",IF(COUNTIF($AL52:$BP52,K$7)>0,$C52,\"\"))","v":""},"","","","","","","","","",{"$f":"IF(U$7=\"\",\"\",IF(COUNTIF($AL52:$BP52,U$7)>0,$C52,\"\"))","v":""},"","","","","","","","","","","","","","","",null,{"$f":"IF(休暇希望!E47=\"\",\"\",DATE($F$2,$I$2,休暇希望!E47))","v":""},{"$f":"IF(休暇希望!F47=\"\",\"\",DATE($F$2,$I$2,休暇希望!F47))","v":""},{"$f":"IF(休暇希望!G47=\"\",\"\",DATE($F$2,$I$2,休暇希望!G47))","v":""},{"$f":"IF(休暇希望!H47=\"\",\"\",DATE($F$2,$I$2,休暇希望!H47))","v":""},{"$f":"IF(休暇希望!I47=\"\",\"\",DATE($F$2,$I$2,休暇希望!I47))","v":""},{"$f":"IF(休暇希望!J47=\"\",\"\",DATE($F$2,$I$2,休暇希望!J47))","v":""},{"$f":"IF(休暇希望!K47=\"\",\"\",DATE($F$2,$I$2,休暇希望!K47))","v":""},{"$f":"IF(休暇希望!L47=\"\",\"\",DATE($F$2,$I$2,休暇希望!L47))","v":""},{"$f":"IF(休暇希望!M47=\"\",\"\",DATE($F$2,$I$2,休暇希望!M47))","v":""},{"$f":"IF(休暇希望!N47=\"\",\"\",DATE($F$2,$I$2,休暇希望!N47))","v":""},{"$f":"IF(休暇希望!O47=\"\",\"\",DATE($F$2,$I$2,休暇希望!O47))","v":""},{"$f":"IF(休暇希望!P47=\"\",\"\",DATE($F$2,$I$2,休暇希望!P47))","v":""},{"$f":"IF(休暇希望!Q47=\"\",\"\",DATE($F$2,$I$2,休暇希望!Q47))","v":""},{"$f":"IF(休暇希望!R47=\"\",\"\",DATE($F$2,$I$2,休暇希望!R47))","v":""},{"$f":"IF(休暇希望!S47=\"\",\"\",DATE($F$2,$I$2,休暇希望!S47))","v":""},{"$f":"IF(休暇希望!T47=\"\",\"\",DATE($F$2,$I$2,休暇希望!T47))","v":""},{"$f":"IF(休暇希望!U47=\"\",\"\",DATE($F$2,$I$2,休暇希望!U47))","v":""},{"$f":"IF(休暇希望!V47=\"\",\"\",DATE($F$2,$I$2,休暇希望!V47))","v":""},{"$f":"IF(休暇希望!W47=\"\",\"\",DATE($F$2,$I$2,休暇希望!W47))","v":""},{"$f":"IF(休暇希望!X47=\"\",\"\",DATE($F$2,$I$2,休暇希望!X47))","v":""},{"$f":"IF(休暇希望!Y47=\"\",\"\",DATE($F$2,$I$2,休暇希望!Y47))","v":""},{"$f":"IF(休暇希望!Z47=\"\",\"\",DATE($F$2,$I$2,休暇希望!Z47))","v":""},{"$f":"IF(休暇希望!AA47=\"\",\"\",DATE($F$2,$I$2,休暇希望!AA47))","v":""},{"$f":"IF(休暇希望!AB47=\"\",\"\",DATE($F$2,$I$2,休暇希望!AB47))","v":""},{"$f":"IF(休暇希望!AC47=\"\",\"\",DATE($F$2,$I$2,休暇希望!AC47))","v":""},{"$f":"IF(休暇希望!AD47=\"\",\"\",DATE($F$2,$I$2,休暇希望!AD47))","v":""},{"$f":"IF(休暇希望!AE47=\"\",\"\",DATE($F$2,$I$2,休暇希望!AE47))","v":""},{"$f":"IF(休暇希望!AF47=\"\",\"\",DATE($F$2,$I$2,休暇希望!AF47))","v":""},{"$f":"IF(休暇希望!AG47=\"\",\"\",DATE($F$2,$I$2,休暇希望!AG47))","v":""},{"$f":"IF(休暇希望!AH47=\"\",\"\",DATE($F$2,$I$2,休暇希望!AH47))","v":""},{"$f":"IF(休暇希望!AI47=\"\",\"\",DATE($F$2,$I$2,休暇希望!AI47))","v":""}]
[null,"E",4.0000000000000018,45,{"$f":"NETWORKDAYS($H$3,$H$4,各種設定!$A$4:$A$22)-COUNTIF(F53:AJ53,\">0\")","v":"1900-01-21"},"","","","","","","","","","","","","","","","","","","","","","","","","","","","","","","",null,{"$f":"IF(休暇希望!E48=\"\",\"\",DATE($F$2,$I$2,休暇希望!E48))","v":""},{"$f":"IF(休暇希望!F48=\"\",\"\",DATE($F$2,$I$2,休暇希望!F48))","v":""},{"$f":"IF(休暇希望!G48=\"\",\"\",DATE($F$2,$I$2,休暇希望!G48))","v":""},{"$f":"IF(休暇希望!H48=\"\",\"\",DATE($F$2,$I$2,休暇希望!H48))","v":""},{"$f":"IF(休暇希望!I48=\"\",\"\",DATE($F$2,$I$2,休暇希望!I48))","v":""},{"$f":"IF(休暇希望!J48=\"\",\"\",DATE($F$2,$I$2,休暇希望!J48))","v":""},{"$f":"IF(休暇希望!K48=\"\",\"\",DATE($F$2,$I$2,休暇希望!K48))","v":""},{"$f":"IF(休暇希望!L48=\"\",\"\",DATE($F$2,$I$2,休暇希望!L48))","v":""},{"$f":"IF(休暇希望!M48=\"\",\"\",DATE($F$2,$I$2,休暇希望!M48))","v":""},{"$f":"IF(休暇希望!N48=\"\",\"\",DATE($F$2,$I$2,休暇希望!N48))","v":""},{"$f":"IF(休暇希望!O48=\"\",\"\",DATE($F$2,$I$2,休暇希望!O48))","v":""},{"$f":"IF(休暇希望!P48=\"\",\"\",DATE($F$2,$I$2,休暇希望!P48))","v":""},{"$f":"IF(休暇希望!Q48=\"\",\"\",DATE($F$2,$I$2,休暇希望!Q48))","v":""},{"$f":"IF(休暇希望!R48=\"\",\"\",DATE($F$2,$I$2,休暇希望!R48))","v":""},{"$f":"IF(休暇希望!S48=\"\",\"\",DATE($F$2,$I$2,休暇希望!S48))","v":""},{"$f":"IF(休暇希望!T48=\"\",\"\",DATE($F$2,$I$2,休暇希望!T48))","v":""},{"$f":"IF(休暇希望!U48=\"\",\"\",DATE($F$2,$I$2,休暇希望!U48))","v":""},{"$f":"IF(休暇希望!V48=\"\",\"\",DATE($F$2,$I$2,休暇希望!V48))","v":""},{"$f":"IF(休暇希望!W48=\"\",\"\",DATE($F$2,$I$2,休暇希望!W48))","v":""},{"$f":"IF(休暇希望!X48=\"\",\"\",DATE($F$2,$I$2,休暇希望!X48))","v":""},{"$f":"IF(休暇希望!Y48=\"\",\"\",DATE($F$2,$I$2,休暇希望!Y48))","v":""},{"$f":"IF(休暇希望!Z48=\"\",\"\",DATE($F$2,$I$2,休暇希望!Z48))","v":""},{"$f":"IF(休暇希望!AA48=\"\",\"\",DATE($F$2,$I$2,休暇希望!AA48))","v":""},{"$f":"IF(休暇希望!AB48=\"\",\"\",DATE($F$2,$I$2,休暇希望!AB48))","v":""},{"$f":"IF(休暇希望!AC48=\"\",\"\",DATE($F$2,$I$2,休暇希望!AC48))","v":""},{"$f":"IF(休暇希望!AD48=\"\",\"\",DATE($F$2,$I$2,休暇希望!AD48))","v":""},{"$f":"IF(休暇希望!AE48=\"\",\"\",DATE($F$2,$I$2,休暇希望!AE48))","v":""},{"$f":"IF(休暇希望!AF48=\"\",\"\",DATE($F$2,$I$2,休暇希望!AF48))","v":""},{"$f":"IF(休暇希望!AG48=\"\",\"\",DATE($F$2,$I$2,休暇希望!AG48))","v":""},{"$f":"IF(休暇希望!AH48=\"\",\"\",DATE($F$2,$I$2,休暇希望!AH48))","v":""},{"$f":"IF(休暇希望!AI48=\"\",\"\",DATE($F$2,$I$2,休暇希望!AI48))","v":""}]
[null,"E",4.0000000000000018,46,{"$f":"NETWORKDAYS($H$3,$H$4,各種設定!$A$4:$A$22)-COUNTIF(F54:AJ54,\">0\")","v":"1900-01-21"},{"$f":"IF(F$7=\"\",\"\",IF(COUNTIF($AL54:$BP54,F$7)>0,$C54,\"\"))","v":""},"","","","","","","","","",{"$f":"IF(P$7=\"\",\"\",IF(COUNTIF($AL54:$BP54,P$7)>0,$C54,\"\"))","v":""},"","","","","","","","","",{"$f":"IF(Z$7=\"\",\"\",IF(COUNTIF($AL54:$BP54,Z$7)>0,$C54,\"\"))","v":""},"","","","","","","","","","",null,{"$f":"IF(休暇希望!E49=\"\",\"\",DATE($F$2,$I$2,休暇希望!E49))","v":""},{"$f":"IF(休暇希望!F49=\"\",\"\",DATE($F$2,$I$2,休暇希望!F49))","v":""},{"$f":"IF(休暇希望!G49=\"\",\"\",DATE($F$2,$I$2,休暇希望!G49))","v":""},{"$f":"IF(休暇希望!H49=\"\",\"\",DATE($F$2,$I$2,休暇希望!H49))","v":""},{"$f":"IF(休暇希望!I49=\"\",\"\",DATE($F$2,$I$2,休暇希望!I49))","v":""},{"$f":"IF(休暇希望!J49=\"\",\"\",DATE($F$2,$I$2,休暇希望!J49))","v":""},{"$f":"IF(休暇希望!K49=\"\",\"\",DATE($F$2,$I$2,休暇希望!K49))","v":""},{"$f":"IF(休暇希望!L49=\"\",\"\",DATE($F$2,$I$2,休暇希望!L49))","v":""},{"$f":"IF(休暇希望!M49=\"\",\"\",DATE($F$2,$I$2,休暇希望!M49))","v":""},{"$f":"IF(休暇希望!N49=\"\",\"\",DATE($F$2,$I$2,休暇希望!N49))","v":""},{"$f":"IF(休暇希望!O49=\"\",\"\",DATE($F$2,$I$2,休暇希望!O49))","v":""},{"$f":"IF(休暇希望!P49=\"\",\"\",DATE($F$2,$I$2,休暇希望!P49))","v":""},{"$f":"IF(休暇希望!Q49=\"\",\"\",DATE($F$2,$I$2,休暇希望!Q49))","v":""},{"$f":"IF(休暇希望!R49=\"\",\"\",DATE($F$2,$I$2,休暇希望!R49))","v":""},{"$f":"IF(休暇希望!S49=\"\",\"\",DATE($F$2,$I$2,休暇希望!S49))","v":""},{"$f":"IF(休暇希望!T49=\"\",\"\",DATE($F$2,$I$2,休暇希望!T49))","v":""},{"$f":"IF(休暇希望!U49=\"\",\"\",DATE($F$2,$I$2,休暇希望!U49))","v":""},{"$f":"IF(休暇希望!V49=\"\",\"\",DATE($F$2,$I$2,休暇希望!V49))","v":""},{"$f":"IF(休暇希望!W49=\"\",\"\",DATE($F$2,$I$2,休暇希望!W49))","v":""},{"$f":"IF(休暇希望!X49=\"\",\"\",DATE($F$2,$I$2,休暇希望!X49))","v":""},{"$f":"IF(休暇希望!Y49=\"\",\"\",DATE($F$2,$I$2,休暇希望!Y49))","v":""},{"$f":"IF(休暇希望!Z49=\"\",\"\",DATE($F$2,$I$2,休暇希望!Z49))","v":""},{"$f":"IF(休暇希望!AA49=\"\",\"\",DATE($F$2,$I$2,休暇希望!AA49))","v":""},{"$f":"IF(休暇希望!AB49=\"\",\"\",DATE($F$2,$I$2,休暇希望!AB49))","v":""},{"$f":"IF(休暇希望!AC49=\"\",\"\",DATE($F$2,$I$2,休暇希望!AC49))","v":""},{"$f":"IF(休暇希望!AD49=\"\",\"\",DATE($F$2,$I$2,休暇希望!AD49))","v":""},{"$f":"IF(休暇希望!AE49=\"\",\"\",DATE($F$2,$I$2,休暇希望!AE49))","v":""},{"$f":"IF(休暇希望!AF49=\"\",\"\",DATE($F$2,$I$2,休暇希望!AF49))","v":""},{"$f":"IF(休暇希望!AG49=\"\",\"\",DATE($F$2,$I$2,休暇希望!AG49))","v":""},{"$f":"IF(休暇希望!AH49=\"\",\"\",DATE($F$2,$I$2,休暇希望!AH49))","v":""},{"$f":"IF(休暇希望!AI49=\"\",\"\",DATE($F$2,$I$2,休暇希望!AI49))","v":""}]
[null,"E",4.0000000000000018,47,{"$f":"NETWORKDAYS($H$3,$H$4,各種設定!$A$4:$A$22)-COUNTIF(F55:AJ55,\">0\")","v":"1900-01-21"},"","","","","","","","","","","","","","","","","","","","","","","","","","","","","","","",null,{"$f":"IF(休暇希望!E50=\"\",\"\",DATE($F$2,$I$2,休暇希望!E50))","v":""},{"$f":"IF(休暇希望!F50=\"\",\"\",DATE($F$2,$I$2,休暇希望!F50))","v":""},{"$f":"IF(休暇希望!G50=\"\",\"\",DATE($F$2,$I$2,休暇希望!G50))","v":""},{"$f":"IF(休暇希望!H50=\"\",\"\",DATE($F$2,$I$2,休暇希望!H50))","v":""},{"$f":"IF(休暇希望!I50=\"\",\"\",DATE($F$2,$I$2,休暇希望!I50))","v":""},{"$f":"IF(休暇希望!J50=\"\",\"\",DATE($F$2,$I$2,休暇希望!J50))","v":""},{"$f":"IF(休暇希望!K50=\"\",\"\",DATE($F$2,$I$2,休暇希望!K50))","v":""},{"$f":"IF(休暇希望!L50=\"\",\"\",DATE($F$2,$I$2,休暇希望!L50))","v":""},{"$f":"IF(休暇希望!M50=\"\",\"\",DATE($F$2,$I$2,休暇希望!M50))","v":""},{"$f":"IF(休暇希望!N50=\"\",\"\",DATE($F$2,$I$2,休暇希望!N50))","v":""},{"$f":"IF(休暇希望!O50=\"\",\"\",DATE($F$2,$I$2,休暇希望!O50))","v":""},{"$f":"IF(休暇希望!P50=\"\",\"\",DATE($F$2,$I$2,休暇希望!P50))","v":""},{"$f":"IF(休暇希望!Q50=\"\",\"\",DATE($F$2,$I$2,休暇希望!Q50))","v":""},{"$f":"IF(休暇希望!R50=\"\",\"\",DATE($F$2,$I$2,休暇希望!R50))","v":""},{"$f":"IF(休暇希望!S50=\"\",\"\",DATE($F$2,$I$2,休暇希望!S50))","v":""},{"$f":"IF(休暇希望!T50=\"\",\"\",DATE($F$2,$I$2,休暇希望!T50))","v":""},{"$f":"IF(休暇希望!U50=\"\",\"\",DATE($F$2,$I$2,休暇希望!U50))","v":""},{"$f":"IF(休暇希望!V50=\"\",\"\",DATE($F$2,$I$2,休暇希望!V50))","v":""},{"$f":"IF(休暇希望!W50=\"\",\"\",DATE($F$2,$I$2,休暇希望!W50))","v":""},{"$f":"IF(休暇希望!X50=\"\",\"\",DATE($F$2,$I$2,休暇希望!X50))","v":""},{"$f":"IF(休暇希望!Y50=\"\",\"\",DATE($F$2,$I$2,休暇希望!Y50))","v":""},{"$f":"IF(休暇希望!Z50=\"\",\"\",DATE($F$2,$I$2,休暇希望!Z50))","v":""},{"$f":"IF(休暇希望!AA50=\"\",\"\",DATE($F$2,$I$2,休暇希望!AA50))","v":""},{"$f":"IF(休暇希望!AB50=\"\",\"\",DATE($F$2,$I$2,休暇希望!AB50))","v":""},{"$f":"IF(休暇希望!AC50=\"\",\"\",DATE($F$2,$I$2,休暇希望!AC50))","v":""},{"$f":"IF(休暇希望!AD50=\"\",\"\",DATE($F$2,$I$2,休暇希望!AD50))","v":""},{"$f":"IF(休暇希望!AE50=\"\",\"\",DATE($F$2,$I$2,休暇希望!AE50))","v":""},{"$f":"IF(休暇希望!AF50=\"\",\"\",DATE($F$2,$I$2,休暇希望!AF50))","v":""},{"$f":"IF(休暇希望!AG50=\"\",\"\",DATE($F$2,$I$2,休暇希望!AG50))","v":""},{"$f":"IF(休暇希望!AH50=\"\",\"\",DATE($F$2,$I$2,休暇希望!AH50))","v":""},{"$f":"IF(休暇希望!AI50=\"\",\"\",DATE($F$2,$I$2,休暇希望!AI50))","v":""}]
[null,"E",4.0000000000000018,48,{"$f":"NETWORKDAYS($H$3,$H$4,各種設定!$A$4:$A$22)-COUNTIF(F56:AJ56,\">0\")","v":"1900-01-21"},"","","","","","","","","","","","","","","","","","","","","","","","","","","","","","","",null,{"$f":"IF(休暇希望!E51=\"\",\"\",DATE($F$2,$I$2,休暇希望!E51))","v":""},{"$f":"IF(休暇希望!F51=\"\",\"\",DATE($F$2,$I$2,休暇希望!F51))","v":""},{"$f":"IF(休暇希望!G51=\"\",\"\",DATE($F$2,$I$2,休暇希望!G51))","v":""},{"$f":"IF(休暇希望!H51=\"\",\"\",DATE($F$2,$I$2,休暇希望!H51))","v":""},{"$f":"IF(休暇希望!I51=\"\",\"\",DATE($F$2,$I$2,休暇希望!I51))","v":""},{"$f":"IF(休暇希望!J51=\"\",\"\",DATE($F$2,$I$2,休暇希望!J51))","v":""},{"$f":"IF(休暇希望!K51=\"\",\"\",DATE($F$2,$I$2,休暇希望!K51))","v":""},{"$f":"IF(休暇希望!L51=\"\",\"\",DATE($F$2,$I$2,休暇希望!L51))","v":""},{"$f":"IF(休暇希望!M51=\"\",\"\",DATE($F$2,$I$2,休暇希望!M51))","v":""},{"$f":"IF(休暇希望!N51=\"\",\"\",DATE($F$2,$I$2,休暇希望!N51))","v":""},{"$f":"IF(休暇希望!O51=\"\",\"\",DATE($F$2,$I$2,休暇希望!O51))","v":""},{"$f":"IF(休暇希望!P51=\"\",\"\",DATE($F$2,$I$2,休暇希望!P51))","v":""},{"$f":"IF(休暇希望!Q51=\"\",\"\",DATE($F$2,$I$2,休暇希望!Q51))","v":""},{"$f":"IF(休暇希望!R51=\"\",\"\",DATE($F$2,$I$2,休暇希望!R51))","v":""},{"$f":"IF(休暇希望!S51=\"\",\"\",DATE($F$2,$I$2,休暇希望!S51))","v":""},{"$f":"IF(休暇希望!T51=\"\",\"\",DATE($F$2,$I$2,休暇希望!T51))","v":""},{"$f":"IF(休暇希望!U51=\"\",\"\",DATE($F$2,$I$2,休暇希望!U51))","v":""},{"$f":"IF(休暇希望!V51=\"\",\"\",DATE($F$2,$I$2,休暇希望!V51))","v":""},{"$f":"IF(休暇希望!W51=\"\",\"\",DATE($F$2,$I$2,休暇希望!W51))","v":""},{"$f":"IF(休暇希望!X51=\"\",\"\",DATE($F$2,$I$2,休暇希望!X51))","v":""},{"$f":"IF(休暇希望!Y51=\"\",\"\",DATE($F$2,$I$2,休暇希望!Y51))","v":""},{"$f":"IF(休暇希望!Z51=\"\",\"\",DATE($F$2,$I$2,休暇希望!Z51))","v":""},{"$f":"IF(休暇希望!AA51=\"\",\"\",DATE($F$2,$I$2,休暇希望!AA51))","v":""},{"$f":"IF(休暇希望!AB51=\"\",\"\",DATE($F$2,$I$2,休暇希望!AB51))","v":""},{"$f":"IF(休暇希望!AC51=\"\",\"\",DATE($F$2,$I$2,休暇希望!AC51))","v":""},{"$f":"IF(休暇希望!AD51=\"\",\"\",DATE($F$2,$I$2,休暇希望!AD51))","v":""},{"$f":"IF(休暇希望!AE51=\"\",\"\",DATE($F$2,$I$2,休暇希望!AE51))","v":""},{"$f":"IF(休暇希望!AF51=\"\",\"\",DATE($F$2,$I$2,休暇希望!AF51))","v":""},{"$f":"IF(休暇希望!AG51=\"\",\"\",DATE($F$2,$I$2,休暇希望!AG51))","v":""},{"$f":"IF(休暇希望!AH51=\"\",\"\",DATE($F$2,$I$2,休暇希望!AH51))","v":""},{"$f":"IF(休暇希望!AI51=\"\",\"\",DATE($F$2,$I$2,休暇希望!AI51))","v":""}]
[null,"E",4.0000000000000018,49,{"$f":"NETWORKDAYS($H$3,$H$4,各種設定!$A$4:$A$22)-COUNTIF(F57:AJ57,\">0\")","v":"1900-01-21"},"","","","","","","","","","","","","","","","","","","","","","","","","","","","","","","",null,{"$f":"IF(休暇希望!E52=\"\",\"\",DATE($F$2,$I$2,休暇希望!E52))","v":""},{"$f":"IF(休暇希望!F52=\"\",\"\",DATE($F$2,$I$2,休暇希望!F52))","v":""},{"$f":"IF(休暇希望!G52=\"\",\"\",DATE($F$2,$I$2,休暇希望!G52))","v":""},{"$f":"IF(休暇希望!H52=\"\",\"\",DATE($F$2,$I$2,休暇希望!H52))","v":""},{"$f":"IF(休暇希望!I52=\"\",\"\",DATE($F$2,$I$2,休暇希望!I52))","v":""},{"$f":"IF(休暇希望!J52=\"\",\"\",DATE($F$2,$I$2,休暇希望!J52))","v":""},{"$f":"IF(休暇希望!K52=\"\",\"\",DATE($F$2,$I$2,休暇希望!K52))","v":""},{"$f":"IF(休暇希望!L52=\"\",\"\",DATE($F$2,$I$2,休暇希望!L52))","v":""},{"$f":"IF(休暇希望!M52=\"\",\"\",DATE($F$2,$I$2,休暇希望!M52))","v":""},{"$f":"IF(休暇希望!N52=\"\",\"\",DATE($F$2,$I$2,休暇希望!N52))","v":""},{"$f":"IF(休暇希望!O52=\"\",\"\",DATE($F$2,$I$2,休暇希望!O52))","v":""},{"$f":"IF(休暇希望!P52=\"\",\"\",DATE($F$2,$I$2,休暇希望!P52))","v":""},{"$f":"IF(休暇希望!Q52=\"\",\"\",DATE($F$2,$I$2,休暇希望!Q52))","v":""},{"$f":"IF(休暇希望!R52=\"\",\"\",DATE($F$2,$I$2,休暇希望!R52))","v":""},{"$f":"IF(休暇希望!S52=\"\",\"\",DATE($F$2,$I$2,休暇希望!S52))","v":""},{"$f":"IF(休暇希望!T52=\"\",\"\",DATE($F$2,$I$2,休暇希望!T52))","v":""},{"$f":"IF(休暇希望!U52=\"\",\"\",DATE($F$2,$I$2,休暇希望!U52))","v":""},{"$f":"IF(休暇希望!V52=\"\",\"\",DATE($F$2,$I$2,休暇希望!V52))","v":""},{"$f":"IF(休暇希望!W52=\"\",\"\",DATE($F$2,$I$2,休暇希望!W52))","v":""},{"$f":"IF(休暇希望!X52=\"\",\"\",DATE($F$2,$I$2,休暇希望!X52))","v":""},{"$f":"IF(休暇希望!Y52=\"\",\"\",DATE($F$2,$I$2,休暇希望!Y52))","v":""},{"$f":"IF(休暇希望!Z52=\"\",\"\",DATE($F$2,$I$2,休暇希望!Z52))","v":""},{"$f":"IF(休暇希望!AA52=\"\",\"\",DATE($F$2,$I$2,休暇希望!AA52))","v":""},{"$f":"IF(休暇希望!AB52=\"\",\"\",DATE($F$2,$I$2,休暇希望!AB52))","v":""},{"$f":"IF(休暇希望!AC52=\"\",\"\",DATE($F$2,$I$2,休暇希望!AC52))","v":""},{"$f":"IF(休暇希望!AD52=\"\",\"\",DATE($F$2,$I$2,休暇希望!AD52))","v":""},{"$f":"IF(休暇希望!AE52=\"\",\"\",DATE($F$2,$I$2,休暇希望!AE52))","v":""},{"$f":"IF(休暇希望!AF52=\"\",\"\",DATE($F$2,$I$2,休暇希望!AF52))","v":""},{"$f":"IF(休暇希望!AG52=\"\",\"\",DATE($F$2,$I$2,休暇希望!AG52))","v":""},{"$f":"IF(休暇希望!AH52=\"\",\"\",DATE($F$2,$I$2,休暇希望!AH52))","v":""},{"$f":"IF(休暇希望!AI52=\"\",\"\",DATE($F$2,$I$2,休暇希望!AI52))","v":""}]
[null,"E",4.0000000000000018,50,{"$f":"NETWORKDAYS($H$3,$H$4,各種設定!$A$4:$A$22)-COUNTIF(F58:AJ58,\">0\")","v":"1900-01-21"},"","","","","","","","","","","","","","","","","","","","","","","","","","","","","","","",null,{"$f":"IF(休暇希望!E53=\"\",\"\",DATE($F$2,$I$2,休暇希望!E53))","v":""},{"$f":"IF(休暇希望!F53=\"\",\"\",DATE($F$2,$I$2,休暇希望!F53))","v":""},{"$f":"IF(休暇希望!G53=\"\",\"\",DATE($F$2,$I$2,休暇希望!G53))","v":""},{"$f":"IF(休暇希望!H53=\"\",\"\",DATE($F$2,$I$2,休暇希望!H53))","v":""},{"$f":"IF(休暇希望!I53=\"\",\"\",DATE($F$2,$I$2,休暇希望!I53))","v":""},{"$f":"IF(休暇希望!J53=\"\",\"\",DATE($F$2,$I$2,休暇希望!J53))","v":""},{"$f":"IF(休暇希望!K53=\"\",\"\",DATE($F$2,$I$2,休暇希望!K53))","v":""},{"$f":"IF(休暇希望!L53=\"\",\"\",DATE($F$2,$I$2,休暇希望!L53))","v":""},{"$f":"IF(休暇希望!M53=\"\",\"\",DATE($F$2,$I$2,休暇希望!M53))","v":""},{"$f":"IF(休暇希望!N53=\"\",\"\",DATE($F$2,$I$2,休暇希望!N53))","v":""},{"$f":"IF(休暇希望!O53=\"\",\"\",DATE($F$2,$I$2,休暇希望!O53))","v":""},{"$f":"IF(休暇希望!P53=\"\",\"\",DATE($F$2,$I$2,休暇希望!P53))","v":""},{"$f":"IF(休暇希望!Q53=\"\",\"\",DATE($F$2,$I$2,休暇希望!Q53))","v":""},{"$f":"IF(休暇希望!R53=\"\",\"\",DATE($F$2,$I$2,休暇希望!R53))","v":""},{"$f":"IF(休暇希望!S53=\"\",\"\",DATE($F$2,$I$2,休暇希望!S53))","v":""},{"$f":"IF(休暇希望!T53=\"\",\"\",DATE($F$2,$I$2,休暇希望!T53))","v":""},{"$f":"IF(休暇希望!U53=\"\",\"\",DATE($F$2,$I$2,休暇希望!U53))","v":""},{"$f":"IF(休暇希望!V53=\"\",\"\",DATE($F$2,$I$2,休暇希望!V53))","v":""},{"$f":"IF(休暇希望!W53=\"\",\"\",DATE($F$2,$I$2,休暇希望!W53))","v":""},{"$f":"IF(休暇希望!X53=\"\",\"\",DATE($F$2,$I$2,休暇希望!X53))","v":""},{"$f":"IF(休暇希望!Y53=\"\",\"\",DATE($F$2,$I$2,休暇希望!Y53))","v":""},{"$f":"IF(休暇希望!Z53=\"\",\"\",DATE($F$2,$I$2,休暇希望!Z53))","v":""},{"$f":"IF(休暇希望!AA53=\"\",\"\",DATE($F$2,$I$2,休暇希望!AA53))","v":""},{"$f":"IF(休暇希望!AB53=\"\",\"\",DATE($F$2,$I$2,休暇希望!AB53))","v":""},{"$f":"IF(休暇希望!AC53=\"\",\"\",DATE($F$2,$I$2,休暇希望!AC53))","v":""},{"$f":"IF(休暇希望!AD53=\"\",\"\",DATE($F$2,$I$2,休暇希望!AD53))","v":""},{"$f":"IF(休暇希望!AE53=\"\",\"\",DATE($F$2,$I$2,休暇希望!AE53))","v":""},{"$f":"IF(休暇希望!AF53=\"\",\"\",DATE($F$2,$I$2,休暇希望!AF53))","v":""},{"$f":"IF(休暇希望!AG53=\"\",\"\",DATE($F$2,$I$2,休暇希望!AG53))","v":""},{"$f":"IF(休暇希望!AH53=\"\",\"\",DATE($F$2,$I$2,休暇希望!AH53))","v":""},{"$f":"IF(休暇希望!AI53=\"\",\"\",DATE($F$2,$I$2,休暇希望!AI53))","v":""}]
[null,"A",null,null,{"$f":"$Q$3","v":5.9999999999999991},{"$f":"IF(COUNTA(F$9:F$58)=0,\"\",COUNTIF(F$9:F$58,$E59))","v":0},2,2,0,0,2,2,2,2,2,{"$f":"IF(COUNTA(P$9:P$58)=0,\"\",COUNTIF(P$9:P$58,$E59))","v":0},0,0,2,2,2,2,0,0,2,{"$f":"IF(COUNTA(Z$9:Z$58)=0,\"\",COUNTIF(Z$9:Z$58,$E59))","v":2},2,2,2,0,0,2,2,2,2,2]
[null,"B",null,null,{"$f":"$R$3","v":7},0,0,0,0,0,0,0,0,0,0,0,0,0,0,0,0,0,0,0,0,0,0,0,0,0,0,0,0,0,0,0]
[null,"C",null,null,{"$f":"$S$3","v":7.5},0,0,0,0,0,0,0,0,0,0,0,0,0,0,0,0,0,0,0,0,0,0,0,0,0,0,0,0,0,0,0]
[null,"D",null,null,{"$f":"$T$3","v":5.25},0,0,0,0,0,0,0,0,0,0,0,0,0,0,0,0,0,0,0,0,0,0,0,0,0,0,0,0,0,0,0]
[null,"E",null,null,{"$f":"$U$3","v":4.0000000000000018},0,0,0,0,0,0,0,0,0,0,0,0,0,0,0,0,0,0,0,0,0,0,0,0,0,0,0,0,0,0,0]
[null,"早退・遅刻等"]
[null,"人数",null,"総人時","休暇人時",{"$f":"($E$59*F59)+($E$60*F60)+($E$61*F61)+($E$62*F62)+($E$63*F63)","v":0},{"$f":"($E$59*G59)+($E$60*G60)+($E$61*G61)+($E$62*G62)+($E$63*G63)","v":11.999999999999998},{"$f":"($E$59*H59)+($E$60*H60)+($E$61*H61)+($E$62*H62)+($E$63*H63)","v":11.999999999999998},0,{"$f":"($E$59*J59)+($E$60*J60)+($E$61*J61)+($E$62*J62)+($E$63*J63)","v":0},11.999999999999998,11.999999999999998,11.999999999999998,11.999999999999998,11.999999999999998,0,0,0,11.999999999999998,11.999999999999998,11.999999999999998,11.999999999999998,0,0,11.999999999999998,11.999999999999998,11.999999999999998,11.999999999999998,11.999999999999998,0,0,11.999999999999998,11.999999999999998,11.999999999999998,11.999999999999998,11.999999999999998]
[null,{"$f":"COUNTA(D9:D58)","v":50},null,{"$f":"SUM(C9:C58)","v":248.75},"労働人時",{"$f":"$D$66-F65-F64","v":248.75},{"$f":"$D$66-G65-G64","v":236.75},{"$f":"$D$66-H65-H64","v":236.75},248.75,248.75,236.75,236.75,236.75,236.75,236.75,248.75,248.75,248.75,236.75,236.75,236.75,236.75,248.75,248.75,236.75,236.75,236.75,236.75,236.75,248.75,248.75,236.75,236.75,236.75,236.75,236.75]
[null,null,null,null,"休暇人数",{"$f":"SUM(F59:F63)","v":0},{"$f":"SUM(G59:G63)","v":2},2,{"$f":"SUM(I59:I63)","v":0},0,2,2,2,2,2,0,0,0,2,2,2,2,0,0,2,2,2,2,2,0,0,2,2,2,2,2]

{"sheet":"作業計画","index":3,"n_rows":38,"n_cols":40,"rows_kept":38,"cut":false,"hidden":false,"merged":[[30,33,30,34],[31,33,31,34],[32,33,32,34],[24,33,24,35],[25,33,25,34],[26,33,26,34],[27,33,27,34],[28,33,28,34],[29,33,29,34],[4,9,4,31],[5,29,5,31],[0,3,0,4],[1,5,1,7],[2,5,2,7],[4,0,4,2],[4,3,5,3],[4,4,5,4],[4,5,4,6],[4,7,4,8]]}
[null,null,null,2025,null,"年",1,"月",null,null,null,null,null,null,null,null,null,null,null,null,null,null,null,null,null,null,null,null,null,null,null,null,null,null,null,null,"月",100,"月",200]
[null,null,null,null,"月初",{"$f":"DATE(D1,G1,1)","v":"2025-01-01"},null,null,null,null,null,null,null,null,null,null,null,null,null,null,null,null,null,null,null,null,null,null,null,null,null,null,null,null,null,null,"火",150,"火",300]
[null,null,null,null,"月末",{"$f":"EOMONTH(F2,0)","v":"2025-01-31"},null,null,null,null,null,null,null,null,null,null,null,null,null,null,null,null,null,null,null,null,null,null,null,null,null,null,null,null,null,null,"水",200,"水",400]
[null,null,null,null,null,null,null,null,null,null,null,null,null,null,null,null,null,null,null,null,null,null,null,null,null,null,null,null,null,null,null,null,null,null,null,null,"木",250,"木",500]
["日付",null,null,"出勤人時","必要人時","★",null,"★★",null,"その他",null,null,null,null,null,null,null,null,null,null,null,null,null,null,null,null,null,null,null,null,null,null,null,null,null,null,"金",300,"金",600]
["日","曜日",null,null,null,"数量","人時","数量","人時","①","人時","②","人時","③","人時","④","人時","⑤","人時","⑥","人時","⑦","人時","⑧","人時","⑨","人時","⑩","人時","特別業務"]
[{"$f":"F2","v":"2025-01-01"},{"$f":"A7","v":45658},{"$f":"TEXT($A7,\"aaa\")","v":"水"},236.75,{"$f":"IFERROR(G7+I7+K7+M7+O7+Q7+S7+U7+W7+Y7+AA7+AC7, \"\")","v":20},{"$f":"_xlfn.SWITCH($C7, \"月\", $AL$1, \"火\", $AL$2, \"水\", $AL$3, \"木\", $AL$4, \"金\", $AL$5, \"土\", \"\", \"日\", \"\")","v":200},{"$f":"IFERROR(F7/30, \"\")","v":6.666666666666667},{"$f":"_xlfn.SWITCH($C7, \"月\", $AN$1, \"火\", $AN$2, \"水\", $AN$3, \"木\", $AN$4, \"金\", $AN$5, \"土\", \"\", \"日\", \"\")","v":400},{"$f":"IFERROR(H7/30, \"\")","v":13.333333333333334},null,null,null,null,null,null,null,null,null,null,null,null,null,null,null,null,null,null,null,null,null,null,null,null,"カテゴリ","内容","合計"]
[{"$f":"IF(A7=$F$3,\"\",IF(A7=\"\",\"\",IF(A7<>$F$3,A7+1,\"\")))","v":"2025-01-02"},{"$f":"A8","v":45659},{"$f":"TEXT($A8,\"aaa\")","v":"木"},236.75,{"$f":"IFERROR(G8+I8+K8+M8+O8+Q8+S8+U8+W8+Y8+AA8+AC8, \"\")","v":25},250,{"$f":"IFERROR(F8/30, \"\")","v":8.3333333333333339},500,{"$f":"IFERROR(H8/30, \"\")","v":16.666666666666668},null,null,null,null,null,null,null,null,null,null,null,null,null,null,null,null,null,null,null,null,null,null,null,null,"★",null,{"$f":"$G$38","v":158.33333333333331}]
["2025-01-03",45660,"金",236.75,{"$f":"IFERROR(G9+I9+K9+M9+O9+Q9+S9+U9+W9+Y9+AA9+AC9, \"\")","v":30},300,10,600,20,null,null,null,null,null,null,null,null,null,null,null,null,null,null,null,null,null,null,null,null,null,null,null,null,"★★",null,{"$f":"$I$38","v":316.66666666666663}]
["2025-01-04",45661,"土",null,"","","","",""]
["2025-01-05",45662,"日",null,"","","","","",null,null,null,null,null,null,null,null,null,null,null,null,null,null,null,null,null,null,null,null,null,null,null,null,"カテゴリ","内容","合計"]
["2025-01-06",45663,"月",236.75,10,100,3.3333333333333335,200,6.666666666666667,null,null,null,null,null,null,null,null,null,null,null,null,null,null,null,null,null,null,null,null,null,null,null,null,"その他　①",null,{"$f":"$K$38","v":0}]
["2025-01-07",45664,"火",236.75,15,150,5,300,10,null,null,null,null,null,null,null,null,null,null,null,null,null,null,null,null,null,null,null,null,null,null,null,null,"その他　②",null,{"$f":"$M$38","v":0}]
["2025-01-08",45665,"水",236.75,20,200,6.666666666666667,400,13.333333333333334,null,null,null,null,null,null,null,null,null,null,null,null,null,null,null,null,null,null,null,null,null,null,null,null,"その他　③",null,{"$f":"$O$38","v":0}]
["2025-01-09",45666,"木",236.75,25,250,8.3333333333333339,500,16.666666666666668,null,null,null,null,null,null,null,null,null,null,null,null,null,null,null,null,null,null,null,null,null,null,null,null,"その他　④",null,{"$f":"$Q$38","v":0}]
["2025-01-10",45667,"金",236.75,30,300,10,600,20,null,null,null,null,null,null,null,null,null,null,null,null,null,null,null,null,null,null,null,null,null,null,null,null,"その他　⑤",null,{"$f":"$S$38","v":0}]
["2025-01-11",45668,"土",null,"","","","","",null,null,null,null,null,null,null,null,null,null,null,null,null,null,null,null,null,null,null,null,null,null,null,null,"その他　⑥",null,{"$f":"$U$38","v":0}]
["2025-01-12",45669,"日",null,"","","","","",null,null,null,null,null,null,null,null,null,null,null,null,null,null,null,null,null,null,null,null,null,null,null,null,"その他　⑦",null,{"$f":"$W$38","v":0}]
["2025-01-13",45670,"月",236.75,{"$f":"IFERROR(G19+I19+K19+M19+O19+Q19+S19+U19+W19+Y19+AA19+AC19, \"\")","v":10},100,{"$f":"IFERROR(F19/30, \"\")","v":3.3333333333333335},200,{"$f":"IFERROR(H19/30, \"\")","v":6.666666666666667},null,null,null,null,null,null,null,null,null,null,null,null,null,null,null,null,null,null,null,null,null,null,null,null,"その他　⑧",null,{"$f":"$Y$38","v":0}]
["2025-01-14",45671,"火",236.75,15,{"$f":"_xlfn.SWITCH($C20, \"月\", $AL$1, \"火\", $AL$2, \"水\", $AL$3, \"木\", $AL$4, \"金\", $AL$5, \"土\", \"\", \"日\", \"\")","v":150},{"$f":"IFERROR(F20/30, \"\")","v":5},{"$f":"_xlfn.SWITCH($C20, \"月\", $AN$1, \"火\", $AN$2, \"水\", $AN$3, \"木\", $AN$4, \"金\", $AN$5, \"土\", \"\", \"日\", \"\")","v":300},{"$f":"IFERROR(H20/30, \"\")","v":10},null,null,null,null,null,null,null,null,null,null,null,null,null,null,null,null,null,null,null,null,null,null,null,null,"その他　⑨",null,{"$f":"$AA$38","v":0}]
["2025-01-15",45672,"水",236.75,20,200,6.666666666666667,400,13.333333333333334,null,null,null,null,null,null,null,null,null,null,null,null,null,null,null,null,null,null,null,null,null,null,null,null,"その他　⑩",null,{"$f":"$AC$38","v":0}]
["2025-01-16",45673,"木",236.75,25,250,8.3333333333333339,500,16.666666666666668,null,null,null,null,null,null,null,null,null,null,null,null,null,null,null,null,null,null,null,null,null,null,null,null,null,"総計",{"$f":"SUM(AJ12:AJ21,AJ8:AJ9)","v":474.99999999999994}]
["2025-01-17",45674,"金",236.75,30,300,10,600,20]
["2025-01-18",45675,"土",null,"","","","",""]
["2025-01-19",45676,"日",null,"","","","","",null,null,null,null,null,null,null,null,null,null,null,null,null,null,null,null,null,null,null,null,null,null,null,null,"チェック項目一覧"]
["2025-01-20",45677,"月",236.75,10,100,3.3333333333333335,200,6.666666666666667]
["2025-01-21",45678,"火",236.75,15,150,5,300,10]
["2025-01-22",45679,"水",236.75,20,200,6.666666666666667,400,13.333333333333334]
["2025-01-23",45680,"木",236.75,25,250,8.3333333333333339,500,16.666666666666668]
["2025-01-24",45681,"金",236.75,30,300,10,600,20]
["2025-01-25",45682,"土",null,"","","","",""]
["2025-01-26",45683,"日",null,"","","","",""]
["2025-01-27",45684,"月",236.75,10,100,3.3333333333333335,200,6.666666666666667]
["2025-01-28",45685,"火",236.75,15,150,5,300,10]
["2025-01-29",45686,"水",236.75,20,200,6.666666666666667,400,13.333333333333334]
["2025-01-30",45687,"木",236.75,25,250,8.3333333333333339,500,16.666666666666668]
["2025-01-31",45688,"金",236.75,30,300,10,600,20]
[null,null,null,{"$f":"SUM(D7:D37)","v":5445.25},{"$f":"SUM(E7:E37)","v":475},null,{"$f":"SUM(G7:G37)","v":158.33333333333331},null,{"$f":"SUM(I7:I37)","v":316.66666666666663},null,{"$f":"SUM(K7:K37)","v":0},null,{"$f":"SUM(M7:M37)","v":0},null,{"$f":"SUM(O7:O37)","v":0},null,{"$f":"SUM(Q7:Q37)","v":0},null,{"$f":"SUM(S7:S37)","v":0},null,{"$f":"SUM(U7:U37)","v":0},null,{"$f":"SUM(W7:W37)","v":0},null,{"$f":"SUM(Y7:Y37)","v":0},null,{"$f":"SUM(AA7:AA37)","v":0},null,{"$f":"SUM(AC7:AC37)","v":0}]